BEGIN:VCALENDAR
VERSION:2.0
PRODID:-//Cedeso//NONSGML kigkonsult.se iCalcreator 2.30.10//
CALSCALE:GREGORIAN
METHOD:PUBLISH
UID:1e2f7c31-9ef3-42de-94ec-a4eb5b4c01d9
X-WR-CALNAME:iCagenda
X-WR-CALDESC:Event Management Extension for Joomla!
X-WR-RELCALID:3E26604A-50F4-4449-8B3E-E4F4932D05B5
X-WR-TIMEZONE:America/Costa_Rica
BEGIN:VTIMEZONE
TZID:America/Costa_Rica
BEGIN:STANDARD
TZNAME:CST
DTSTART:20191118T060000
TZOFFSETFROM:+0000
TZOFFSETTO:-0600
END:STANDARD
END:VTIMEZONE
BEGIN:VEVENT
UID:fba51a5c-35c3-41fe-b758-cf15c669f74e
DTSTAMP:20260419T233020Z
CATEGORIES:Mejores Prácticas Organizacionales
CLASS:PUBLIC
DESCRIPTION;ALTREP="CID:<FFFF__=0ABBE548DFE235B58f9e8a93d@coffeebean.com>":
 Taller:\nEl arte de encantar al cliente\nEn tiempos de pandemia\nBasado en
  la metodología Disney de atención al cliente\nObjetivos del programa:Herr
 amientas para potenciar las ventas e inspirarte a seguir brindando UN serv
 icio de excelencia en tiempos de pandemia.\nAprendizaje:• Desarrollar una 
 visión de liderazgo que inspire dedicación y compromiso de los empleados.•
  Aplicar las herramientas de las grandes marcas para fortalecer la cultura
  de la organización.• Desarrollar una cultura organizacional que de soport
 e a un servicio de excelencia.• Promover un ambiente de colaboración en to
 da la organización.• Incorporar principios para fortalecer la imagen de ma
 rca.\nTemas:• Detrás de la magia del servicio: back-stage &amp\; On-stage•
  Atributos de un buen servicio según las grandes marcas (Apple\, Disney\, 
 Nespresso)• Embajadores de marca. YOU make the difference.• Promesa de mar
 ca y su cumplimiento.• WOW Moments: Secretos para sorprender al cliente.• 
 Be my guest!• Primera impresión. Experiencia Multi-sensorial: El servicio 
 a través de los 7 sentidos®• SMILE: Cómo vender tu propia imagen.• BeYOU: 
 Leer al cliente a través de la CNV. Actitud.• Fases para encantar al clien
 te.• Escucha intencional.• Qué hacemos con la pandemia?\nFecha: 19 y 20 de
  agosto del 2021.Horario: 8:30 a.m. a 11:30 a.m.Duración total: 6 horas.Pl
 ataforma: Zoom.Inversión: ¢90.000 + 2% de IVA por participante. Incluye: M
 aterial y certificado de participación en PDF.\nFacilitadora: Lic. Fernand
 a LjubaExperience Director\, BeYou\nLic. En RRPP\, Diplomado Internacional
  en Kinesics Coaching y CNV.Posgrado en Imagen Corporativa y Management. M
 ás de 10 años de experiencia en Service Excellence en Hotelería de lujo y 
 Retail.Trabajó en PANDORA\, Nestlé Nespresso para Latinoamérica\, en el Ho
 tel Caesar Park y en organismos públicos en las áreas de Comunicación\, RR
 .HH y RRPP\, eventos\, servicio al cliente y turismo.Su carrera profesiona
 l se desarrolló en varios países de Latinoamérica y Europa liderando equip
 os\, construyendo marcas y trasmitiendo su experiencia en el servicio y la
 s ventas.Consultor\, Coach &amp\; Trainer de equipos en imagen pública y p
 rofesional\, ventas y servicio de excelencia.\n \nTodas nuestras capacitac
 iones pueden ser impartidas en su organización\nInscripciones e Informació
 n al e-mail info@cedeso.co.crTel: (506) 2225-1007 / Fax: (506) 2253-2774Vi
 site nuestra página www.cedeso.co.crfacebook.com/cedesocostarica\n
DTSTART:20210819T143000Z
DTEND:20210820T173000Z
GEO:00;0
LOCATION:Virtual por Zoom.
ORGANIZER;CN=:info@cedeso.co.cr
SEQUENCE:1
SUMMARY:El arte de encantar al cliente
TRANSP:OPAQUE
URL:https://cedeso.co.cr/eventos-anteriores/453-el-arte-de-encantar-al-clie
 nte
END:VEVENT
END:VCALENDAR
