BEGIN:VCALENDAR
VERSION:2.0
PRODID:-//Cedeso//NONSGML kigkonsult.se iCalcreator 2.30.10//
CALSCALE:GREGORIAN
METHOD:PUBLISH
UID:9998a1ea-674d-41c0-bdcf-06422298ef54
X-WR-CALNAME:iCagenda
X-WR-CALDESC:Event Management Extension for Joomla!
X-WR-RELCALID:3E26604A-50F4-4449-8B3E-E4F4932D05B5
X-WR-TIMEZONE:America/Costa_Rica
BEGIN:VTIMEZONE
TZID:America/Costa_Rica
BEGIN:STANDARD
TZNAME:CST
DTSTART:20191119T060000
TZOFFSETFROM:+0000
TZOFFSETTO:-0600
END:STANDARD
END:VTIMEZONE
BEGIN:VEVENT
UID:3e925b01-abee-4ebb-b9ce-f6aa389525b9
DTSTAMP:20260419T232915Z
CATEGORIES:Mejores Prácticas Organizacionales
CLASS:PUBLIC
DESCRIPTION;ALTREP="CID:<FFFF__=0ABBE548DFE235B58f9e8a93d@coffeebean.com>":
 Curso:\nMarca personal en LinkedIn\nObjetivo general: Gestionar la red soc
 ial LinkedIn para beneficio personal.\nContenidos:• Marca personal• Perfil
  profesionale en LinkedIn• El portal de empleo en LinkedIn• Sales Navigato
 r como herramienta de ventas\nFechas y horarios:19 agosto de 6:00 p.m. a 9
 :00 p.m.26 agosto de 6:00 p.m. a 9:00 p.m.2 setiembre de 6:00 p.m. a 8:00 
 p.m.Duración total: 8 horas.Plataforma: Zoom.Inversión: ¢65.000 + 2% de IV
 A por participante.Incluye: Material y certificado en PDF.\nFacilitadora: 
 Anahí Almirón Vargas.Bachiller en mercadeo. Máster en Marketing Digital. L
 icenciada en Educación Técnica.\nTodas nuestras capacitaciones pueden ser 
 impartidas en su organización\nInscripciones e información al e-mail info@
 cedeso.co.crTel: (506) 2225-1007 / Fax: (506) 2253-2774 Visite nuestra pág
 ina www.cedeso.co.crfacebook.com/cedesocostarica
DTSTART:20210820T000000Z
DTEND:20210903T020000Z
GEO:00;0
LOCATION:Virtual por Zoom.
ORGANIZER;CN=:info@cedeso.co.cr
SEQUENCE:1
SUMMARY:Marca personal en LinkedIn
TRANSP:OPAQUE
URL:https://cedeso.co.cr/eventos-anteriores/454-marca-personal-en-linkedin
END:VEVENT
END:VCALENDAR
