BEGIN:VCALENDAR
VERSION:2.0
PRODID:-//Cedeso//NONSGML kigkonsult.se iCalcreator 2.30.10//
CALSCALE:GREGORIAN
METHOD:PUBLISH
UID:f787e24e-58e4-4f58-ad8b-f485cff85af7
X-WR-CALNAME:iCagenda
X-WR-CALDESC:Event Management Extension for Joomla!
X-WR-RELCALID:3E26604A-50F4-4449-8B3E-E4F4932D05B5
X-WR-TIMEZONE:America/Costa_Rica
BEGIN:VTIMEZONE
TZID:America/Costa_Rica
BEGIN:STANDARD
TZNAME:CST
DTSTART:20191104T060000
TZOFFSETFROM:+0000
TZOFFSETTO:-0600
END:STANDARD
END:VTIMEZONE
BEGIN:VEVENT
UID:083d76a1-126d-4aa7-9c8b-05834aa39c8d
DTSTAMP:20260419T234334Z
CATEGORIES:Mejores Prácticas Organizacionales
CLASS:PUBLIC
DESCRIPTION;ALTREP="CID:<FFFF__=0ABBE548DFE235B58f9e8a93d@coffeebean.com>":
 Certificación Internacional para aplicar Gamificación en Procesos de Apren
 dizaje\nEsta certificación es para usted. La Gamificación aprovecha elemen
 tos propios de la psicología y el diseño de juegos para favorecer la motiv
 ación\, el rendimiento y la autonomía en el aprendizaje. Por su carácter l
 údico\, facilita la interiorización de conocimientos de una forma divertid
 a y mejorando significativamente la experiencia de aprendizaje.Su solidez 
 teórica y los asombrosos resultados obtenidos por las grandes marcas a niv
 el mundial que la están aplicando\, la han hecho posicionarse como una de 
 las tendencias más reconocidas a nivel internacional aplicándose tanto al 
 ámbito educativo como empresarial.Se ha demostrado que la Gamificación log
 ra una mejora significativa de la experiencia del usuario\, ya sea un estu
 diante o un trabajador. La idea detrás de este tipo de iniciativas es que 
 si algo se disfruta\, también se aprende mejor.\n¿A quién va dirigido?\nLa
  Certificación está dirigida a docentes de todos los niveles educativos\, 
 encargados de capacitación\, coaches\, facilitadores y personal de Recurso
 s Humanos responsables de la formación y el desarrollo del talento humano.
 \n¿Qué beneficios le aportará certificarse en Gamificación aplicada al apr
 endizaje?A recibir la Certificación Internacional en Gamificación aplicada
  al aprendizaje usted logrará diseñar procesos en los que sus estudiantes 
 o participantes vivirán experiencias memorables.\nCon esto\, usted se gara
 ntiza:• Activar la motivación por el aprendizaje.• Promover un Aprendizaje
  más significativo.• Una mayor fidelización del estudiante con el contenid
 o y con las tareas en sí.• Obtener resultados medibles sobre el progreso d
 e cada estudiante de manera personalizada y en tiempo real.• Contar con he
 rramientas lúdicas para evaluar el aprendizaje y el logro de sus indicador
 es de desempeño.\nEl diseño de una estrategia bajo el enfoque de Gamificac
 ión\, puede aplicarse a procesos de capacitación tanto presenciales como v
 irtuales. De la misma forma\, puede aplicarse a todo tipo de contenidos y 
 objetivos de aprendizaje\, independientemente de su duración (desde un tal
 ler de 4 u 8 horas\, hasta un programa que dure varios meses) y para todo 
 tipo de población\, desde niños y adolescentes hasta personas adultas. Lo 
 importante en Gamificación no es el contenido ni la duración\, sino el dis
 eño de una experiencia de aprendizaje que rescate la motivación natural qu
 e le produce al ser humano el juego\, para trasladar esos beneficios al ap
 rendizaje.\nCertifíquese y tenga a su alcance todas las estrategias necesa
 rias para diseñar programas de aprendizaje gamificados y enamore a sus est
 udiantes o colaboradores con esta innovadora propuesta.\nMetodología:Con e
 l objetivo de ejemplificar la aplicación de la Gamificación en los proceso
 s de aprendizaje\, esta certificación ha sido diseñada 100% bajo el modelo
  de Gamificación\, por lo que usted vivirá “desde dentro” una experiencia 
 de aprendizaje memorable en la que podrá experimentar el poder de este enf
 oque para favorecer la motivación y el compromiso con el aprendizaje.\nApl
 icación de aprendizaje:Cada módulo incluye diferentes desafíos\, ejercicio
 s prácticos e interactivos que buscan reforzar el aprendizaje y aplicarlo 
 al contexto de cada participante. Como requisito para obtener la certifica
 ción\, una vez concluidos todos los módulos\, cada participante deberá dis
 eñar un programa de aprendizaje gamificado\, cuya evaluación tiene un valo
 r del 40% sobre la nota total. Se dispone de un total de 6 Master Class en
  vivo con la facilitadora para ampliar y profundizar en los contenidos y e
 vacuar dudas.\nComo parte de la certificación\, cada participante recibirá
  dos sesiones de asesoría virtual con la creadora de la certificación\, as
 í como acceso exclusivo al e-learning Center de Skills Lab donde tendrá ac
 ceso a todos los recursos y herramientas necesarias para diseñar\, impleme
 ntar y evaluar estrategias gamificadas en procesos de formación y aprendiz
 aje.\nPerfil de la facilitadora y creadora de la certificación:Licda. Gina
  Sequeira GuzmánDirectora de Skills Lab\, empresa pionera en la región en 
 ofrecer el 100% de sus programas de formación gamificados. Psicóloga con P
 osgrado en Gamificación y Técnicas de Ludificación\, Certificación Interna
 cional en Business Coaching\, Estudios de posgrado en Gerencia y Evaluació
 n de Proyectos\, con más de 17 años de experiencia en el diseño de proceso
 s de capacitación para equipos de alto desempeño. Conferencista nacional e
  internacional. Facilitadora de procesos de capacitación en Costa Rica y C
 entro América sobre Gamificación aplicada a procesos de aprendizaje\, recl
 utamiento y selección de personal\, fidelización de clientes\, entre otras
  áreas del ámbito educativo y empresarial.\n¿Qué incluye la Certificación?
 • Acceso exclusivo a 6 Master Class durante el proceso.• Usuario exclusivo
  en el e-learning Center de Skills Lab.• Kit de materiales Premium.• 2 Ses
 iones de asesoría virtual individual para el trabajo práctico.• Acceso a u
 na comunidad exclusiva de facilitadores certificados.• Manual del particip
 ante Premium.• Título que le acredita como Facilitador Certificado en Gami
 ficación (100 horas).• Graduación.\nCronograma:\nMaster Class de Bienvenid
 aMiércoles 4 de agosto del 2021\nMaster Class (6:00 p.m. a 9:00 p.m.) Plat
 aforma ZoomMiércoles 11 de agostoMiércoles 18 de agostoMiércoles 25 de ago
 stoMiércoles 1 de setiembreMiércoles 8 de setiembre\nGraduación (6:00 p.m.
  a 9:00 p.m.):Miércoles 29 de setiembre 2021\nInversión: $550 IVA incluido
 .
DTSTART:20210805T000000Z
DTEND:20210930T020000Z
GEO:00;0
LOCATION:Virtual por Zoom
ORGANIZER;CN=:info@cedeso.co.cr
SEQUENCE:1
SUMMARY:Certificación Internacional para aplicar Gamificación en Procesos d
 e Aprendizaje
TRANSP:OPAQUE
URL:https://cedeso.co.cr/eventos-anteriores/455-certificaci%C3%B3n-internac
 ional-para-aplicar-gamificaci%C3%B3n-en-procesos-de-aprendizaje
END:VEVENT
END:VCALENDAR
