BEGIN:VCALENDAR
VERSION:2.0
PRODID:-//Cedeso//NONSGML kigkonsult.se iCalcreator 2.30.10//
CALSCALE:GREGORIAN
METHOD:PUBLISH
UID:1f4c6e3c-fb8b-47d7-9853-6e70e155f9c7
X-WR-CALNAME:iCagenda
X-WR-CALDESC:Event Management Extension for Joomla!
X-WR-RELCALID:3E26604A-50F4-4449-8B3E-E4F4932D05B5
X-WR-TIMEZONE:America/Costa_Rica
BEGIN:VTIMEZONE
TZID:America/Costa_Rica
BEGIN:STANDARD
TZNAME:CST
DTSTART:20191201T060000
TZOFFSETFROM:+0000
TZOFFSETTO:-0600
END:STANDARD
END:VTIMEZONE
BEGIN:VEVENT
UID:93adcbd1-fa5e-46b1-a9ee-56e335f5db5c
DTSTAMP:20260419T234233Z
CATEGORIES:Mejores Prácticas Organizacionales
CLASS:PUBLIC
DESCRIPTION;ALTREP="CID:<FFFF__=0ABBE548DFE235B58f9e8a93d@coffeebean.com>":
 Taller: \ne-Formadores: cómo capacitar en entornos virtuales\n \n \nObjeti
 vo orientativo: las y los participantes podrán explicar\, aplicar y apreci
 ar un conjunto integrado de herramientas para desarrollar capacitación emp
 resarial bajo la modalidad de virtual.\n \nContenidos y actividades:\n\nCo
 nductas de apertura\, movilización grupal virtual y engagement de particip
 antes.\nDidáctica\, neurociencia y mediación virtual para formadores: cuat
 ro principios prácticos de manejo de la carga cognitiva.\nManejo de pizarr
 a colaborativa y microteaching.\nDNC basado en evidencias\, ciclo de Kolb 
 y capacitación enfocada en el desempeño de personas y equipos.\nDiseño ins
 truccional en entorno virtual: ADDIE (impacto)\, ARCS (motivacional) y AGI
 LE/Didactik metodologías ágiles en capacitación.\nCambio Autodirigido: aut
 odesarrollo e insight de brechas de desempeño.\nFlipped classroom y microt
 raining: usted y el futuro de la capacitación.\nModelos 10.20.70 y 20.25.5
 5: feedback\, mentoraje\, “reto-aprendizaje” y los 8 desafíos del aprendiz
 aje situado.\n\nStorytelling (narrativas) en capacitación empresarial: did
 áctica de avanzada para trainers expertos y laboratorio de dicción.\n\n\n
 \n \nFecha: 1\, 3\, 8 y 10 de setiembre del 2021\nHorario: 8:30 a.m. a 10:
 30 m.d.\nDuración: 8 horas.\nPlataforma: Zoom.\nInversión: ¢120.000 + 2% d
 e IVA por participante.\nIncluye: Material didáctico y certificado de part
 icipación en PDF.\n \nFacilitador: Enrique Margery Bertoglia.\nDoctor en E
 ducación. TEDx speaker. Director del Open Institute. Profesor de la Maestr
 ía en Psicología del Trabajo y las Organizaciones (UCR). Director de la re
 vista empresarial Mundo VICA. Profesor invitado de las Universidades Autón
 oma de Querétaro (UAQ\, Méx) y UAGM (Puerto Rico). Representante residente
  de Entrenadores del Talento (España). Miembro del Observatorio del Juego 
 y del Diplomado Internacional en Pedagogía del Juego. Autor de los libros 
 “El Viaje”\, “Herramientas de Coaching”\, “¡Aléjate de la Escalera!” / “St
 ep away from the ladder!” y “Complejidad\, transdisciplinariedad y compete
 ncias”.\n \nTodas nuestras capacitaciones pueden ser impartidas en su orga
 nización.\n \nInscripciones e información al e-mail info@cedeso.co.cr\nTel
 : (506) 2225-1007 Fax: (506) 2253-2774\nVisite nuestra página www.cedeso.c
 o.cr\nfacebook.com/cedesocostarica
DTSTART:20210901T143000Z
DTEND:20210910T163000Z
GEO:00;0
LOCATION:Virtual por Zoom.
ORGANIZER;CN=:info@cedeso.co.cr
SEQUENCE:1
SUMMARY:e-Formadores: cómo capacitar en entornos virtuales
TRANSP:OPAQUE
URL:https://cedeso.co.cr/eventos-anteriores/457-e-formadores-c%C3%B3mo-capa
 citar-en-entornos-virtuales
END:VEVENT
END:VCALENDAR
