BEGIN:VCALENDAR
VERSION:2.0
PRODID:-//Cedeso//NONSGML kigkonsult.se iCalcreator 2.30.10//
CALSCALE:GREGORIAN
METHOD:PUBLISH
UID:e54cc7c0-7caf-4f09-92e2-d13144b46b48
X-WR-CALNAME:iCagenda
X-WR-CALDESC:Event Management Extension for Joomla!
X-WR-RELCALID:3E26604A-50F4-4449-8B3E-E4F4932D05B5
X-WR-TIMEZONE:America/Costa_Rica
BEGIN:VTIMEZONE
TZID:America/Costa_Rica
BEGIN:STANDARD
TZNAME:CST
DTSTART:20191202T060000
TZOFFSETFROM:+0000
TZOFFSETTO:-0600
END:STANDARD
END:VTIMEZONE
BEGIN:VEVENT
UID:4d09eece-77e1-47e2-a5c2-24934b874896
DTSTAMP:20260419T233611Z
CATEGORIES:Mejores Prácticas Organizacionales
CLASS:PUBLIC
DESCRIPTION;ALTREP="CID:<FFFF__=0ABBE548DFE235B58f9e8a93d@coffeebean.com>":
 Taller:\nLiderazgo en el mundo BANI\nPasamos del mundo VICA al BANI (Britt
 le\, Anxious\, Nonlinear e Incomprensible)\nVenga a conocer las nuevas reg
 las del liderazgo\n\nFuncionando en incertidumbre extrema.\nUna mentalidad
  BANI: 5 guías par actuar.\nTop performers\, VICAy BANI: estrategias para 
 la operación efectiva en mod de urgencia\, cris y resiliencia.\n\nSabemos 
 que la BANI/Pandemia duplicó por meses la producción de apps\, aceleró ent
 re 3 y 7 años la digitalización\, duplicó el WFH y la fatiga pandémica\, t
 riplicó la velocidad de crecimiento del e-commerce\, logro que ⅔ partes de
  los trabajadores ahora pidan trabajo “híbrido” (casa / presencial)\, lanz
 ó a la industria de los servicios al espacio virtual\, inició una enorme r
 evolución biofarmacéutica\, lanzó la idea de la zoonosis y dio un giro dra
 mático a nuestra percepción del cambio climático\, inició la revolución de
  la mentalidad compasiva\, el autocuidado y el cuidado grupal en las organ
 izaciones y comunidades\, y dio un giro de 180˚ a los sistemas logísticos\
 , al saltar de sistemas Just in Time a procesos resilientes tipo Just in C
 ase.Semejantes cambios de orden civilizatorio\, han tenido impacto en lo o
 rganizacional. Sabemos que\, en el mundo BANI se reescriben las reglas del
  trabajo colaborativo y el liderazgo\, pero… ¿Cuáles son estas reglas? Ven
 ga a conocerlas...\nFecha: 2 de setiembre del 2021Horario: 8:30 a.m. a 11:
 30 a.m.Duración: 3 horas.Plataforma: Zoom.Inversión: ¢40.000 + 2% de IVA p
 or participante.Incluye: Material didáctico y certificado de participación
  en PDF.\nFacilitador: Enrique Margery Bertoglia.Doctor en Educación. TEDx
  speaker. Director del Open Institute. Profesor de la Maestría en Psicolog
 ía del Trabajo y las Organizaciones (UCR). Director de la revista empresar
 ial Mundo VICA. Profesor invitado de las Universidades Autónoma de Queréta
 ro (UAQ\, Méx) y UAGM (Puerto Rico). Representante residente de Entrenador
 es del Talento (España). Miembro del Observatorio del Juego y del Diplomad
 o Internacional en Pedagogía del Juego. Autor de los libros “El Viaje”\, “
 Herramientas de Coaching”\, “¡Aléjate de la Escalera!” / “Step away from t
 he ladder!” y “Complejidad\, transdisciplinariedad y competencias”.\nTodas
  nuestras capacitaciones pueden ser impartidas en su organización.\nInscri
 pciones e información al e-mail info@cedeso.co.crTel: (506) 2225-1007 Fax:
  (506) 2253-2774Visite nuestra página www.cedeso.co.crfacebook.com/cedesoc
 ostarica
DTSTART:20210902T143000Z
DTEND:20210902T173000Z
GEO:00;0
LOCATION:Virtual por Zoom.
ORGANIZER;CN=:info@cedeso.co.cr
SEQUENCE:1
SUMMARY:Liderazgo en el mundo BANI
TRANSP:OPAQUE
URL:https://cedeso.co.cr/eventos-anteriores/467-liderazgo-en-e-mundo-bani
END:VEVENT
END:VCALENDAR
