BEGIN:VCALENDAR
VERSION:2.0
PRODID:-//Cedeso//NONSGML kigkonsult.se iCalcreator 2.30.10//
CALSCALE:GREGORIAN
METHOD:PUBLISH
UID:182e926c-48df-4d83-9ff3-6986fe93de33
X-WR-CALNAME:iCagenda
X-WR-CALDESC:Event Management Extension for Joomla!
X-WR-RELCALID:3E26604A-50F4-4449-8B3E-E4F4932D05B5
X-WR-TIMEZONE:America/Costa_Rica
BEGIN:VTIMEZONE
TZID:America/Costa_Rica
BEGIN:STANDARD
TZNAME:CST
DTSTART:20191216T060000
TZOFFSETFROM:+0000
TZOFFSETTO:-0600
END:STANDARD
END:VTIMEZONE
BEGIN:VEVENT
UID:4679a766-3419-4442-bb28-51a2d93f6d4c
DTSTAMP:20260419T233819Z
CATEGORIES:Operaciones
CLASS:PUBLIC
DESCRIPTION;ALTREP="CID:<FFFF__=0ABBE548DFE235B58f9e8a93d@coffeebean.com>":
 Taller:\n¿Cómo rentabilizar la logística de importación?\nObjetivo:Ofrecer
  conocimientos teóricos y prácticos a los encargados del tráfico internaci
 onal de mercancías\, en los aspectos elementales en el comercio internacio
 nal durante el proceso de importación de sus productos terminados y/o mate
 rias primas\, que le permita a su representada mejorar su eficiencia para 
 obtener una ventaja competitiva en su entorno inmediato.\nTemario:• ¿Qué e
 s una importación?• Obligaciones del importador antes\, durante y después 
 de la importación.• Documentos Previos al Importar.• Las cotizaciones.• Re
 gistros y permisos previos. • Documentos necesarios para proceso de desalm
 acenaje: • El documento de embarque y sus características. • La factura co
 mercial y sus características según la Ley 7557. • Los permisos de desalma
 cenaje. • La declaración del valor aduanero.• Operadores logísticos: • Con
 solidadores de carga. • Transportistas. • Freight forwarders. • Agentes de
  aduana.• Seguros internacionales.• Cálculo de costos logísticos y de impo
 rtación.• Regímenes especiales.\nFecha: 16 y 17 de setiembre del 2021.Hora
 rio: 8:30 a.m. a 11:30 a.m.Duración: 6 horas.Plataforma: Zoom.Inversión: ¢
 55.000 + 2% de IVA por participante.Incluye: Material didáctico y certific
 ado de participación en PDF.\nFacilitadora: Licda. Yorleny Jiménez RojasGr
 aduada con honores de la Universidad de Costa Rica en la carrera de Admini
 stración Aduanera y Comercio Exterior. Certificada como especialista en Su
 pply Chain de la Universidad de Nebrija en España.Actualmente consultora i
 ndependiente con 20 años de experiencia en manejo y desarrollo de procesos
  de internacionalización y logística especialmente para el sector agrícola
 .Especialista en desarrollo de acompañamientos empresariales en temas de i
 mportación\, exportación\, logística internacional\, entre otros.Profesora
  de la Universidad de Costa Rica\, Universidad FUNDEPOS y capacitadora act
 iva en diferentes Cámaras que agremia exportadores\, importadores\, empres
 as PYMES\, entidades estatales\, colegios profesionales\, entre otros.\nTo
 das nuestras capacitaciones pueden ser impartidas en su organización\nInsc
 ripciones e información al e-mail info@cedeso.co.crTel: (506) 2225-1007 · 
 Tel/Fax: (506) 2253-2774Visite nuestra página www.cedeso.co.crfacebook.com
 /cedesocostarica
DTSTART:20210916T143000Z
DTEND:20210917T173000Z
GEO:00;0
LOCATION:Virtual por Zoom.
ORGANIZER;CN=:info@cedeso.co.cr
SEQUENCE:1
SUMMARY:¿Cómo rentabilizar la logística de importación?
TRANSP:OPAQUE
URL:https://cedeso.co.cr/eventos-anteriores/469-%C2%BFc%C3%B3mo-rentabiliza
 r-la-log%C3%ADstica-de-importaci%C3%B3n
END:VEVENT
END:VCALENDAR
