BEGIN:VCALENDAR
VERSION:2.0
PRODID:-//Cedeso//NONSGML kigkonsult.se iCalcreator 2.30.10//
CALSCALE:GREGORIAN
METHOD:PUBLISH
UID:3fc55c5f-5479-4638-a2e9-fbc2fb2e9275
X-WR-CALNAME:iCagenda
X-WR-CALDESC:Event Management Extension for Joomla!
X-WR-RELCALID:3E26604A-50F4-4449-8B3E-E4F4932D05B5
X-WR-TIMEZONE:America/Costa_Rica
BEGIN:VTIMEZONE
TZID:America/Costa_Rica
BEGIN:STANDARD
TZNAME:CST
DTSTART:20191217T060000
TZOFFSETFROM:+0000
TZOFFSETTO:-0600
END:STANDARD
END:VTIMEZONE
BEGIN:VEVENT
UID:1c32eaef-d94b-495c-b13a-20386fcfb739
DTSTAMP:20260419T234001Z
CATEGORIES:Mejores Prácticas Organizacionales
CLASS:PUBLIC
DESCRIPTION;ALTREP="CID:<FFFF__=0ABBE548DFE235B58f9e8a93d@coffeebean.com>":
 Taller:\nCoaching de equipos de ventas\nObjetivo: explicar\, aplicar y apr
 eciar herramientas para que managers y líderes hagan coacheo del desempeño
  de sus equipos de ventas.\nTemario: • Cinco herramientas de la psicología
  del top performer en nuestro equipo de ventas. • Coaching enfocado en ree
 ncuadre (adaptabilidad) e internalidad en vendedores\, accountability y lo
 s principios de Ejecución en el equipo de ventas. • ¿Cómo hablan los equip
 os de ventas de alto desempeño? Herramientas de acción apreciativa\, resil
 iencia y mentalidad de crecimiento. • Marcar la cancha: definir y comunica
 r metas SMA2RT y setear expectativas. • Cuatro tipos de colaborador (carga
 do\, superkeeper\, luchador o zafado) y la estrategia específica para cada
  uno.  • Manejo de 11 principios de retroalimentación y gerencia del desem
 peño en ventas.\nFecha: 17 y 24 de setiembre del 2021.Horario: 8:30 a.m. a
  11:30 a.m.Duración: 6 horas.Plataforma: Zoom.Inversión: ¢90.000 + 2% de I
 VA por participante.Incluye: Material didáctico y certificado de participa
 ción en PDF.\nFacilitador: Dr. Enrique Margery- Doctor en Educación y TEDx
  speaker.- Profesor de la Maestría en Psicología del Trabajo en la Univers
 idad de Costa Rica. Profesor invitado de la Universidad de Querétaro (UAQ\
 , México) y la Universidad UAGM (Puerto Rico).- Diseña capacitación para d
 esarrollo de soft skills basado en aprendizaje por la experiencia\, GBL y 
 “reto-aprendizaje”.- Coach especialista en ciencia de la colaboración y ma
 nejo de top performers.- Diseña herramientas para medir el Sentido de Urge
 ncia\, el “termómetro de la colaboración” y la rentabilidad de la capacita
 ción\, entre otros.- Autor de los libros “Complejidad y Competencias”\, “H
 erramientas de Coaching”\, “El Viaje” (Editorial Norma\; uno de los primer
 os libros de psicología positiva publicados) y 'Complejidad\, Transdiscipl
 inariedad y Compentencias'\nTodas nuestras capacitaciones pueden ser impar
 tidas en su organización\nInscripciones e Información al e-mail info@cedes
 o.co.crTel: (506) 2225-1007 · Fax: (506) 2253-2774Visite nuestra página ww
 w.cedeso.co.crfacebook.com/cedesocostarica
DTSTART:20210917T143000Z
DTEND:20210924T173000Z
GEO:00;0
LOCATION:Virtual por Zoom.
ORGANIZER;CN=:info@cedeso.co.cr
SEQUENCE:1
SUMMARY:Coaching de equipos de ventas
TRANSP:OPAQUE
URL:https://cedeso.co.cr/eventos-anteriores/470-coaching-de-equipos-de-vent
 as
END:VEVENT
END:VCALENDAR
