BEGIN:VCALENDAR
VERSION:2.0
PRODID:-//Cedeso//NONSGML kigkonsult.se iCalcreator 2.30.10//
CALSCALE:GREGORIAN
METHOD:PUBLISH
UID:8036f19a-a1cc-4b7a-b7a3-bf16d761df10
X-WR-CALNAME:iCagenda
X-WR-CALDESC:Event Management Extension for Joomla!
X-WR-RELCALID:3E26604A-50F4-4449-8B3E-E4F4932D05B5
X-WR-TIMEZONE:America/Costa_Rica
BEGIN:VTIMEZONE
TZID:America/Costa_Rica
BEGIN:STANDARD
TZNAME:CST
DTSTART:20200104T060000
TZOFFSETFROM:+0000
TZOFFSETTO:-0600
END:STANDARD
END:VTIMEZONE
BEGIN:VEVENT
UID:10293d5d-d842-4aa0-b43e-b6faaee9a16a
DTSTAMP:20260419T235803Z
CATEGORIES:Mejores Prácticas Organizacionales
CLASS:PUBLIC
DESCRIPTION;ALTREP="CID:<FFFF__=0ABBE548DFE235B58f9e8a93d@coffeebean.com>":
 Taller:\n \nPresentaciones ejecutivas (para la nueva normalidad)\n \n \nOb
 jetivo orientativo: explicar\, aplicar y apreciar herramientas cruciales d
 e presentaciones en contextos difíciles\, equipos remotos y modos presenci
 al y en línea. Con pizarra colaborativa y ejercicios “aprender haciendo”.
 \nContenidos y actividades:\n\nTécnicas para manejo del pánico escénico\, 
 en un mundo de equipos estresados\, virus e incertidumbre. Nueve guías par
 a la acción\, para salir adelante.\nMentimeter y apps para movilizar la at
 ención y el engagement grupal en presentaciones online o presenciales.\nCo
 nductas de apertura y mediación: qué hacer y qué no hacer en presentacione
 s top.\nBootcamp de presentaciones: dicción\, estrategias de influencia\, 
 manejo por tipo de grupos (alta dirección\, ventas\, IS\, mandos medios)..
 .\nOjo: evite saturar a su público y facilite la toma de decisiones\, apli
 cando las 4 reglas de la teoría de la carga cognitiva.\nStorytelling y Big
  Data: cómo presentar datos y comunicar ideas con impacto. No importa si e
 s presencial u online\, esto ¡Se lo sabe\, o se lo sabe! (No hay escapator
 ia).\n\n \nFecha: 5\, 7\, 12 y 14 de octubre 2021.\nHorario: 2:00 p.m. a 4
 :00 p.m.\nDuración: 8 horas.\nPlataforma: Zoom.\nInversión: ¢120.000 + 2% 
 de IVA por participante.\nIncluye: Material didáctico y certificado de par
 ticipación en PDF.\n \nFacilitador: Dr. Enrique Margery\n\nDoctor en Educa
 ción y TEDx speaker.\nProfesor de la Maestría en Psicología del Trabajo en
  la Universidad de Costa Rica. Profesor invitado de la Universidad de Quer
 étaro (UAQ\, México) y la Universidad UAGM (Puerto Rico).\nDiseña capacita
 ción para desarrollo de soft skills basado en aprendizaje por la experienc
 ia\, GBL y “reto-aprendizaje”.\nCoach especialista en ciencia de la colabo
 ración y manejo de top performers.\nDiseña herramientas para medir el Sent
 ido de Urgencia\, el “termómetro de la colaboración” y la rentabilidad de 
 la capacitación\, entre otros.\nAutor de los libros “Complejidad y Compete
 ncias”\, “Herramientas de Coaching”\, “El Viaje” (Editorial Norma\; uno de
  los primeros libros de psicología positiva publicados) y 'Complejidad\, T
 ransdisciplinariedad y Compentencias'\n\n \nTodas nuestras capacitaciones 
 pueden ser impartidas en su organización\n \nInscripciones e Información a
 l e-mail info@cedeso.co.cr\nTel: (506) 2225-1007 · Fax: (506) 2253-2774\nV
 isite nuestra página www.cedeso.co.cr\nfacebook.com/cedesocostarica
DTSTART:20211005T200000Z
DTEND:20211014T220000Z
GEO:00;0
LOCATION:Virtual por Zoom.
ORGANIZER;CN=:info@cedeso.co.cr
SEQUENCE:1
SUMMARY:Presentaciones ejecutivas (para la nueva normalidad)
TRANSP:OPAQUE
URL:https://cedeso.co.cr/eventos-anteriores/472-presentaciones-ejecutivas-p
 ara-la-nueva-normalidad
END:VEVENT
END:VCALENDAR
