BEGIN:VCALENDAR
VERSION:2.0
PRODID:-//Cedeso//NONSGML kigkonsult.se iCalcreator 2.30.10//
CALSCALE:GREGORIAN
METHOD:PUBLISH
UID:ad061133-4e91-4cc4-b1dc-1b6766fb2c13
X-WR-CALNAME:iCagenda
X-WR-CALDESC:Event Management Extension for Joomla!
X-WR-RELCALID:3E26604A-50F4-4449-8B3E-E4F4932D05B5
X-WR-TIMEZONE:America/Costa_Rica
BEGIN:VTIMEZONE
TZID:America/Costa_Rica
BEGIN:STANDARD
TZNAME:CST
DTSTART:20191222T060000
TZOFFSETFROM:+0000
TZOFFSETTO:-0600
END:STANDARD
END:VTIMEZONE
BEGIN:VEVENT
UID:143bc923-ab58-4c4d-b4ce-42fb011f80d7
DTSTAMP:20260419T234002Z
CATEGORIES:Operaciones
CLASS:PUBLIC
DESCRIPTION;ALTREP="CID:<FFFF__=0ABBE548DFE235B58f9e8a93d@coffeebean.com>":
 Curso:\nABC de las compras\nPor que tomar este seminarioEn el siglo 21 la 
 competitividad de las empresas viene determinada por su capacidad de hacer
  las cosas correctas al mejor costo\, es común que las organizaciones teng
 an deficiencias en algunas partes de su cadena de suministros que impiden 
 que esta sea óptima.\nTomar las mejores decisiones de compra en tiempos ec
 onómicos difíciles es crucial para el futuro de su organización. Increment
 ar los ahorros en su empresa gracias a la mejor gestión de compra aumenta 
 tus posibilidades de éxito.\nLas empresas deben pasearse a través de cada 
 paso del proceso de administración de compras\, incluyendo• Generar políti
 cas\, estrategias y tácticas de compra• Negociación • Administración de pr
 oveedores • Encontrar formas innovadoras para manejarse con los proveedore
 s y que ofrezcan servicios y productos de calidad a tiempo y dentro de su 
 presupuesto• Aprender cómo puede ayudar el e-procurement para ahorrar dine
 ro • Comprender los aspectos jurídicos de la gestión de compras.• Manejar 
 las oportunidades que ofrecen los convenios internacionales• Aprovechar la
 s mejores condiciones de compra• Mejorar los pagos a los proveedores para 
 obtener beneficios\nObjetivo generalCompartir con los participantes técnic
 as y elementos estructurales que permitirán la mejora y ejecución de proce
 sos de compra en forma efectiva.\nObjetivos específicos• Exponer fundament
 os teóricos de la función de compras.• Explicar las técnicas utilizadas en
  la administración de compras que permiten mejorar su efectividad.• Compar
 tir con los participantes experiencias reales derivadas de la función comp
 ras.• Concientizar a los participantes sobre la necesidad de establecer es
 tándares técnicos elevados en la función de compras.• Enfatizar sobre el p
 apel de las compras en el éxito organizacional.• Exhortar a los participan
 tes a mantener un marco ético como punto relevante en el éxito de su funci
 ón como compradores.\nQue logrará con el seminario • Se convertirá en un c
 omprador más eficiente y productivo a través de aplicación de las técnicas
  de gestión de compras y abastecimiento.• Aprenderá como mejorar los servi
 cios prestados por los proveedores a través de planificación y negociacion
 es más eficaces.• Reconocerá los aspectos legales y éticos de la compra y 
 de los pasivos que se pueden generar por violarlos.• Mejorar la forma sele
 ccionar y calificar a proveedores.\nDirigido aCompradores\, supervisores y
  gerentes de compra y procura\, agentes de procura\, personas con interés 
 o expectativas para asumir funciones de compras.\nContenido1. Como las com
 pras agregan valor a su organización.• El ciclo compra.• criterios clave p
 ara medir el desempeño de un comprador.• políticas de administración de co
 mpras.• Reducción de costo.• Procedimientos\, controles y normas.• Estable
 cimiento de Políticas de compras.\n2.Gerencia de Proveedores.• Fuentes de 
 Suministros.• Elaboración de perfiles de la actividad del proveedor y Mine
 ría de Datos (data mining).• Desempeño del Proveedor y Medidas de costo y 
 valor.• Asociaciones con proveedores.• Generando valor con los proveedores
 .\n3. Aspectos legales en compras.• Las leyes que afectan las compras.• Lo
 s contratos de compras.• La batalla de las formas que prevalece.• Resoluci
 ón de contratos.• Los Incoterms.• Resolución de problemas de calidad.\n4. 
 El proceso de compras.• Requerimientos de compras.• Las cantidades a compr
 ar.• Uso del análisis de Pareto en compras.• Compras de bienes de capital.
 • Alquiler de bienes y leasing.• Compras menores y de consumibles.• La ges
 tión de pago.\n5. Precios y costos.• Análisis de precios.• Comprar o produ
 cir.• Tipos de precios.• Presupuesto de compras.• Precios de contratos.• C
 ommoditties y futuros.• Efectos de la economía global sobre costos de comp
 ras.• Impacto de políticas gubernamentales en las compras.\n6. Negociacion
 es. • Importancia de saber negociar.• Aspectos presentes e la negociación.
 • Negociaciones ganar ganar.\n7. Ética en compras.• Fundamentos éticos.• S
 eguridad y riesgos en compras.• Cómo manejar dilemas éticos.\nMetodologíaE
 xposiciones del facilitador\, referencias a casos de éxito\, planteamiento
  de retos y dilemas de decisión\, discusión con participantes sobre mejora
 s que pueden obtener\, reflexiones de los participantes\nFecha: 22 y 23 de
  setiembre del 2021.Horario: 8:30 a.m. a 12:30 m.d.Duración: 8 horas.Plata
 forma: Zoom.Inversión: ¢80.000 + 2% de IVA por participante.Incluye: Mater
 ial y certificado de participación en PDF.\nFacilitador: Ing. Víctor León\
 , Mg.-Ingeniero Industrial con estudios de Postgrado en Ingeniería Industr
 ial\, Gerencia de RRHH y Dinámica de Grupos.-Experiencia en las áreas de D
 istribución\, Atención al Cliente y Planificación de la Producción\, Manej
 o de Inventarios\, Almacenes\, Costos y Elaboración de Proyectos de Invers
 ión.- Capacitador en áreas gerenciales y técnicas\, con 20 años de experie
 ncia.\nTodas nuestras capacitaciones pueden ser impartidas en su organizac
 ión\nInscripciones e Información al e-mail info@cedeso.co.crTel: (506) 222
 5-1007 Fax: (506) 2253-2774Visite nuestra página www.cedeso.co.crfacebook.
 com/cedesocostarica
DTSTART:20210922T143000Z
DTEND:20210923T183000Z
GEO:00;0
LOCATION:Virtual por Zoom.
ORGANIZER;CN=:info@cedeso.co.cr
SEQUENCE:1
SUMMARY:ABC de las compras
TRANSP:OPAQUE
URL:https://cedeso.co.cr/eventos-anteriores/473-abc-de-las-compras
END:VEVENT
END:VCALENDAR
