BEGIN:VCALENDAR
VERSION:2.0
PRODID:-//Cedeso//NONSGML kigkonsult.se iCalcreator 2.30.10//
CALSCALE:GREGORIAN
METHOD:PUBLISH
UID:476723da-40b4-405a-9271-73826c0f20c5
X-WR-CALNAME:iCagenda
X-WR-CALDESC:Event Management Extension for Joomla!
X-WR-RELCALID:3E26604A-50F4-4449-8B3E-E4F4932D05B5
X-WR-TIMEZONE:America/Costa_Rica
BEGIN:VTIMEZONE
TZID:America/Costa_Rica
BEGIN:STANDARD
TZNAME:CST
DTSTART:20200111T060000
TZOFFSETFROM:+0000
TZOFFSETTO:-0600
END:STANDARD
END:VTIMEZONE
BEGIN:VEVENT
UID:fc890e50-ccc1-4432-9be5-9e236e500e8c
DTSTAMP:20260420T024050Z
CATEGORIES:Mejores Prácticas Organizacionales
CLASS:PUBLIC
DESCRIPTION;ALTREP="CID:<FFFF__=0ABBE548DFE235B58f9e8a93d@coffeebean.com>":
 Taller:\nIntelemoción: inteligencia emocional para el mundo VUCA\nRecursos
  urgentes en equipos y personas en la nueva normalidad y el mundo VICA/BAN
 I\nCon doble certificación: una por cada taller al que asista\, más un Cer
 tificado del (Nuevo) Programa de desarrollo del potencial humano (PDPH)\, 
 para quien asista a los tres talleres.\n1. Intelemoción: inteligencia emoc
 ional para el mundo VUCA2. Mentalidad de Crecimiento3. Herramientas de res
 iliencia 2021\nContenidos:• Cuatro tipos de personas: ¿Qué nos impulsa y q
 ué nos frena? Las cuatro dimensiones de la Intelemoción. • Campo de prácti
 ca para cada dimensión: Botones calientes\, El Helicóptero\, Habla interio
 r y Caja de Betari.• Intelemoción en equipos remotos con Padlet y Mentimet
 er.• Intelemoción y capacidades blandas: recursos para mejorar la inmunida
 d al cambio\, motivación\, decisiones\, prioridades y comunicación asertiv
 a.• Supertema: manejo de la voz interior y la mentalidad compasiva en tiem
 pos difíciles.\nFecha: 12 y 14 de octubre del 2021.Horario: 8:30 a.m. a 10
 :30 a.m.Duración: 4 horas.Plataforma: Zoom.Inversión: ¢60.000 + 2% de IVA 
 por participante.Incluye: Material didáctico y certificado de participació
 n en PDF.\nFacilitador: Dr. Enrique Margery- Doctor en Educación y TEDx sp
 eaker.- Profesor de la Maestría en Psicología del Trabajo en la Universida
 d de Costa Rica. Profesor invitado de la Universidad de Querétaro (UAQ\, M
 éxico) y la Universidad UAGM (Puerto Rico).- Diseña capacitación para desa
 rrollo de soft skills basado en aprendizaje por la experiencia\, GBL y “re
 to-aprendizaje”.- Coach especialista en ciencia de la colaboración y manej
 o de top performers.- Diseña herramientas para medir el Sentido de Urgenci
 a\, el “termómetro de la colaboración” y la rentabilidad de la capacitació
 n\, entre otros.- Autor de los libros “Complejidad y Competencias”\, “Herr
 amientas de Coaching”\, “El Viaje” (Editorial Norma\; uno de los primeros 
 libros de psicología positiva publicados) y 'Complejidad\, Transdisciplina
 riedad y Compentencias'\nTodas nuestras capacitaciones pueden ser impartid
 as en su organización\nInscripciones e Información al e-mail info@cedeso.c
 o.crTel: (506) 2225-1007 · Fax: (506) 2253-2774Visite nuestra página www.c
 edeso.co.crfacebook.com/cedesocostarica
DTSTART:20211012T143000Z
DTEND:20211014T163000Z
GEO:00;0
LOCATION:Virtual por Zoom
ORGANIZER;CN=:info@cedeso.co.cr
SEQUENCE:1
SUMMARY:Intelemoción: inteligencia emocional para el mundo VUCA
TRANSP:OPAQUE
URL:https://cedeso.co.cr/eventos-anteriores/475-intelemoci%C3%B3n-inteligen
 cia-emocional-para-el-mundo-vuca
END:VEVENT
END:VCALENDAR
