BEGIN:VCALENDAR
VERSION:2.0
PRODID:-//Cedeso//NONSGML kigkonsult.se iCalcreator 2.30.10//
CALSCALE:GREGORIAN
METHOD:PUBLISH
UID:b563b615-e5dc-4519-b9d3-a0d118455f0c
X-WR-CALNAME:iCagenda
X-WR-CALDESC:Event Management Extension for Joomla!
X-WR-RELCALID:3E26604A-50F4-4449-8B3E-E4F4932D05B5
X-WR-TIMEZONE:America/Costa_Rica
BEGIN:VTIMEZONE
TZID:America/Costa_Rica
BEGIN:STANDARD
TZNAME:CST
DTSTART:20200125T060000
TZOFFSETFROM:+0000
TZOFFSETTO:-0600
END:STANDARD
END:VTIMEZONE
BEGIN:VEVENT
UID:8e0ad8a5-4202-48ba-8095-bfab673b8646
DTSTAMP:20260420T010057Z
CATEGORIES:Mejores Prácticas Organizacionales
CLASS:PUBLIC
DESCRIPTION;ALTREP="CID:<FFFF__=0ABBE548DFE235B58f9e8a93d@coffeebean.com>":
 Taller:\nMentalidad de Crecimiento\nRecursos urgentes en equipos y persona
 s en la nueva normalidad y el mundo VICA/BANI\nCon doble certificación: un
 a por cada taller al que asista\, más un Certificado del (Nuevo) Programa 
 de desarrollo del potencial humano (PDPH)\, para quien asista a los tres t
 alleres.\n1. Intelemoción: inteligencia emocional para el mundo VUCA2. Men
 talidad de Crecimiento3. Herramientas de resiliencia 2021\nContenidos:• Mo
 delos mentales: ¿mentalidad fija o de crecimiento? Con instrumento de auto
 evaluación y desarrollo• Las estrategias para desarrollar el Growth Mindse
 t\, la internalidad y el sentido de eficacia.• Fortalecer la curiosidad\, 
 la flexibilidad y el aprendizaje ágil: la caja de herramientas de la GM. •
  Siete indicadores y comportamientos de GM para líderes: una autoevaluació
 n.• Supertema: claves de mentalidad de crecimiento en contextos BANI y de 
 extrema incertidumbre.\nFecha: 26 y 29 de octubre del 2021.Horario: 8:30 a
 .m. a 10:30 a.m.Duración: 4 horas.Plataforma: Zoom.Inversión: ¢60.000 + 2%
  de IVA por participante.Incluye: Material didáctico y certificado de part
 icipación en PDF.\nFacilitador: Dr. Enrique Margery- Doctor en Educación y
  TEDx speaker.- Profesor de la Maestría en Psicología del Trabajo en la Un
 iversidad de Costa Rica. Profesor invitado de la Universidad de Querétaro 
 (UAQ\, México) y la Universidad UAGM (Puerto Rico).- Diseña capacitación p
 ara desarrollo de soft skills basado en aprendizaje por la experiencia\, G
 BL y “reto-aprendizaje”.- Coach especialista en ciencia de la colaboración
  y manejo de top performers.- Diseña herramientas para medir el Sentido de
  Urgencia\, el “termómetro de la colaboración” y la rentabilidad de la cap
 acitación\, entre otros.- Autor de los libros “Complejidad y Competencias”
 \, “Herramientas de Coaching”\, “El Viaje” (Editorial Norma\; uno de los p
 rimeros libros de psicología positiva publicados) y 'Complejidad\, Transdi
 sciplinariedad y Compentencias'\nTodas nuestras capacitaciones pueden ser 
 impartidas en su organización\nInscripciones e Información al e-mail info@
 cedeso.co.crTel: (506) 2225-1007 · Fax: (506) 2253-2774Visite nuestra pági
 na www.cedeso.co.crfacebook.com/cedesocostarica
DTSTART:20211026T143000Z
DTEND:20211029T163000Z
GEO:00;0
LOCATION:Virtual por Zoom.
ORGANIZER;CN=:info@cedeso.co.cr
SEQUENCE:1
SUMMARY:Mentalidad de Crecimiento
TRANSP:OPAQUE
URL:https://cedeso.co.cr/eventos-anteriores/479-mentalidad-de-crecimiento
END:VEVENT
END:VCALENDAR
