BEGIN:VCALENDAR
VERSION:2.0
PRODID:-//Cedeso//NONSGML kigkonsult.se iCalcreator 2.30.10//
CALSCALE:GREGORIAN
METHOD:PUBLISH
UID:f86b19fc-b76a-43a5-889f-af379c2dbb07
X-WR-CALNAME:iCagenda
X-WR-CALDESC:Event Management Extension for Joomla!
X-WR-RELCALID:3E26604A-50F4-4449-8B3E-E4F4932D05B5
X-WR-TIMEZONE:America/Costa_Rica
BEGIN:VTIMEZONE
TZID:America/Costa_Rica
BEGIN:STANDARD
TZNAME:CST
DTSTART:20200208T060000
TZOFFSETFROM:+0000
TZOFFSETTO:-0600
END:STANDARD
END:VTIMEZONE
BEGIN:VEVENT
UID:64a6f8ab-b371-4be3-ac7a-592f42782eb1
DTSTAMP:20260419T234232Z
CATEGORIES:Mejores Prácticas Organizacionales
CLASS:PUBLIC
DESCRIPTION;ALTREP="CID:<FFFF__=0ABBE548DFE235B58f9e8a93d@coffeebean.com>":
 Taller:\nHerramientas de resiliencia 2021\nRecursos urgentes en equipos y 
 personas en la nueva normalidad y el mundo VICA/BANI\nCon doble certificac
 ión: una por cada taller al que asista\, más un Certificado del (Nuevo) Pr
 ograma de desarrollo del potencial humano (PDPH)\, para quien asista a los
  tres talleres.\n1. Intelemoción: inteligencia emocional para el mundo VUC
 A2. Mentalidad de Crecimiento3. Herramientas de resiliencia 2021\nContenid
 os:• La resiliencia se aprende: cuatro estrategias de perfil resiliente pa
 ra aplicar “aquí y ahora” en la “nueva normalidad”.• Autoevaluación de la 
 capacidad de resiliencia y persistencia de cada participante.• Resiliencia
  en el trabajo: nueve estrategias para desarrollar la capacidad de sobrepo
 nerse. Trabajo individual/grupal de reconocimiento y aplicación de las est
 rategias.• 10 guías para la acción en equipos resilientes remotos\, con au
 toevaluación.• Supertema: claves del Mindfulness para que realmente sea ef
 ectivo.\nFecha: 9 y 11 de noviembre del 2021.Horario: 8:30 a.m. a 10:30 a.
 m.Duración: 4 horas.Plataforma: Zoom.Inversión: ¢60.000 + 2% de IVA por pa
 rticipante.Incluye: Material didáctico y certificado de participación en P
 DF.\nFacilitador: Dr. Enrique Margery- Doctor en Educación y TEDx speaker.
 - Profesor de la Maestría en Psicología del Trabajo en la Universidad de C
 osta Rica. Profesor invitado de la Universidad de Querétaro (UAQ\, México)
  y la Universidad UAGM (Puerto Rico).- Diseña capacitación para desarrollo
  de soft skills basado en aprendizaje por la experiencia\, GBL y “reto-apr
 endizaje”.- Coach especialista en ciencia de la colaboración y manejo de t
 op performers.- Diseña herramientas para medir el Sentido de Urgencia\, el
  “termómetro de la colaboración” y la rentabilidad de la capacitación\, en
 tre otros.- Autor de los libros “Complejidad y Competencias”\, “Herramient
 as de Coaching”\, “El Viaje” (Editorial Norma\; uno de los primeros libros
  de psicología positiva publicados) y 'Complejidad\, Transdisciplinariedad
  y Compentencias'\nTodas nuestras capacitaciones pueden ser impartidas en 
 su organización\nInscripciones e Información al e-mail info@cedeso.co.crTe
 l: (506) 2225-1007 · Fax: (506) 2253-2774Visite nuestra página www.cedeso.
 co.crfacebook.com/cedesocostarica
DTSTART:20211109T143000Z
DTEND:20211111T163000Z
GEO:00;0
LOCATION:Virtual por Zoom.
ORGANIZER;CN=:info@cedeso.co.cr
SEQUENCE:1
SUMMARY:Herramientas de resiliencia 2021
TRANSP:OPAQUE
URL:https://cedeso.co.cr/eventos-anteriores/480-herramientas-de-resiliencia
 -2021
END:VEVENT
END:VCALENDAR
