BEGIN:VCALENDAR
VERSION:2.0
PRODID:-//Cedeso//NONSGML kigkonsult.se iCalcreator 2.30.10//
CALSCALE:GREGORIAN
METHOD:PUBLISH
UID:dd530eae-7ef8-4638-b9eb-0714dddc77f4
X-WR-CALNAME:iCagenda
X-WR-CALDESC:Event Management Extension for Joomla!
X-WR-RELCALID:3E26604A-50F4-4449-8B3E-E4F4932D05B5
X-WR-TIMEZONE:America/Costa_Rica
BEGIN:VTIMEZONE
TZID:America/Costa_Rica
BEGIN:STANDARD
TZNAME:CST
DTSTART:20200118T060000
TZOFFSETFROM:+0000
TZOFFSETTO:-0600
END:STANDARD
END:VTIMEZONE
BEGIN:VEVENT
UID:512c6415-4adb-4d5f-869f-5b25ef6e1697
DTSTAMP:20260420T010537Z
CATEGORIES:Operaciones
CLASS:PUBLIC
DESCRIPTION;ALTREP="CID:<FFFF__=0ABBE548DFE235B58f9e8a93d@coffeebean.com>":
 Taller:\n¿Cómo negociar a nivel internacional?\nObjetivo:Conocer y dominar
  los principios y técnicas básicas de negociación para mejorar el desempeñ
 o del ejecutivo de Ventas y/o Compras Internacionales.\nTemario:• ¿Qué es 
 negociar en mercados internacionales? • Diferencias entre negociación naci
 onal e internacional.• Tipos de negociaciones • Negociadores cooperativos 
 y competitivos • Perfil del negociador eficaz • Proceso de negociación int
 ernacional • Tácticas para negociar internacionalmente. • Negociación inte
 rcultural • Estilos de negociación • Protocolo en los negocios internacion
 ales • Estrategias de negociación en algunos países importantes para nuest
 ras empresas. • Análisis y estructura de contratos.• Negociación de términ
 os de compra venta internacional.• Negociación de medios de pago.• Negocia
 ción del transporte internacional.\nFecha: 19 y 21 de octubre del 2021.Hor
 ario: 8:30 a.m. a 12:30 m.d.Duración: 8 horas.Plataforma: Zoom.Inversión: 
 ¢75.000 + 2% de IVA por participante.Incluye: Material didáctico y certifi
 cado de participación en PDF.\nFacilitadora: Licda. Yorleny Jiménez RojasG
 raduada con honores de la Universidad de Costa Rica en la carrera de Admin
 istración Aduanera y Comercio Exterior. Certificada como especialista en S
 upply Chain de la Universidad de Nebrija en España.Actualmente consultora 
 independiente con 20 años de experiencia en manejo y desarrollo de proceso
 s de internacionalización y logística especialmente para el sector agrícol
 a.Especialista en desarrollo de acompañamientos empresariales en temas de 
 importación\, exportación\, logística internacional\, entre otros.Profesor
 a de la Universidad de Costa Rica\, Universidad FUNDEPOS y capacitadora ac
 tiva en diferentes Cámaras que agremia exportadores\, importadores\, empre
 sas PYMES\, entidades estatales\, colegios profesionales\, entre otros.\nT
 odas nuestras capacitaciones pueden ser impartidas en su organización\nIns
 cripciones e información al e-mail info@cedeso.co.crTel: (506) 2225-1007 ·
  Tel/Fax: (506) 2253-2774Visite nuestra página www.cedeso.co.crfacebook.co
 m/cedesocostarica
DTSTART:20211019T143000Z
DTEND:20211021T163000Z
GEO:00;0
LOCATION:Virtual por Zoom.
ORGANIZER;CN=:info@cedeso.co.cr
SEQUENCE:1
SUMMARY:¿Cómo negociar a nivel internacional?
TRANSP:OPAQUE
URL:https://cedeso.co.cr/eventos-anteriores/481-%C2%BFc%C3%B3mo-negociar-a-
 nivel-internacional
END:VEVENT
END:VCALENDAR
