BEGIN:VCALENDAR
VERSION:2.0
PRODID:-//Cedeso//NONSGML kigkonsult.se iCalcreator 2.30.10//
CALSCALE:GREGORIAN
METHOD:PUBLISH
UID:9d17a2f2-a39b-4111-af02-a11649795970
X-WR-CALNAME:iCagenda
X-WR-CALDESC:Event Management Extension for Joomla!
X-WR-RELCALID:3E26604A-50F4-4449-8B3E-E4F4932D05B5
X-WR-TIMEZONE:America/Costa_Rica
BEGIN:VTIMEZONE
TZID:America/Costa_Rica
BEGIN:STANDARD
TZNAME:CST
DTSTART:20200106T060000
TZOFFSETFROM:+0000
TZOFFSETTO:-0600
END:STANDARD
END:VTIMEZONE
BEGIN:VEVENT
UID:8a8ad310-cd1b-4a01-969d-36408394b41e
DTSTAMP:20260419T235417Z
CATEGORIES:Mejores Prácticas Organizacionales
CLASS:PUBLIC
DESCRIPTION;ALTREP="CID:<FFFF__=0ABBE548DFE235B58f9e8a93d@coffeebean.com>":
 Taller:\nReuniones efectivas en la virtualidad(la ciencia de las e_reunion
 es)\nObjetivo: los participantes podrán explicar\, aplicar y apreciar las 
 reglas de juego que permiten llevar a cabo reuniones virtuales efectivas.
 \nContenidos:• Tres competencias para las reuniones ágiles: conducta asert
 iva (método SIP)\, sentido de urgencia (reglas para reuniones enfocadas) y
  capacidad de ejecución (las tres reglas).• Mejores prácticas para la cola
 boración en teletrabajo. Ejercicio: aplicación de Mentimeter para definir 
 “reglas de juego”. • Atacar los problemas desde la raíz en cinco momentos 
 (antes\, en el arranque\, durante\, al final o después de la reunión).• Pr
 eparar la reunión: seis datos que hay que tener “sí o sí”.• Comportamiento
 s de la coordinación: conduciendo reuniones efectivas.• Ojo a 7 comportami
 entos tóxicos que echan a perder una reunión.• e_Reuniones: 14 reglas para
  reuniones 100% virtuales y 5 reglas para reuniones híbridas.\nFecha: 7 y 
 8 de octubre 2021.Horario: 8:30 a.m. a 11:30 a.m.Duración: 6 horas.Platafo
 rma: Zoom.Inversión: ¢90.000 + 2% de IVA por participante.Incluye: Materia
 l didáctico y certificado de participación en PDF.\nFacilitador: Dr. Enriq
 ue Margery- Doctor en Educación y TEDx speaker.- Profesor de la Maestría e
 n Psicología del Trabajo en la Universidad de Costa Rica. Profesor invitad
 o de la Universidad de Querétaro (UAQ\, México) y la Universidad UAGM (Pue
 rto Rico).- Diseña capacitación para desarrollo de soft skills basado en a
 prendizaje por la experiencia\, GBL y “reto-aprendizaje”.- Coach especiali
 sta en ciencia de la colaboración y manejo de top performers.- Diseña herr
 amientas para medir el Sentido de Urgencia\, el “termómetro de la colabora
 ción” y la rentabilidad de la capacitación\, entre otros.- Autor de los li
 bros “Complejidad y Competencias”\, “Herramientas de Coaching”\, “El Viaje
 ” (Editorial Norma\; uno de los primeros libros de psicología positiva pub
 licados) y 'Complejidad\, Transdisciplinariedad y Compentencias'\nTodas nu
 estras capacitaciones pueden ser impartidas en su organización\nInscripcio
 nes e Información al e-mail info@cedeso.co.crTel: (506) 2225-1007 · Fax: (
 506) 2253-2774Visite nuestra página www.cedeso.co.crfacebook.com/cedesocos
 tarica
DTSTART:20211007T143000Z
DTEND:20211008T173000Z
GEO:00;0
LOCATION:Virtual por Zoom.
ORGANIZER;CN=:info@cedeso.co.cr
SEQUENCE:1
SUMMARY:Reuniones efectivas en la virtualidad
TRANSP:OPAQUE
URL:https://cedeso.co.cr/eventos-anteriores/482-reuniones-efectivas-en-la-v
 irtualidad
END:VEVENT
END:VCALENDAR
