BEGIN:VCALENDAR
VERSION:2.0
PRODID:-//Cedeso//NONSGML kigkonsult.se iCalcreator 2.30.10//
CALSCALE:GREGORIAN
METHOD:PUBLISH
UID:48c400ad-e9e1-47d4-b60e-21875e7637b0
X-WR-CALNAME:iCagenda
X-WR-CALDESC:Event Management Extension for Joomla!
X-WR-RELCALID:3E26604A-50F4-4449-8B3E-E4F4932D05B5
X-WR-TIMEZONE:America/Costa_Rica
BEGIN:VTIMEZONE
TZID:America/Costa_Rica
BEGIN:STANDARD
TZNAME:CST
DTSTART:20191208T060000
TZOFFSETFROM:+0000
TZOFFSETTO:-0600
END:STANDARD
END:VTIMEZONE
BEGIN:VEVENT
UID:f4cf0401-5936-47b2-981e-b2553d88cfa7
DTSTAMP:20260419T233208Z
CATEGORIES:Mejores Prácticas Organizacionales
CLASS:PUBLIC
DESCRIPTION;ALTREP="CID:<FFFF__=0ABBE548DFE235B58f9e8a93d@coffeebean.com>":
 Clase introductoria:\n¿Cómo organizar tu presentación oral?\n \n¡Gratis!\n
  \nFecha: miércoles 8 de setiembre 2021\nHorario: 10:00 a.m. a 11:00 a.m.
 \nDuración: 1 hora.\n \nLos grandes líderes se lideran a sí mismos primero
  y cultivan su crecimiento personal y profesional día tras día. Lo hacen\,
  no porque crean que les falta algo\, sino porque aman la expansión y perm
 anecen en la mente del principiante que permite ese crecimiento. Solo por 
 eso...\n¿Le gustaría ser parte de nuestras comunidad de aprendientes const
 antes?\nSi sos persona ejecutivapersona docentepersona promotorapersona in
 fluencerpersona oradorapersona estudianteEste curso es para usted.\n \nIns
 cripciones a: info@cedeso.co.cr\nTeléfono: +506 2225-1007
DTSTART:20210908T160000Z
DTEND:20210908T170000Z
GEO:00;0
LOCATION:virtual por Zoom.
ORGANIZER;CN=:info@cedeso.co.cr
SEQUENCE:1
SUMMARY:¿Cómo organizar tu presentación oral?
TRANSP:OPAQUE
URL:https://cedeso.co.cr/eventos-anteriores/489-%C2%BFc%C3%B3mo-organizar-t
 u-presentaci%C3%B3n-oral
END:VEVENT
END:VCALENDAR
