BEGIN:VCALENDAR
VERSION:2.0
PRODID:-//Cedeso//NONSGML kigkonsult.se iCalcreator 2.30.10//
CALSCALE:GREGORIAN
METHOD:PUBLISH
UID:a7edb1be-9801-4fe0-acfa-2eabef50b5ea
X-WR-CALNAME:iCagenda
X-WR-CALDESC:Event Management Extension for Joomla!
X-WR-RELCALID:3E26604A-50F4-4449-8B3E-E4F4932D05B5
X-WR-TIMEZONE:America/Costa_Rica
BEGIN:VTIMEZONE
TZID:America/Costa_Rica
BEGIN:STANDARD
TZNAME:CST
DTSTART:20200125T060000
TZOFFSETFROM:+0000
TZOFFSETTO:-0600
END:STANDARD
END:VTIMEZONE
BEGIN:VEVENT
UID:86bc9509-28fb-4bae-801e-7afcf35c1694
DTSTAMP:20260420T010746Z
CATEGORIES:Operaciones
CLASS:PUBLIC
DESCRIPTION;ALTREP="CID:<FFFF__=0ABBE548DFE235B58f9e8a93d@coffeebean.com>":
 Curso:\nGestión integral de la bodega: aspectos operacionales para agregar
  valor\nObjetivo del seminario:Estudiar un modelo práctico para el manejo 
 correcto de una bodega independientemente de su tamaño\, uso y capacidad.
 \nQuien debe tomar este curso:Ingenieros industriales\, profesionales admi
 nistrativos relacionados con la logística\, supervisores de bodegas\, comp
 ras o control de inventarios\, personal profesional en formación para asum
 ir cargos en cadena de suministro. Profesionales interesados.\nNivel del c
 urso:El curso está dirigidos a persona con formación superior a nivel técn
 ico o de licenciatura\, el enfoque es táctico y se usará un lenguaje técni
 co intermedio de fácil comprensión.\nMetodología:Teórico práctico\, se mue
 stran videos\, casos de estudio y ejercicios.\nContenidos:1) Gestión de bo
 degasObjetivo: Establecer el marco de conceptos y elementos de gestión nec
 esarios para operar la bodega y definir sus procesos.• Propósito• Objetivo
 s• Control de la bodega\n2) Modelo de control y gestión de bodegaObjetivo:
  Estudiar en forma detallada los procesos de la bodega para lograr que est
 a sea generadora de valor y no consumidora de recursos.• La organización d
 e la bodega\, aspectos esenciales• Inbound: Recepción y Putaway• Almacenaj
 e  ◦ Normas de manejo de materiales  ◦ Buenas prácticas de almacenaje  ◦ E
 quipamiento de manejo y almacenamiento• Outbound: Picking\, Chequeo\, Desp
 acho• Otras operaciones• 5 s en bodega• Estrategias generales para e\nFech
 a: 26 y 28 de octubre del 2021.Horario: 8:30 a.m. a 12:30 m.d.Duración: 8 
 horas.Plataforma: Zoom.Inversión: ¢80.000 + 2% de IVA por participante.Inc
 luye: Material y certificado de participación en PDF.\nFacilitador: Ing. V
 íctor León\, Mg.-Ingeniero Industrial con estudios de Postgrado en Ingenie
 ría Industrial\, Gerencia de RRHH y Dinámica de Grupos.-Experiencia en las
  áreas de Distribución\, Atención al Cliente y Planificación de la Producc
 ión\, Manejo de Inventarios\, Almacenes\, Costos y Elaboración de Proyecto
 s de Inversión.- Capacitador en áreas gerenciales y técnicas\, con 20 años
  de experiencia.\nTodas nuestras capacitaciones pueden ser impartidas en s
 u organización\nInscripciones e Información al e-mail info@cedeso.co.crTel
 : (506) 2225-1007 Fax: (506) 2253-2774Visite nuestra página www.cedeso.co.
 crfacebook.com/cedesocostarica
DTSTART:20211026T143000Z
DTEND:20211028T183000Z
GEO:00;0
LOCATION:Plataforma Zoom
ORGANIZER;CN=:info@cedeso.co.cr
SEQUENCE:1
SUMMARY:Gestión integral de la bodega: aspectos operacionales para agregar 
 valor
TRANSP:OPAQUE
URL:https://cedeso.co.cr/eventos-anteriores/490-gesti%C3%B3n-integral-de-la
 -bodega-aspectos-operacionales-para-agregar-valor
END:VEVENT
END:VCALENDAR
