BEGIN:VCALENDAR
VERSION:2.0
PRODID:-//Cedeso//NONSGML kigkonsult.se iCalcreator 2.30.10//
CALSCALE:GREGORIAN
METHOD:PUBLISH
UID:df9f416f-23f0-464a-b7bb-1d5f4f73176d
X-WR-CALNAME:iCagenda
X-WR-CALDESC:Event Management Extension for Joomla!
X-WR-RELCALID:3E26604A-50F4-4449-8B3E-E4F4932D05B5
X-WR-TIMEZONE:America/Costa_Rica
BEGIN:VTIMEZONE
TZID:America/Costa_Rica
BEGIN:STANDARD
TZNAME:CST
DTSTART:20200106T060000
TZOFFSETFROM:+0000
TZOFFSETTO:-0600
END:STANDARD
END:VTIMEZONE
BEGIN:VEVENT
UID:bed684aa-12dc-441c-adf0-b55e22054835
DTSTAMP:20260419T234058Z
CATEGORIES:Mejores Prácticas Organizacionales
CLASS:PUBLIC
DESCRIPTION;ALTREP="CID:<FFFF__=0ABBE548DFE235B58f9e8a93d@coffeebean.com>":
 ¿Cómo organizar tu presentación oral?\nTe lo enseño el jueves 7 de octubre
  a las 10:00 a.m. hora de Costa Rica durante mi clase virtual gratuita.\nL
 os grandes líderes se lideran a sí mismos primero y cultivan su crecimient
 o personal y profesional día tras día. Lo hacen\, no porque crean que les 
 falta algo\, sino porque aman la expansión y permanecen en la mente del pr
 incipiante que permite ese crecimiento. Solo por eso...\n¿Te gustaría ser 
 parte de mi comunidad de aprendientes constantes?\nSi sos persona docentep
 ersona promotorapersona oradorapersona estudiantepersona ejecutivaEste cur
 so es para vos.\n \nLink Zoom:\nID de reunión: 823 7235 8512Código de acce
 so: 815498\n \nInscripciones a: info@cedeso.co.cr\nTeléfono: +506 2225-100
 7\n \n 
DTSTART:20211007T160000Z
DTEND:20211007T170000Z
GEO:00;0
LOCATION:Virtual por Zoom.
ORGANIZER;CN=:info@cedeso.co.cr
SEQUENCE:1
SUMMARY:Cómo organizar tu presentación oral
TRANSP:OPAQUE
URL:https://cedeso.co.cr/eventos-anteriores/492-c%C3%B3mo-organizar-tu-pres
 entaci%C3%B3n-oral
END:VEVENT
END:VCALENDAR
