BEGIN:VCALENDAR
VERSION:2.0
PRODID:-//Cedeso//NONSGML kigkonsult.se iCalcreator 2.30.10//
CALSCALE:GREGORIAN
METHOD:PUBLISH
UID:1e871959-777d-4329-9d7c-efb7dea126ee
X-WR-CALNAME:iCagenda
X-WR-CALDESC:Event Management Extension for Joomla!
X-WR-RELCALID:3E26604A-50F4-4449-8B3E-E4F4932D05B5
X-WR-TIMEZONE:America/Costa_Rica
BEGIN:VTIMEZONE
TZID:America/Costa_Rica
BEGIN:STANDARD
TZNAME:CST
DTSTART:20200209T060000
TZOFFSETFROM:+0000
TZOFFSETTO:-0600
END:STANDARD
END:VTIMEZONE
BEGIN:VEVENT
UID:46ec3998-b872-48f1-a34d-ad9bedf6576f
DTSTAMP:20260419T234507Z
CATEGORIES:Mejores Prácticas Organizacionales
CLASS:PUBLIC
DESCRIPTION;ALTREP="CID:<FFFF__=0ABBE548DFE235B58f9e8a93d@coffeebean.com>":
 Taller:\nPaso a paso cómo investigar las necesidades de capacitación (DNC)
 \nDirigido a: Gestores\, encargados y coordinadores de capacitación\, prof
 esionales en RR.HH.\, otros profesionales interesados en la óptima gestión
  del proceso.\nContenidos:1. Concepto y alcances de la DNC.2. Expectativas
  y necesidades en el 20213. Principales métodos de investigación a usar.4.
  La DNC por competencias.5. Paso a paso para llegar al Plan de Capacitació
 n.6. Matriz de requerimientos.\nEntregables: Formularios relativos al tema
 .\nFecha: 10 y 12 de noviembre del 2021.Horario: 8:30 a.m. a 12:00 m.d.Dur
 ación: 7 horas.Plataforma: Zoom. Inversión: ¢75.000 + 2% IVA por participa
 nte.Incluye: Material y certificado de participación.\nFacilitador: Lic. C
 arlos Solera Administrador de empresas con más de 30 años de experiencia e
 n la gestión de capacitación y desarrollo.Experiencia en Centroamérica\, E
 cuador y Colombia en organizaciones públicas\, privadas\, cooperativas y O
 NG’s.\nTodas nuestras capacitaciones pueden ser impartidas en su organizac
 ión\nInscripciones e información al e-mail info@cedeso.co.crTel: (506) 222
 5-1007 Fax: (506) 2253-2774Visite nuestra página www.cedeso.co.crfacebook.
 com/cedesocostarica
DTSTART:20211110T143000Z
DTEND:20211112T180000Z
GEO:00;0
LOCATION:Virtual por Zoom.
ORGANIZER;CN=:info@cedeso.co.cr
SEQUENCE:1
SUMMARY:Paso a paso cómo investigar las necesidades de capacitación (DNC)
TRANSP:OPAQUE
URL:https://cedeso.co.cr/eventos-anteriores/493-paso-a-paso-c%C3%B3mo-inves
 tigar-las-necesidades-de-capacitaci%C3%B3n-dnc
END:VEVENT
END:VCALENDAR
