BEGIN:VCALENDAR
VERSION:2.0
PRODID:-//Cedeso//NONSGML kigkonsult.se iCalcreator 2.30.10//
CALSCALE:GREGORIAN
METHOD:PUBLISH
UID:7f7fe4b9-c4c0-49e7-8342-3cf1d92a9a62
X-WR-CALNAME:iCagenda
X-WR-CALDESC:Event Management Extension for Joomla!
X-WR-RELCALID:3E26604A-50F4-4449-8B3E-E4F4932D05B5
X-WR-TIMEZONE:America/Costa_Rica
BEGIN:VTIMEZONE
TZID:America/Costa_Rica
BEGIN:STANDARD
TZNAME:CST
DTSTART:20200214T060000
TZOFFSETFROM:+0000
TZOFFSETTO:-0600
END:STANDARD
END:VTIMEZONE
BEGIN:VEVENT
UID:39ff9830-cd28-416a-aa76-48dba5e7fd4b
DTSTAMP:20260419T234206Z
CATEGORIES:Operaciones
CLASS:PUBLIC
DESCRIPTION;ALTREP="CID:<FFFF__=0ABBE548DFE235B58f9e8a93d@coffeebean.com>":
 Taller práctico:\nEl paso a paso para desarrollar un proceso de importació
 n\nObjetivo general:Brindar un apoyo integral a los interesados con el fin
  de optimizar sus operaciones de importación y exportación\, proporcionand
 o los conocimientos y ayuda necesaria para afrontar de forma exitosa su ne
 gocio\, bajo un marco preventivo que le garantice minimizar los riesgos qu
 e pueden impactar el desarrollo de sus operaciones aduaneras.\nDescripción
 :Cada vez son más las empresas que tras la necesidad de buscar nuevas alte
 rnativas de negocio\, proceden a llevar a cabo procesos de importación en 
 aras de buscar reducción de costos y poder competir en mercados cada vez m
 ás complejos. Al adquirir amplios conocimientos en materia de importación\
 , se pueden generar oportunidades de crecimiento para la empresa ya que se
  tendría la capacidad de desarrollar estrategias mediante la reducción de 
 costos logísticos\, esto mediante el conocimiento y desarrollo estratégico
  de procesos que puedan ajustarse más a la realidad operativa de la empres
 a y garantizar eficiencia\, efectividad y rentabilidad.\nDirigido a: Empre
 sarios\, emprendedores\, contadores\, encargados financieros\, encargados 
 de importaciones y exportaciones\, encargados de compras internacionales\,
  funcionarios públicos y privados\, empresas PYMES\, que deseen conocer lo
 s aspectos más relevantes del proceso de exportación e importación.\nTemar
 io:\nMódulo # 1\nGeneralidades de la importación.\nObjetivo:Identificar lo
 s factores claves que se deben tomar en cuenta antes de realizar un proces
 o de importación.\nTemario:• ¿Qué es una importación? • Condiciones que se
  deben tomar en cuenta previas a una importación. • Obligaciones que debe 
 cumplir la empresa importadora. • Documentos que se deben presentar para r
 ealizar una importación. • Errores comunes que se cometen al importar.• Qu
 é es una clasificación arancelaria y su importancia. • Medidas no arancela
 rias (notas técnicas).• Beneficios de los Tratados de Libre Comercio.• Tem
 as legales y fiscales que se deben conocer antes de importar\nFecha: 15 de
  noviembre del 2021.Horario: 8:30 a.m. a 12:30 m.d.Duración: 4 horas.Plata
 forma: Zoom.Inversión: ¢40.000 + 2% de IVA por participante.Incluye: Mater
 ial didáctico y certificado de participación en PDF.\nMódulo # 2\nNegociac
 ión internacional\nObjetivo:Analizar todos los aspectos que se deben tomar
  en cuenta al establecer una negociación con proveedores internacionales.
 \nTemario:• Contratos internacionales.• INCOTERMS 2020.• Formas y medios d
 e pago.\nFecha: 16 de noviembre del 2021.Horario: 8:30 a.m. a 12:30 m.d.Du
 ración: 4 horas.Plataforma: Zoom.Inversión: ¢40.000 + 2% de IVA por partic
 ipante.Incluye: Material didáctico y certificado de participación en PDF.
 \nMódulo # 3\nLogística y análisis de costos de importación.\nObjetivo:Eva
 luar la estrategia logística más idónea y los costos derivados del proceso
  de importación para una correcta toma de decisiones.\nTemario:• Proceso a
 duanero de importación para productos que se transportan marítimo\, aéreo\
 , terrestre y consolidado.• Costos logísticos y análisis de tarifas.• Cálc
 ulo de impuestos.• Desarrollo del costeo de importación.\nFecha: 22 de nov
 iembre del 2021.Horario: 8:30 a.m. a 12:30 m.d.Duración: 4 horas.Plataform
 a: Zoom.Inversión: ¢40.000 + 2% de IVA por participante.Incluye: Material 
 didáctico y certificado de participación en PDF.\nMódulo # 4\nAnálisis de 
 riesgo en la importación.\nObjetivo:Determinar los posibles riesgos que pu
 eden estar presentes en el proceso de importación y establecer las herrami
 entas que pueden prevenir estos riesgos.\nTemario:• Definición de riesgo• 
 Procesos para administrar el riesgo: Ciclo de Deming.• Análisis de riesgos
  en la importación y cómo prevenirlos.• Herramientas para análisis de ries
 gos.• Evaluación de proveedores internacionales.• Uso de los KPI’s (Key Pe
 rformance Indicators).• Elaboración de matriz de gestión de riesgos a nive
 l de procesos de importación.\nFecha: 23 de noviembre del 2021.Horario: 8:
 30 a.m. a 12:30 m.d.Duración: 4 horas.Plataforma: Zoom.Inversión: ¢40.000 
 + 2% de IVA por participante.Incluye: Material didáctico y certificado de 
 participación en PDF.\nCurse el taller completo por ¢145.000 + 2% de IVA p
 or participante o el módulo de su interés.\nFacilitadora: Licda. Yorleny J
 iménez RojasGraduada con honores de la Universidad de Costa Rica en la car
 rera de Administración Aduanera y Comercio Exterior. Certificada como espe
 cialista en Supply Chain de la Universidad de Nebrija en España.Actualment
 e consultora independiente con 20 años de experiencia en manejo y desarrol
 lo de procesos de internacionalización y logística especialmente para el s
 ector agrícola.Especialista en desarrollo de acompañamientos empresariales
  en temas de importación\, exportación\, logística internacional\, entre o
 tros.Profesora de la Universidad de Costa Rica\, Universidad FUNDEPOS y ca
 pacitadora activa en diferentes Cámaras que agremia exportadores\, importa
 dores\, empresas PYMES\, entidades estatales\, colegios profesionales\, en
 tre otros.\nTodas nuestras capacitaciones pueden ser impartidas en su orga
 nización\nInscripciones e información al e-mail info@cedeso.co.crTel: (506
 ) 2225-1007 · Tel/Fax: (506) 2253-2774Visite nuestra página www.cedeso.co.
 crfacebook.com/cedesocostarica
DTSTART:20211115T143000Z
DTEND:20211123T183000Z
GEO:00;0
LOCATION:virtual por Zoom.
ORGANIZER;CN=:info@cedeso.co.cr
SEQUENCE:1
SUMMARY:El paso a paso para desarrollar un proceso de importación
TRANSP:OPAQUE
URL:https://cedeso.co.cr/eventos-anteriores/494-el-paso-a-paso-para-desarro
 llar-un-proceso-de-importaci%C3%B3n
END:VEVENT
END:VCALENDAR
