BEGIN:VCALENDAR
VERSION:2.0
PRODID:-//Cedeso//NONSGML kigkonsult.se iCalcreator 2.30.10//
CALSCALE:GREGORIAN
METHOD:PUBLISH
UID:91e1d3a8-0e42-4c9d-968b-6a2b01faf1c9
X-WR-CALNAME:iCagenda
X-WR-CALDESC:Event Management Extension for Joomla!
X-WR-RELCALID:3E26604A-50F4-4449-8B3E-E4F4932D05B5
X-WR-TIMEZONE:America/Costa_Rica
BEGIN:VTIMEZONE
TZID:America/Costa_Rica
BEGIN:STANDARD
TZNAME:CST
DTSTART:20200229T060000
TZOFFSETFROM:+0000
TZOFFSETTO:-0600
END:STANDARD
END:VTIMEZONE
BEGIN:VEVENT
UID:2800e180-5e29-40a5-8e73-76332bde8686
DTSTAMP:20260419T233941Z
CATEGORIES:Mejores Prácticas Organizacionales
CLASS:PUBLIC
DESCRIPTION;ALTREP="CID:<FFFF__=0ABBE548DFE235B58f9e8a93d@coffeebean.com>":
 Taller:\nVolver a la presencialidad\nObjetivo: Explicar\, aplicar y apreci
 ar herramientas para el retorno al trabajo presencial y la gestión en el e
 ntorno híbrido en la nueva normalidad.\nTemario:• Diseño y comunicación de
  políticas de retorno a la oficina y 'trabajo híbrido': adaptando las mejo
 res prácticas a nuestro caso particular.• Modelos de trabajo híbrido: cinc
 o tipos y decisiones que cada organización debe tomar.• Aprendizajes\, rie
 sgos\, ganancias y dificultades del trabajo remoto:nuevas prácticas que se
  mantendrán.• Definiendo el escenario específico de la empresa en el retor
 no y los diferentes niveles de riesgo.• Test &amp\; Learn: manejo del mode
 lo de 'prueba y aprendizaje' para despegar en la nueva normalidad.• Antifr
 agilidad\, sistemas logísticos y liderazgo en el mundo BANI: sistemas de a
 poyo para la “cuarta pandemia”.• Liderazgo para el retorno a la oficina y 
 la planta: cinco claves del mindset que deben manejar los líderes.\nFecha:
  30 noviembre y 7 diciembre del 2021.Horario: 8:30 a.m. a 11:30 a.m.Duraci
 ón: 6 horas.Plataforma: Zoom.Inversión: ¢90.000 + 2% de IVA por participan
 te.Incluye: Material didáctico y certificado de participación en PDF.\nFac
 ilitador: Dr. Enrique Margery- Doctor en Educación y TEDx speaker.- Profes
 or de la Maestría en Psicología del Trabajo en la Universidad de Costa Ric
 a. Profesor invitado de la Universidad de Querétaro (UAQ\, México) y la Un
 iversidad UAGM (Puerto Rico).- Diseña capacitación para desarrollo de soft
  skills basado en aprendizaje por la experiencia\, GBL y “reto-aprendizaje
 ”.- Coach especialista en ciencia de la colaboración y manejo de top perfo
 rmers.- Diseña herramientas para medir el Sentido de Urgencia\, el “termóm
 etro de la colaboración” y la rentabilidad de la capacitación\, entre otro
 s.- Autor de los libros “Complejidad y Competencias”\, “Herramientas de Co
 aching”\, “El Viaje” (Editorial Norma\; uno de los primeros libros de psic
 ología positiva publicados) y 'Complejidad\, Transdisciplinariedad y Compe
 ntencias'\nTodas nuestras capacitaciones pueden ser impartidas en su organ
 ización\nInscripciones e Información al e-mail info@cedeso.co.crTel: (506)
  2225-1007 · Fax: (506) 2253-2774Visite nuestra página www.cedeso.co.crfac
 ebook.com/cedesocostarica
DTSTART:20211130T143000Z
DTEND:20211207T173000Z
GEO:00;0
LOCATION:Virtual por Zoom.
ORGANIZER;CN=:info@cedeso.co.cr
SEQUENCE:1
SUMMARY:Volver a la presencialidad
TRANSP:OPAQUE
URL:https://cedeso.co.cr/eventos-anteriores/497-volver-a-la-presencialidad
END:VEVENT
END:VCALENDAR
