BEGIN:VCALENDAR
VERSION:2.0
PRODID:-//Cedeso//NONSGML kigkonsult.se iCalcreator 2.30.10//
CALSCALE:GREGORIAN
METHOD:PUBLISH
UID:a0ea574d-9845-4e72-b6fa-149f8ead1077
X-WR-CALNAME:iCagenda
X-WR-CALDESC:Event Management Extension for Joomla!
X-WR-RELCALID:3E26604A-50F4-4449-8B3E-E4F4932D05B5
X-WR-TIMEZONE:America/Costa_Rica
BEGIN:VTIMEZONE
TZID:America/Costa_Rica
BEGIN:STANDARD
TZNAME:CST
DTSTART:20200217T060000
TZOFFSETFROM:+0000
TZOFFSETTO:-0600
END:STANDARD
END:VTIMEZONE
BEGIN:VEVENT
UID:1333218f-d41b-442c-8429-e36c71b0239b
DTSTAMP:20260420T010419Z
CATEGORIES:Mejores Prácticas Organizacionales
CLASS:PUBLIC
DESCRIPTION;ALTREP="CID:<FFFF__=0ABBE548DFE235B58f9e8a93d@coffeebean.com>":
 Taller:\nRedacción de informes técnicos\nObjetivo general:Transmitir técni
 cas efectivas a los participantes que les permitan expresarse por escrito 
 con eficacia\, objetividad\, coherencia\, precisión y claridad\, según la 
 situación comunicativa\, las finalidades y los destinatarios en un informe
  técnico.\nObjetivos específicos:1. Analizar la audiencia meta\, sus carac
 terísticas y las adecuaciones correspondientes según la situación comunica
 tiva.2. Reconocer las características del informe técnico: tipos\, partes 
 y funciones.3. Redactar objetivos claros\, medibles\, realizables y concis
 os.4. Conocer las normas textuales de coherencia\, cohesión\, informativid
 ad y situacionalidad\, y la importancia de usarla en favor de la comunicac
 ión eficaz.5. Segmentar las ideas en párrafos y con la ayuda de la puntuac
 ión adecuada.6. Utilizar los conectores discursivos como indicadores de la
  intención comunicativa del autor y como guías que faciliten la interpreta
 ción de las ideas expuestas.7. Manipular el léxico en respuesta a su mayor
  o menor informatividad y adecuación a los propósitos comunicativos.8. Pra
 cticar estrategias específicas para evitar los errores más comunes en la e
 scritura.\nDescripción y contenidos:\nEs común que\, en el ámbito laboral\
 , se nos exija redactar documentos técnicos\, pero no necesariamente nos h
 an enseñado cómo hacerlo. De ahí que se hallen grandes falencias en este t
 ipo de documentos.\nPor lo tanto\, se propone un taller de técnicas para e
 l desarrollo de la conciencia comunicativa dirigido a no especialistas\, c
 on respecto a las estrategias de producción textual más efectivas y con lo
 s siguientes contenidos teóricos de base:1. La eficacia comunicativa y las
  adecuaciones según la audiencia.2. Las características del informe técnic
 o: tipos de informes\, partes\, funciones.3. La redacción clara y coherent
 e de objetivos en un informe técnico.4. Las normas textuales de coherencia
 \, cohesión\, informatividad y situacionalidad (selección de información p
 ertinente y su procesamiento).5. La segmentación de ideas gracias al párra
 fo y a la puntuación adecuada.6. La conexión de las ideas a través de los 
 conectores o marcadores del discurso.7. La variedad y precisión léxica.8. 
 Los errores comunes en redacción y cómo evitarlos.\nAudiencia: Este curso 
 está dirigido a mandos altos\, medios y a todo aquel cuyo quehacer diario 
 implique una comunicación escrita profesional a través de informes técnico
 s\, cartas\, oficios\, correos electrónicos\, actas\, propuestas de servic
 ios\, etc.\nFecha: 18\, 19\, 25 y 26 de noviembre y 2 de diciembre del 202
 1.Horario: 8:30 a.m. a 11:30 a.m.Duración: 15 horas.Plataforma: Zoom.Inver
 sión: ¢150.000 + 2% de IVA por participante.Incluye: Material didáctico y 
 certificado de participación en PDF.\nFacilitadora:Karla Ramos es filóloga
  y magistra en lingüista graduada de la Universidad de Costa Rica en el 20
 15. Cuenta con amplia experiencia en didáctica de lenguas. Es\, además\, e
 mpresaria desde sus 23 años. Como filóloga suele hacer corrección de estil
 o de tesis\, de artículos académicos y de documentos empresariales. Gracia
 s a su experiencia en el mundo empresarial y en el mundo de las letras\, K
 arla ha constatado la oportunidad de impartir cursos de redacción moderna 
 para profesionales\, con el fin de que las personas se empoderen\, logren 
 sus metas profesionales y comuniquen de manera más confiable\, efectiva y 
 precisa en sus escritos diarios.\nSus cursos de redacción son reconocidos 
 por ser abordados desde una perspectiva de la lingüística textual y no des
 de la gramática normativa. Esto los hace únicos en el país. Sus cursos han
  llegado a empresas privadas como Metalco\, Grupo Q\, CIDI\, Cámara de Com
 ercio\, Cámara de Industrias\, e instituciones públicas de Costa Rica como
  el INS\, el MEP\, la Asamblea Legislativa y la Imprenta Nacional.\nKarla 
 cuenta con experiencia en la enseñanza virtual desde 2010 en que inició a 
 impartir clases de francés a niños cuando tuvo su centro de enseñanza de i
 diomas para niños Global Kids. En la actualidad\, además de las clases vir
 tuales de francés para niños y adultos\, también se suman los cursos de re
 dacción que imparte con la Cámara de Comercio de Costa Rica.
DTSTART:20211118T142700Z
DTEND:20211202T173000Z
GEO:00;0
LOCATION:virual por Zoom.
ORGANIZER;CN=:info@cedeso.co.cr
SEQUENCE:1
SUMMARY:Redacción de informes técnicos
TRANSP:OPAQUE
URL:https://cedeso.co.cr/eventos-anteriores/499-redacci%C3%B3n-de-informes-
 t%C3%A9cnicos
END:VEVENT
END:VCALENDAR
