BEGIN:VCALENDAR
VERSION:2.0
PRODID:-//Cedeso//NONSGML kigkonsult.se iCalcreator 2.30.10//
CALSCALE:GREGORIAN
METHOD:PUBLISH
UID:56a6e3a9-eb09-4ce0-b683-03c8a8d0a3d1
X-WR-CALNAME:iCagenda
X-WR-CALDESC:Event Management Extension for Joomla!
X-WR-RELCALID:3E26604A-50F4-4449-8B3E-E4F4932D05B5
X-WR-TIMEZONE:America/Costa_Rica
BEGIN:VTIMEZONE
TZID:America/Costa_Rica
BEGIN:STANDARD
TZNAME:CST
DTSTART:20200614T060000
TZOFFSETFROM:+0000
TZOFFSETTO:-0600
END:STANDARD
END:VTIMEZONE
BEGIN:VEVENT
UID:11d51162-6e92-4848-afab-c5921470bdee
DTSTAMP:20260419T220807Z
CATEGORIES:Mejores Prácticas Organizacionales
CLASS:PUBLIC
DESCRIPTION;ALTREP="CID:<FFFF__=0ABBE548DFE235B58f9e8a93d@coffeebean.com>":
 Taller:\nManejo de personal para mandos medios y encargados\nDirigido a:Em
 prendedores\, supervisores\, encargados\, recursos humanos y todas aquella
 s personas responsables de equipos de trabajo.\nObjetivos:- Comunicar bien
  para dirigir mejor al personal.- Elevar el compromiso de su equipo.- Proy
 ectar presencia de liderazgo en la organización.- Más velocidad para alcan
 zar metas grupales.\nContenidos:Administración por valores- Liderazgo resp
 onsable\, la dinámica eficaz.- Presencia de liderazgo (resentimiento o mie
 do).- Equilibrio de roles para un legado ejecutivo.\nDirección de personal
 - Niveles de madurez de los puestos\, como guiarlos.- Comportamiento direc
 tivo y personas.- Desarrollando el equipo\, técnicas infalibles.\nHabilida
 des suaves del liderazgo efectivo- La comunicación correcta para lograr ac
 uerdos.- Cuatro tácticas del mentor experto.- Superación de pequeños confl
 ictos\, el método.\nFechas: 16 y 17 de marzo del 2022.Horario: 8:00 a.m. a
  12:00 m.d.Duración: 8 horas.Plataforma: Zoom.Inversión: ¢95.000 + 2% de I
 VA por participante.Incluye: Material y certificado de participación en PD
 F.\nFacilitador: Joel Maldonado RodríguezEgresado de la Universidad Carabo
 bo Venezuela: conferencista experimentado y facilitador de cursos Direcció
 n de Personal y Liderazgo\, Ventas\, Servicio al Cliente y Desarrollo Orga
 nizacional. Ha diseñado programas de capacitación para empresas\, basado e
 n técnicas funcionales y de aplicación inmediata. Personalmente ha entrena
 do a más de 15.000 personas en México\, Venezuela\, Colombia\, Costa Rica\
 , Panamá\, República Dominicana\, Salvador y Nicaragua con resultados comp
 robados. Creador del Modelo para un Entorno Laboral Feliz y Productivo.\nT
 odas nuestras capacitaciones pueden ser impartidas en su organización\nIns
 cripciones e información al e-mail info@cedeso.co.crTel: (506) 2225-1007 /
  Fax: (506) 2253-2774 Visite nuestra página www.cedeso.co.crfacebook.com/c
 edesocostarica
DTSTART:20220316T140000Z
DTEND:20220317T180000Z
GEO:00;0
LOCATION:Virtual por Zoom.
ORGANIZER;CN=:info@cedeso.co.cr
SEQUENCE:1
SUMMARY:Manejo de personal para mandos medios y encargados
TRANSP:OPAQUE
URL:https://cedeso.co.cr/eventos-anteriores/509-manejo-de-personal-para-man
 dos-medios-y-encargados
END:VEVENT
END:VCALENDAR
