BEGIN:VCALENDAR
VERSION:2.0
PRODID:-//Cedeso//NONSGML kigkonsult.se iCalcreator 2.30.10//
CALSCALE:GREGORIAN
METHOD:PUBLISH
UID:e0107a42-5f6b-43b1-bda7-0ba17052dec3
X-WR-CALNAME:iCagenda
X-WR-CALDESC:Event Management Extension for Joomla!
X-WR-RELCALID:3E26604A-50F4-4449-8B3E-E4F4932D05B5
X-WR-TIMEZONE:America/Costa_Rica
BEGIN:VTIMEZONE
TZID:America/Costa_Rica
BEGIN:STANDARD
TZNAME:CST
DTSTART:20161017T060000
TZOFFSETFROM:+0000
TZOFFSETTO:-0600
END:STANDARD
END:VTIMEZONE
BEGIN:VEVENT
UID:03fc1549-b0b7-4805-8c52-0bb30a6d5197
DTSTAMP:20260421T083528Z
CATEGORIES:Compensaciones y beneficios
CLASS:PUBLIC
DESCRIPTION;ALTREP="CID:<FFFF__=0ABBE548DFE235B58f9e8a93d@coffeebean.com>":
 Taller:\nIncorporación del juego en los procesos de capacitación(Gamificac
 ión del aprendizaje)\nEl juego al servicio de los procesos de capacitación
 \nDirigido a: Encargados de capacitación\, facilitadores\, personal de rec
 ursos humanos y personas responsables de la formación de formadores.\nCont
 enidos:Gamificación: su impacto en el aprendizaje y el fortalecimiento de 
 habilidades en los equipos de trabajo. Objetivos\, relación con contenidos
  e impacto del uso de dinámicas en los procesos de capacitación.La tecnolo
 gía al servicio de la gamificación.¿Cómo construir o adaptar dinámicas par
 a objetivos específicos?El papel del facilitador en el impacto de la dinám
 ica.Tool Kit de juegos y dinámicas para los procesos de capacitación en la
 s empresas.• Juegos de animación\, motivación y rompimiento de hielo.• Jue
 gos para trabajar contenidos temáticos y promover el aprendizaje.• Juegos 
 para el fortalecimiento de habilidades: comunicación\, resolución de confl
 ictos\, trabajo en equipo\, trust building\, entre otras.\nMetodología:El 
 taller se desarrolla de forma 100% práctica\, se entrega material para la 
 reproducción y adaptación de cada dinámica a las necesidades particulares 
 de cada participante.*Se requiere ropa cómoda.\nObjetivo:Este taller dotar
 á a las personas participantes del conocimiento y práctica de una serie de
  dinámicas y juegos que buscan impactar positivamente los procesos de capa
 citación en el ámbito laboral. Cada participante recibirá un Tool kit con 
 material innovador que podrá adaptar a los principales procesos formativos
  de la organización en la que trabaja.\nFecha: 19 y 20 de julio del 2018.H
 orario: 8:00 a.m. a 5:00 p.m.Duración: 16 horas.Lugar: Hotel Balmoral\, Sa
 n José.Inversión: ¢145.000 por participante.Incluye: Alimentación\, materi
 al didáctico y certificado de participación.\nFacilitadora: Licda. Gina Se
 queira\, psicóloga certificada en Business Coaching\, con más de 15 años d
 e experiencia en el diseño de procesos de capacitación vinculados al desar
 rollo de habilidades blandas y el fortalecimiento de equipos de alto desem
 peño.\nTodas nuestras capacitaciones pueden ser impartidas en su organizac
 ión\nInscripciones e información al e-mail info@cedeso.co.crTel: (506) 222
 5-1007 / Fax: (506) 2253-2774 Visite nuestra página www.cedeso.co.crfacebo
 ok.com/cedesocostarica
DTSTART:20180719T140000Z
DTEND:20180720T230000Z
GEO:+09.933701;-84.075165
LOCATION:Hotel Balmoral\, San José
ORGANIZER;CN=:info@cedeso.co.cr
SEQUENCE:1
SUMMARY:Incorporación del juego en los procesos de capacitación (Gamificaci
 ón del aprendizaje)
TRANSP:OPAQUE
URL:https://cedeso.co.cr/eventos-anteriores/51-incorporaci%C3%B3n-del-juego
 -en-los-procesos-de-capacitaci%C3%B3n-gamificaci%C3%B3n-del-aprendizaje
END:VEVENT
END:VCALENDAR
