BEGIN:VCALENDAR
VERSION:2.0
PRODID:-//Cedeso//NONSGML kigkonsult.se iCalcreator 2.30.10//
CALSCALE:GREGORIAN
METHOD:PUBLISH
UID:0e17eb50-dedb-4e3c-bca7-ee56ad34839d
X-WR-CALNAME:iCagenda
X-WR-CALDESC:Event Management Extension for Joomla!
X-WR-RELCALID:3E26604A-50F4-4449-8B3E-E4F4932D05B5
X-WR-TIMEZONE:America/Costa_Rica
BEGIN:VTIMEZONE
TZID:America/Costa_Rica
BEGIN:STANDARD
TZNAME:CST
DTSTART:20200426T060000
TZOFFSETFROM:+0000
TZOFFSETTO:-0600
END:STANDARD
END:VTIMEZONE
BEGIN:VEVENT
UID:69c4eb67-d561-4929-b513-911eeb0d8563
DTSTAMP:20260419T232701Z
CATEGORIES:Mejores Prácticas Organizacionales
CLASS:PUBLIC
DESCRIPTION;ALTREP="CID:<FFFF__=0ABBE548DFE235B58f9e8a93d@coffeebean.com>":
 Taller:\nPresentaciones efectivas con DATAStorytelling\nObjetivo orientati
 vo: las y los participantes serán capaces de explicar\, aplicar y apreciar
  la estructura del diseño de narrativas de empresa con base en datos.\nCon
 tenidos:• La andragogía que explica el Storytelling: ¿Qué es y cómo se apl
 ica? Destreza comunicativa en el liderazgo y capacidad de construir y comu
 nicar historias empresariales.• La neurociencia del Storytelling: modelos 
 PEA y el potencial del storytelling.• Trabajo con pizarra colaborativa y r
 evisión de materiales de presentaciones efectivas.• Emocionar con datos: e
 lementos esenciales de la mediación con datos. Caso I: “Métricas en acción
 ”. Tres condiciones esenciales para emocionar con datos.• La estructura de
 l DataStorytelling. Caso II: “El équipo ágil”.• Ejercicio de diseño colabo
 rativo de DataStorytelling.\nFecha: 26 enero y 2 febrero del 2022.Horario:
  8:30 a.m. a 11:30 a.m.Duración: 6 horas.Plataforma: Zoom.Inversión: ¢90.0
 00 + 2% de IVA por participante.Incluye: Material didáctico y certificado 
 de participación en PDF.\nFacilitador: Dr. Enrique Margery- Doctor en Educ
 ación y TEDx speaker.- Profesor de la Maestría en Psicología del Trabajo e
 n la Universidad de Costa Rica. Profesor invitado de la Universidad de Que
 rétaro (UAQ\, México) y la Universidad UAGM (Puerto Rico).- Diseña capacit
 ación para desarrollo de soft skills basado en aprendizaje por la experien
 cia\, GBL y “reto-aprendizaje”.- Coach especialista en ciencia de la colab
 oración y manejo de top performers.- Diseña herramientas para medir el Sen
 tido de Urgencia\, el “termómetro de la colaboración” y la rentabilidad de
  la capacitación\, entre otros.- Autor de los libros “Complejidad y Compet
 encias”\, “Herramientas de Coaching”\, “El Viaje” (Editorial Norma\; uno d
 e los primeros libros de psicología positiva publicados) y 'Complejidad\, 
 Transdisciplinariedad y Compentencias'\nTodas nuestras capacitaciones pued
 en ser impartidas en su organización\nInscripciones e Información al e-mai
 l info@cedeso.co.crTel: (506) 2225-1007 · Fax: (506) 2253-2774Visite nuest
 ra página www.cedeso.co.crfacebook.com/cedesocostarica
DTSTART:20220126T143000Z
DTEND:20220202T173000Z
GEO:00;0
LOCATION:Virtual por Zoom.
ORGANIZER;CN=:info@cedeso.co.cr
SEQUENCE:1
SUMMARY:Presentaciones efectivas con DATAStorytelling
TRANSP:OPAQUE
URL:https://cedeso.co.cr/eventos-anteriores/516-presentaciones-efectivas-co
 n-datastorytelling
END:VEVENT
END:VCALENDAR
