BEGIN:VCALENDAR
VERSION:2.0
PRODID:-//Cedeso//NONSGML kigkonsult.se iCalcreator 2.30.10//
CALSCALE:GREGORIAN
METHOD:PUBLISH
UID:228e7f7c-18f4-4610-9439-3e7223634af7
X-WR-CALNAME:iCagenda
X-WR-CALDESC:Event Management Extension for Joomla!
X-WR-RELCALID:3E26604A-50F4-4449-8B3E-E4F4932D05B5
X-WR-TIMEZONE:America/Costa_Rica
BEGIN:VTIMEZONE
TZID:America/Costa_Rica
BEGIN:STANDARD
TZNAME:CST
DTSTART:20200525T060000
TZOFFSETFROM:+0000
TZOFFSETTO:-0600
END:STANDARD
END:VTIMEZONE
BEGIN:VEVENT
UID:2e10c292-5e08-4db6-9a1b-dee70c4f6336
DTSTAMP:20260419T220542Z
CATEGORIES:Mejores Prácticas Organizacionales
CLASS:PUBLIC
DESCRIPTION;ALTREP="CID:<FFFF__=0ABBE548DFE235B58f9e8a93d@coffeebean.com>":
 Taller:\nPrimeros auxilios psicológicos para managers (liderando el talent
 o en tiempos difíciles)\nObjetivo orientativo: las y los participantes ser
 án capaces de explicar\, aplicar y apreciar herramientas esenciales para d
 ar apoyo a personas y equipos en tiempos difíciles.\nTemario: • Buenas y m
 alas prácticas: ¿Qué tipo de escucha y apoyo debemos dar a los colaborador
 es? y ¿Cuáles son las condiciones específicas en el contexto empresarial? 
 • Assessment inicial y aplicación del protocolo PARE. • Reglas de escucha 
 efectiva (qué hacer y qué no hacer) y grounding. • Herramientas psicoeduca
 tivas y tres estrategias de “trabajo en el pensamiento” para managers. • H
 acia una pedagogía de la compasión y el apoyo fuera del contexto terapéuti
 co. Compasión hacia otros\, desde otros y trabajo con autoafirmaciones par
 a el growth mindset.\nFecha: 24 de febrero y 3 de marzo del 2022.Horario: 
 8:30 a.m. a 11:30 a.m.Duración: 6 horas.Plataforma: Zoom.Inversión: ¢90.00
 0 + 2% de IVA por participante.Incluye: Material didáctico y certificado d
 e participación en PDF.\nFacilitador: Dr. Enrique Margery- Doctor en Educa
 ción y TEDx speaker.- Profesor de la Maestría en Psicología del Trabajo en
  la Universidad de Costa Rica. Profesor invitado de la Universidad de Quer
 étaro (UAQ\, México) y la Universidad UAGM (Puerto Rico).- Diseña capacita
 ción para desarrollo de soft skills basado en aprendizaje por la experienc
 ia\, GBL y “reto-aprendizaje”.- Coach especialista en ciencia de la colabo
 ración y manejo de top performers.- Diseña herramientas para medir el Sent
 ido de Urgencia\, el “termómetro de la colaboración” y la rentabilidad de 
 la capacitación\, entre otros.- Autor de los libros “Complejidad y Compete
 ncias”\, “Herramientas de Coaching”\, “El Viaje” (Editorial Norma\; uno de
  los primeros libros de psicología positiva publicados) y 'Complejidad\, T
 ransdisciplinariedad y Compentencias'\nTodas nuestras capacitaciones puede
 n ser impartidas en su organización\nInscripciones e Información al e-mail
  info@cedeso.co.crTel: (506) 2225-1007 · Fax: (506) 2253-2774Visite nuestr
 a página www.cedeso.co.crfacebook.com/cedesocostarica
DTSTART:20220224T143000Z
DTEND:20220303T173000Z
GEO:00;0
LOCATION:Virtual por Zoom.
ORGANIZER;CN=:info@cedeso.co.cr
SEQUENCE:1
SUMMARY:Primeros auxilios psicológicos para managers
TRANSP:OPAQUE
URL:https://cedeso.co.cr/eventos-anteriores/517-primeros-auxilios-psicol%C3
 %B3gicos-para-managers
END:VEVENT
END:VCALENDAR
