BEGIN:VCALENDAR
VERSION:2.0
PRODID:-//Cedeso//NONSGML kigkonsult.se iCalcreator 2.30.10//
CALSCALE:GREGORIAN
METHOD:PUBLISH
UID:53274458-637e-4e2c-8389-0be53d922241
X-WR-CALNAME:iCagenda
X-WR-CALDESC:Event Management Extension for Joomla!
X-WR-RELCALID:3E26604A-50F4-4449-8B3E-E4F4932D05B5
X-WR-TIMEZONE:America/Costa_Rica
BEGIN:VTIMEZONE
TZID:America/Costa_Rica
BEGIN:STANDARD
TZNAME:CST
DTSTART:20200411T060000
TZOFFSETFROM:+0000
TZOFFSETTO:-0600
END:STANDARD
END:VTIMEZONE
BEGIN:VEVENT
UID:8e44b28f-a52d-4b6e-966d-cf061ff2c8b4
DTSTAMP:20260419T232854Z
CATEGORIES:Mejores Prácticas Organizacionales
CLASS:PUBLIC
DESCRIPTION;ALTREP="CID:<FFFF__=0ABBE548DFE235B58f9e8a93d@coffeebean.com>":
 Webinar gratuito\n¡El flash de enero!\n1 hora 'a lo que vinimos': 45 minut
 os de expo y 15 minutos de preguntas.\nFecha: 11 de enero 2022Hora: 10:00 
 a.m.Duración: 1 hora\nLos temas...\n1. DataStorytelling: el equipo ágil y 
 cómo aceleraron tres procesos.2. De la estrategia a la acción: 5 reglas pa
 ra fortalecer la ejecución.3. Reinventando el liderazgo: 'trabajo en el pe
 nsamiento' en tiempos difíciles.\nConéctese por facebook y youtube\n¡Train
 ing para la nueva normalidad!\nRegístrate en info@cedeso.co.crTel: +506 22
 25-1007
DTSTART:20220111T160000Z
DTEND:20220111T160000Z
GEO:00;0
LOCATION:Virtual por Zoom.
ORGANIZER;CN=:info@cedeso.co.cr
SEQUENCE:1
SUMMARY:¡El flash de enero!
TRANSP:OPAQUE
URL:https://cedeso.co.cr/eventos-anteriores/518-%C2%A1el-flash-de-enero
END:VEVENT
END:VCALENDAR
