BEGIN:VCALENDAR
VERSION:2.0
PRODID:-//Cedeso//NONSGML kigkonsult.se iCalcreator 2.30.10//
CALSCALE:GREGORIAN
METHOD:PUBLISH
UID:f542f36c-1686-4652-8ce1-d19e21e1fd88
X-WR-CALNAME:iCagenda
X-WR-CALDESC:Event Management Extension for Joomla!
X-WR-RELCALID:3E26604A-50F4-4449-8B3E-E4F4932D05B5
X-WR-TIMEZONE:America/Costa_Rica
BEGIN:VTIMEZONE
TZID:America/Costa_Rica
BEGIN:STANDARD
TZNAME:CST
DTSTART:20200523T060000
TZOFFSETFROM:+0000
TZOFFSETTO:-0600
END:STANDARD
END:VTIMEZONE
BEGIN:VEVENT
UID:444f0b1d-8b55-4108-ab89-29a6d24c0548
DTSTAMP:20260419T234905Z
CATEGORIES:Mejores Prácticas Organizacionales
CLASS:PUBLIC
DESCRIPTION;ALTREP="CID:<FFFF__=0ABBE548DFE235B58f9e8a93d@coffeebean.com>":
 Taller:\nOrientación a resultados y capacidad de ejecución en tiempos difí
 ciles\nObjetivo orientativo: las y los participantes serán capaces de expl
 icar\, aplicar y apreciar herramientas esenciales para aplicar la competen
 cia de orientación a resultados y el liderazgo en la ejecución.\nContenido
 s:• Obstáculos culturales al desempeño: baja asertividad y manejo de métri
 cas.• La competencia “Orientación a Resultados”: niveles\, 3 dimensiones p
 ara su desarrollo (brechas\, retos y riesgos) y trabajo con modelo de apre
 ndizaje intencionado con los participantes (actividades de aprendizaje por
  la experiencia\, autocoaching y guías para la acción).• Liderazgo en la e
 jecución: dos malas prácticas que explican la dificultad para producir res
 ultados y tres reglas para operar con equipos (ágiles) orientados a result
 ados.• El Sentido de Urgencia: comportamientos facilitadores y obstaculiza
 dores de la capacidad de priorizar\, cumplir promesas\, actuar con tenacid
 ad y agilidad.• Priorización y enfoque: herramientas de concentración en l
 a tarea\, manejo del “no”\, técnicas pomodoro y fibonacci.• Autoevaluación
  del sentido de urgencia para cada participante.\nFecha: 22 y 23 de febrer
 o del 2022Horario: 8:30 a.m. a 11:30 a.m.Duración: 6 horas.Plataforma: Zoo
 m.Inversión: ¢90.000 + 2% de IVA por participante.Incluye: Material didáct
 ico y certificado de participación en PDF.\nFacilitador: Dr. Enrique Marge
 ry- Doctor en Educación y TEDx speaker.- Profesor de la Maestría en Psicol
 ogía del Trabajo en la Universidad de Costa Rica. Profesor invitado de la 
 Universidad de Querétaro (UAQ\, México) y la Universidad UAGM (Puerto Rico
 ).- Diseña capacitación para desarrollo de soft skills basado en aprendiza
 je por la experiencia\, GBL y “reto-aprendizaje”.- Coach especialista en c
 iencia de la colaboración y manejo de top performers.- Diseña herramientas
  para medir el Sentido de Urgencia\, el “termómetro de la colaboración” y 
 la rentabilidad de la capacitación\, entre otros.- Autor de los libros “Co
 mplejidad y Competencias”\, “Herramientas de Coaching”\, “El Viaje” (Edito
 rial Norma\; uno de los primeros libros de psicología positiva publicados)
  y 'Complejidad\, Transdisciplinariedad y Compentencias'\nTodas nuestras c
 apacitaciones pueden ser impartidas en su organización\nInscripciones e In
 formación al e-mail info@cedeso.co.crTel: (506) 2225-1007 · Fax: (506) 225
 3-2774Visite nuestra página www.cedeso.co.crfacebook.com/cedesocostarica
DTSTART:20220222T143000Z
DTEND:20220223T173000Z
GEO:00;0
LOCATION:Virtual por Zoom.
ORGANIZER;CN=:info@cedeso.co.cr
SEQUENCE:1
SUMMARY:Orientación a resultados y capacidad de ejecución en tiempos difíci
 les
TRANSP:OPAQUE
URL:https://cedeso.co.cr/eventos-anteriores/519-orientaci%C3%B3n-a-resultad
 os-y-capacidad-de-ejecuci%C3%B3n-en-tiempos-dif%C3%ADciles
END:VEVENT
END:VCALENDAR
