BEGIN:VCALENDAR
VERSION:2.0
PRODID:-//Cedeso//NONSGML kigkonsult.se iCalcreator 2.30.10//
CALSCALE:GREGORIAN
METHOD:PUBLISH
UID:485d7848-acd0-4fc2-bb21-afe99845e73c
X-WR-CALNAME:iCagenda
X-WR-CALDESC:Event Management Extension for Joomla!
X-WR-RELCALID:3E26604A-50F4-4449-8B3E-E4F4932D05B5
X-WR-TIMEZONE:America/Costa_Rica
BEGIN:VTIMEZONE
TZID:America/Costa_Rica
BEGIN:STANDARD
TZNAME:CST
DTSTART:20200523T060000
TZOFFSETFROM:+0000
TZOFFSETTO:-0600
END:STANDARD
END:VTIMEZONE
BEGIN:VEVENT
UID:bfcb77cd-eec9-484d-b97b-1a5264288b71
DTSTAMP:20260419T233427Z
CATEGORIES:Mejores Prácticas Organizacionales
CLASS:PUBLIC
DESCRIPTION;ALTREP="CID:<FFFF__=0ABBE548DFE235B58f9e8a93d@coffeebean.com>":
 Taller:\nRedacción de informes técnicos\n \nObjetivo general:Transmitir té
 cnicas efectivas a los participantes que les permitan expresarse por escri
 to con eficacia\, objetividad\, coherencia\, precisión y claridad\, según 
 la situación comunicativa\, las finalidades y los destinatarios en un info
 rme técnico.\nObjetivos específicos:1. Analizar la audiencia meta\, sus ca
 racterísticas y las adecuaciones correspondientes según la situación comun
 icativa.2. Reconocer las características del informe técnico: tipos\, part
 es y funciones.3. Redactar objetivos claros\, medibles\, realizables y con
 cisos.4. Conocer las normas textuales de coherencia\, cohesión\, informati
 vidad y situacionalidad\, y la importancia de usarla en favor de la comuni
 cación eficaz.5. Segmentar las ideas en párrafos y con la ayuda de la punt
 uación adecuada.6. Utilizar los conectores discursivos como indicadores de
  la intención comunicativa del autor y como guías que faciliten la interpr
 etación de las ideas expuestas.7. Manipular el léxico en respuesta a su ma
 yor o menor informatividad y adecuación a los propósitos comunicativos.8. 
 Practicar estrategias específicas para evitar los errores más comunes en l
 a escritura.\nDescripción y contenidos:\nEs común que\, en el ámbito labor
 al\, se nos exija redactar documentos técnicos\, pero no necesariamente no
 s han enseñado cómo hacerlo. De ahí que se hallen grandes falencias en est
 e tipo de documentos.\nPor lo tanto\, se propone un taller de técnicas par
 a el desarrollo de la conciencia comunicativa dirigido a no especialistas\
 , con respecto a las estrategias de producción textual más efectivas y con
  los siguientes contenidos teóricos de base:1. La eficacia comunicativa y 
 las adecuaciones según la audiencia.2. Las características del informe téc
 nico: tipos de informes\, partes\, funciones.3. La redacción clara y coher
 ente de objetivos en un informe técnico.4. Las normas textuales de coheren
 cia\, cohesión\, informatividad y situacionalidad (selección de informació
 n pertinente y su procesamiento).5. La segmentación de ideas gracias al pá
 rrafo y a la puntuación adecuada.6. La conexión de las ideas a través de l
 os conectores o marcadores del discurso.7. La variedad y precisión léxica.
 8. Los errores comunes en redacción y cómo evitarlos.\nAudiencia: Este cur
 so está dirigido a mandos altos\, medios y a todo aquel cuyo quehacer diar
 io implique una comunicación escrita profesional a través de informes técn
 icos\, cartas\, oficios\, correos electrónicos\, actas\, propuestas de ser
 vicios\, etc.\nFecha: 22 y 24 de febrero y 1\, 3 y 8 de marzo del 2022.Hor
 ario: 8:30 a.m. a 11:30 a.m.Duración: 15 horas.Plataforma: Zoom.Inversión:
  ¢150.000 + 2% de IVA por participante.Incluye: Material didáctico y certi
 ficado de participación en PDF.\nFacilitadora:Karla Ramos es filóloga y ma
 gistra en lingüista graduada de la Universidad de Costa Rica en el 2015. C
 uenta con amplia experiencia en didáctica de lenguas. Es\, además\, empres
 aria desde sus 23 años. Como filóloga suele hacer corrección de estilo de 
 tesis\, de artículos académicos y de documentos empresariales. Gracias a s
 u experiencia en el mundo empresarial y en el mundo de las letras\, Karla 
 ha constatado la oportunidad de impartir cursos de redacción moderna para 
 profesionales\, con el fin de que las personas se empoderen\, logren sus m
 etas profesionales y comuniquen de manera más confiable\, efectiva y preci
 sa en sus escritos diarios.\nSus cursos de redacción son reconocidos por s
 er abordados desde una perspectiva de la lingüística textual y no desde la
  gramática normativa. Esto los hace únicos en el país. Sus cursos han lleg
 ado a empresas privadas como Metalco\, Grupo Q\, CIDI\, Cámara de Comercio
 \, Cámara de Industrias\, e instituciones públicas de Costa Rica como el I
 NS\, el MEP\, la Asamblea Legislativa y la Imprenta Nacional.\nKarla cuent
 a con experiencia en la enseñanza virtual desde 2010 en que inició a impar
 tir clases de francés a niños cuando tuvo su centro de enseñanza de idioma
 s para niños Global Kids. En la actualidad\, además de las clases virtuale
 s de francés para niños y adultos\, también se suman los cursos de redacci
 ón que imparte con la Cámara de Comercio de Costa Rica.\nTodas nuestras ca
 pacitaciones pueden ser impartidas en su organización\nInscripciones e Inf
 ormación al e-mail info@cedeso.co.crTel: (506) 2225-1007 · Fax: (506) 2253
 -2774Visite nuestra página www.cedeso.co.crfacebook.com/cedesocostarica
DTSTART:20220222T143000Z
DTEND:20220308T173000Z
GEO:00;0
LOCATION:Virtual por Zoom
ORGANIZER;CN=:info@cedeso.co.cr
SEQUENCE:1
SUMMARY:Redacción de informes técnicos
TRANSP:OPAQUE
URL:https://cedeso.co.cr/eventos-anteriores/524-redacci%C3%B3n-de-informes-
 t%C3%A9cnicos
END:VEVENT
END:VCALENDAR
