BEGIN:VCALENDAR
VERSION:2.0
PRODID:-//Cedeso//NONSGML kigkonsult.se iCalcreator 2.30.10//
CALSCALE:GREGORIAN
METHOD:PUBLISH
UID:78be2997-203b-4acd-b4a7-dc968c37c4e5
X-WR-CALNAME:iCagenda
X-WR-CALDESC:Event Management Extension for Joomla!
X-WR-RELCALID:3E26604A-50F4-4449-8B3E-E4F4932D05B5
X-WR-TIMEZONE:America/Costa_Rica
BEGIN:VTIMEZONE
TZID:America/Costa_Rica
BEGIN:STANDARD
TZNAME:CST
DTSTART:20200512T060000
TZOFFSETFROM:+0000
TZOFFSETTO:-0600
END:STANDARD
END:VTIMEZONE
BEGIN:VEVENT
UID:73c8f7f9-7c3b-498e-938d-ecb86f14bebf
DTSTAMP:20260421T082718Z
CATEGORIES:Mejores Prácticas Organizacionales
CLASS:PUBLIC
DESCRIPTION;ALTREP="CID:<FFFF__=0ABBE548DFE235B58f9e8a93d@coffeebean.com>":
 El flash de febrero\nFecha: 10 de febrero 2022Hora: 7:00 p.m.Duración: 1 h
 oraInversión: ¡Gratis!\nLos temas...1. Necesidades de capacitación: ¡DNC p
 or evidencias!2. Talento ágil: los cuatro roles que jugamos en los equipos
 \, con ejercicio de autoevaluación.3. Modelo PEA ¡3 en 1!: neurociencia de
 l coaching\, storytelling avanzado y enfoque en capacidades.\nInscripcione
 s a:info@cedeso.co.cr
DTSTART:20220211T010000Z
DTEND:20220211T020000Z
GEO:00;0
LOCATION:Virtual por Zoom.
ORGANIZER;CN=:info@cedeso.co.cr
SEQUENCE:1
SUMMARY:El flash de febrero
TRANSP:OPAQUE
URL:https://cedeso.co.cr/eventos-anteriores/526-el-flash-de-febrero
END:VEVENT
END:VCALENDAR
