BEGIN:VCALENDAR
VERSION:2.0
PRODID:-//Cedeso//NONSGML kigkonsult.se iCalcreator 2.30.10//
CALSCALE:GREGORIAN
METHOD:PUBLISH
UID:9fa1f264-c3c5-4b27-9108-35be7a9b6b90
X-WR-CALNAME:iCagenda
X-WR-CALDESC:Event Management Extension for Joomla!
X-WR-RELCALID:3E26604A-50F4-4449-8B3E-E4F4932D05B5
X-WR-TIMEZONE:America/Costa_Rica
BEGIN:VTIMEZONE
TZID:America/Costa_Rica
BEGIN:STANDARD
TZNAME:CST
DTSTART:20161024T060000
TZOFFSETFROM:+0000
TZOFFSETTO:-0600
END:STANDARD
END:VTIMEZONE
BEGIN:VEVENT
UID:bf9f0dd3-a6fa-4f64-b1eb-837a38f0ddd9
DTSTAMP:20260421T083236Z
CATEGORIES:Compensaciones y beneficios
CLASS:PUBLIC
DESCRIPTION;ALTREP="CID:<FFFF__=0ABBE548DFE235B58f9e8a93d@coffeebean.com>":
 Taller internacional:\nManejo de personal para mandos medios y encargados
 \nDirigido a:Emprendedores\, supervisores\, encargados\, recursos humanos 
 y todas aquellas personas responsables de equipos de trabajo.\nObjetivos:-
  Comunicar bien para dirigir mejor al personal.- Elevar el compromiso de s
 u equipo.- Proyectar presencia de liderazgo en la organización.- Más veloc
 idad para alcanzar metas grupales.\nContenidos:Administración por valores-
  Liderazgo responsable\, la dinámica eficaz.- Presencia de liderazgo (rese
 ntimiento o miedo).- Equilibrio de roles para un legado ejecutivo.\nDirecc
 ión de personal- Niveles de madurez de los puestos\, como guiarlos.- Compo
 rtamiento directivo y personas.- Desarrollando el equipo\, técnicas infali
 bles.\nHabilidades suaves del liderazgo efectivo- La comunicación correcta
  para lograr acuerdos.- Cuatro tácticas del mentor experto.- Superación de
  pequeños conflictos\, el método.\nMetodología:Impartido de forma amena y 
 dinámica mediante casos propios y experiencias comunes en las organizacion
 es.\nFecha: 26 de julio del 2018.Duración: 8 horas.Horario: 8:00 a.m. a 5:
 00 p.m.Lugar: Hotel Balmoral\, San José.Inversión: ¢95.000 por persona.Inc
 luye: Alimentación\, material y certificado de participación.\nFacilitador
 : Joel Maldonado RodríguezActual Director Ejecutivo de Akadimia Consultore
 s México. Consultor y conferencista con más de 200 conferencias y talleres
  por más de 12 años en Venezuela\, México\, República Dominicana\, Nicarag
 ua y Costa Rica.Especialista en desarrollo de Competencias Suaves.\nTodas 
 nuestras capacitaciones pueden ser impartidas en su organización\nInscripc
 iones e información al e-mail info@cedeso.co.crTel: (506) 2225-1007 / Fax:
  (506) 2253-2774 Visite nuestra página www.cedeso.co.crfacebook.com/cedeso
 costarica
DTSTART:20180726T140000Z
DTEND:20180726T230000Z
GEO:+09.933701;-84.075165
LOCATION:Hotel Balmoral\, San José.
ORGANIZER;CN=:info@cedeso.co.cr
SEQUENCE:1
SUMMARY:Manejo de personal para mandos medios y encargados
TRANSP:OPAQUE
URL:https://cedeso.co.cr/eventos-anteriores/53-manejo-de-personal-para-mand
 os-medios-y-encargados
END:VEVENT
END:VCALENDAR
