BEGIN:VCALENDAR
VERSION:2.0
PRODID:-//Cedeso//NONSGML kigkonsult.se iCalcreator 2.30.10//
CALSCALE:GREGORIAN
METHOD:PUBLISH
UID:51f83cb4-adba-4f18-8fd1-77604243f80c
X-WR-CALNAME:iCagenda
X-WR-CALDESC:Event Management Extension for Joomla!
X-WR-RELCALID:3E26604A-50F4-4449-8B3E-E4F4932D05B5
X-WR-TIMEZONE:America/Costa_Rica
BEGIN:VTIMEZONE
TZID:America/Costa_Rica
BEGIN:STANDARD
TZNAME:CST
DTSTART:20200615T060000
TZOFFSETFROM:+0000
TZOFFSETTO:-0600
END:STANDARD
END:VTIMEZONE
BEGIN:VEVENT
UID:f93af0aa-d072-47af-ae29-6e3d06f10ba4
DTSTAMP:20260419T220753Z
CATEGORIES:Mejores Prácticas Organizacionales
CLASS:PUBLIC
DESCRIPTION;ALTREP="CID:<FFFF__=0ABBE548DFE235B58f9e8a93d@coffeebean.com>":
 Taller:\nPrimeros auxilios psicológicos para managers \n(liderando el tale
 nto en tiempos difíciles)\nObjetivo orientativo: las y los participantes s
 erán capaces de explicar\, aplicar y apreciar herramientas esenciales para
  dar apoyo a personas y equipos en tiempos difíciles.\nTemario: • Buenas y
  malas prácticas: ¿Qué tipo de escucha y apoyo debemos dar a los colaborad
 ores? y ¿Cuáles son las condiciones específicas en el contexto empresarial
 ? • Assessment inicial y aplicación del protocolo PARE. • Reglas de escuch
 a efectiva (qué hacer y qué no hacer) y grounding. • Herramientas psicoedu
 cativas y tres estrategias de “trabajo en el pensamiento” para managers. •
  Hacia una pedagogía de la compasión y el apoyo fuera del contexto terapéu
 tico. Compasión hacia otros\, desde otros y trabajo con autoafirmaciones p
 ara el growth mindset.\nFecha: 17\, 24 y 31 de marzo del 2022.Horario: 9:0
 0 a.m. a 11:00 a.m.Duración: 6 horas.Plataforma: Zoom.Inversión: ¢90.000 +
  2% de IVA por participante.Incluye: Material didáctico y certificado de p
 articipación en PDF.\nFacilitador: Dr. Enrique Margery- Doctor en Educació
 n y TEDx speaker.- Profesor de la Maestría en Psicología del Trabajo en la
  Universidad de Costa Rica. Profesor invitado de la Universidad de Queréta
 ro (UAQ\, México) y la Universidad UAGM (Puerto Rico).- Diseña capacitació
 n para desarrollo de soft skills basado en aprendizaje por la experiencia\
 , GBL y “reto-aprendizaje”.- Coach especialista en ciencia de la colaborac
 ión y manejo de top performers.- Diseña herramientas para medir el Sentido
  de Urgencia\, el “termómetro de la colaboración” y la rentabilidad de la 
 capacitación\, entre otros.- Autor de los libros “Complejidad y Competenci
 as”\, “Herramientas de Coaching”\, “El Viaje” (Editorial Norma\; uno de lo
 s primeros libros de psicología positiva publicados) y 'Complejidad\, Tran
 sdisciplinariedad y Compentencias'\nTodas nuestras capacitaciones pueden s
 er impartidas en su organización\nInscripciones e Información al e-mail in
 fo@cedeso.co.crTel: (506) 2225-1007 · Fax: (506) 2253-2774Visite nuestra p
 ágina www.cedeso.co.crfacebook.com/cedesocostarica
DTSTART:20220317T150000Z
DTEND:20220331T170000Z
GEO:00;0
LOCATION:Virtual por Zoom
ORGANIZER;CN=:info@cedeso.co.cr
SEQUENCE:1
SUMMARY:Primeros auxilios psicológicos para managers
TRANSP:OPAQUE
URL:https://cedeso.co.cr/eventos-anteriores/530-primeros-auxilios-psicol%C3
 %B3gicos-para-managers
END:VEVENT
END:VCALENDAR
