BEGIN:VCALENDAR
VERSION:2.0
PRODID:-//Cedeso//NONSGML kigkonsult.se iCalcreator 2.30.10//
CALSCALE:GREGORIAN
METHOD:PUBLISH
UID:fb6e7dc3-702a-4ee0-997a-a886f557445a
X-WR-CALNAME:iCagenda
X-WR-CALDESC:Event Management Extension for Joomla!
X-WR-RELCALID:3E26604A-50F4-4449-8B3E-E4F4932D05B5
X-WR-TIMEZONE:America/Costa_Rica
BEGIN:VTIMEZONE
TZID:America/Costa_Rica
BEGIN:STANDARD
TZNAME:CST
DTSTART:20200704T060000
TZOFFSETFROM:+0000
TZOFFSETTO:-0600
END:STANDARD
END:VTIMEZONE
BEGIN:VEVENT
UID:db358980-5468-4f34-9524-a37958d87916
DTSTAMP:20260419T234232Z
CATEGORIES:Mejores Prácticas Organizacionales
CLASS:PUBLIC
DESCRIPTION;ALTREP="CID:<FFFF__=0ABBE548DFE235B58f9e8a93d@coffeebean.com>":
 Taller:\nPrimeros auxilios psicológicos para managers \n(liderando el tale
 nto en tiempos difíciles)\nObjetivo orientativo: las y los participantes s
 erán capaces de explicar\, aplicar y apreciar herramientas esenciales para
  dar apoyo a personas y equipos en tiempos difíciles.\nTemario: • Buenas y
  malas prácticas: ¿Qué tipo de escucha y apoyo debemos dar a los colaborad
 ores? y ¿Cuáles son las condiciones específicas en el contexto empresarial
 ? • Assessment inicial y aplicación del protocolo PARE. • Reglas de escuch
 a efectiva (qué hacer y qué no hacer) y grounding. • Herramientas psicoedu
 cativas y tres estrategias de “trabajo en el pensamiento” para managers. •
  Hacia una pedagogía de la compasión y el apoyo fuera del contexto terapéu
 tico. Compasión hacia otros\, desde otros y trabajo con autoafirmaciones p
 ara el growth mindset.\nFecha: 5\, 6 y 7 de abril del 2022.Horario: 4:00 p
 .m. a 6:00 p.m.Duración: 6 horas.Plataforma: Zoom.Inversión: ¢90.000 + 2% 
 de IVA por participante.Incluye: Material didáctico y certificado de parti
 cipación en PDF.\nFacilitador: Dr. Enrique Margery- Doctor en Educación y 
 TEDx speaker.- Profesor de la Maestría en Psicología del Trabajo en la Uni
 versidad de Costa Rica. Profesor invitado de la Universidad de Querétaro (
 UAQ\, México) y la Universidad UAGM (Puerto Rico).- Diseña capacitación pa
 ra desarrollo de soft skills basado en aprendizaje por la experiencia\, GB
 L y “reto-aprendizaje”.- Coach especialista en ciencia de la colaboración 
 y manejo de top performers.- Diseña herramientas para medir el Sentido de 
 Urgencia\, el “termómetro de la colaboración” y la rentabilidad de la capa
 citación\, entre otros.- Autor de los libros “Complejidad y Competencias”\
 , “Herramientas de Coaching”\, “El Viaje” (Editorial Norma\; uno de los pr
 imeros libros de psicología positiva publicados) y 'Complejidad\, Transdis
 ciplinariedad y Compentencias'\nTodas nuestras capacitaciones pueden ser i
 mpartidas en su organización\nInscripciones e Información al e-mail info@c
 edeso.co.crTel: (506) 2225-1007 · Fax: (506) 2253-2774Visite nuestra págin
 a www.cedeso.co.crfacebook.com/cedesocostarica
DTSTART:20220405T220000Z
DTEND:20220408T000000Z
GEO:00;0
LOCATION:Virtual por Zoom.
ORGANIZER;CN=:info@cedeso.co.cr
SEQUENCE:1
SUMMARY:Primeros auxilios psicológicos para managers
TRANSP:OPAQUE
URL:https://cedeso.co.cr/eventos-anteriores/531-primeros-auxilios-psicol%C3
 %B3gicos-para-managers
END:VEVENT
END:VCALENDAR
