BEGIN:VCALENDAR
VERSION:2.0
PRODID:-//Cedeso//NONSGML kigkonsult.se iCalcreator 2.30.10//
CALSCALE:GREGORIAN
METHOD:PUBLISH
UID:54f619e6-bad0-4779-b8b1-3a96d6e2a591
X-WR-CALNAME:iCagenda
X-WR-CALDESC:Event Management Extension for Joomla!
X-WR-RELCALID:3E26604A-50F4-4449-8B3E-E4F4932D05B5
X-WR-TIMEZONE:America/Costa_Rica
BEGIN:VTIMEZONE
TZID:America/Costa_Rica
BEGIN:STANDARD
TZNAME:CST
DTSTART:20200613T060000
TZOFFSETFROM:+0000
TZOFFSETTO:-0600
END:STANDARD
END:VTIMEZONE
BEGIN:VEVENT
UID:6fae7967-c863-4839-bb0f-b6a41a00171c
DTSTAMP:20260419T215601Z
CATEGORIES:Operaciones
CLASS:PUBLIC
DESCRIPTION;ALTREP="CID:<FFFF__=0ABBE548DFE235B58f9e8a93d@coffeebean.com>":
 Curso:\nGestión integral de la bodega: \naspectos operacionales para agreg
 ar valor\nObjetivo del seminario:Estudiar un modelo práctico para el manej
 o correcto de una bodega independientemente de su tamaño\, uso y capacidad
 .\nQuien debe tomar este curso:Ingenieros industriales\, profesionales adm
 inistrativos relacionados con la logística\, supervisores de bodegas\, com
 pras o control de inventarios\, personal profesional en formación para asu
 mir cargos en cadena de suministro. Profesionales interesados.\nNivel del 
 curso:El curso está dirigidos a persona con formación superior a nivel téc
 nico o de licenciatura\, el enfoque es táctico y se usará un lenguaje técn
 ico intermedio de fácil comprensión.\nMetodología:Teórico práctico\, se mu
 estran videos\, casos de estudio y ejercicios.\nContenidos:1) Gestión de b
 odegasObjetivo: Establecer el marco de conceptos y elementos de gestión ne
 cesarios para operar la bodega y definir sus procesos.• Propósito• Objetiv
 os• Control de la bodega\n2) Modelo de control y gestión de bodegaObjetivo
 : Estudiar en forma detallada los procesos de la bodega para lograr que es
 ta sea generadora de valor y no consumidora de recursos.• La organización 
 de la bodega\, aspectos esenciales• Inbound: Recepción y Putaway• Almacena
 je ◦ Normas de manejo de materiales ◦ Buenas prácticas de almacenaje ◦ Equ
 ipamiento de manejo y almacenamiento• Outbound: Picking\, Chequeo\, Despac
 ho• Otras operaciones• 5 s en bodega• Estrategias generales para e\nFecha:
  15 y 18 de marzo del 2022.Horario: 8:30 a.m. a 12:30 m.d.Duración: 8 hora
 s.Plataforma: Zoom.Inversión: ¢80.000 + 2% de IVA por participante.Incluye
 : Material y certificado de participación en PDF.\nFacilitador: Ing. Vícto
 r León\, Mg.-Ingeniero Industrial con estudios de Postgrado en Ingeniería 
 Industrial\, Gerencia de RRHH y Dinámica de Grupos.-Experiencia en las áre
 as de Distribución\, Atención al Cliente y Planificación de la Producción\
 , Manejo de Inventarios\, Almacenes\, Costos y Elaboración de Proyectos de
  Inversión.- Capacitador en áreas gerenciales y técnicas\, con 20 años de 
 experiencia.\nTodas nuestras capacitaciones pueden ser impartidas en su or
 ganización\nInscripciones e Información al e-mail info@cedeso.co.crTel: (5
 06) 2225-1007 Fax: (506) 2253-2774Visite nuestra página www.cedeso.co.crfa
 cebook.com/cedesocostarica
DTSTART:20220315T143000Z
DTEND:20220318T183000Z
GEO:00;0
LOCATION:Virtual por Zoom.
ORGANIZER;CN=:info@cedeso.co.cr
SEQUENCE:1
SUMMARY:Gestión integral de la bodega
TRANSP:OPAQUE
URL:https://cedeso.co.cr/eventos-anteriores/532-gesti%C3%B3n-integral-de-la
 -bodega
END:VEVENT
END:VCALENDAR
