BEGIN:VCALENDAR
VERSION:2.0
PRODID:-//Cedeso//NONSGML kigkonsult.se iCalcreator 2.30.10//
CALSCALE:GREGORIAN
METHOD:PUBLISH
UID:0d5aff78-db7c-409e-914c-5a7d24ec9d18
X-WR-CALNAME:iCagenda
X-WR-CALDESC:Event Management Extension for Joomla!
X-WR-RELCALID:3E26604A-50F4-4449-8B3E-E4F4932D05B5
X-WR-TIMEZONE:America/Costa_Rica
BEGIN:VTIMEZONE
TZID:America/Costa_Rica
BEGIN:STANDARD
TZNAME:CST
DTSTART:20200601T060000
TZOFFSETFROM:+0000
TZOFFSETTO:-0600
END:STANDARD
END:VTIMEZONE
BEGIN:VEVENT
UID:8e84f6b1-f18b-4650-933f-83ded759a63e
DTSTAMP:20260419T220841Z
CATEGORIES:Operaciones
CLASS:PUBLIC
DESCRIPTION;ALTREP="CID:<FFFF__=0ABBE548DFE235B58f9e8a93d@coffeebean.com>":
 Taller:\n¿Cómo analizar los costos de una importación para una correcta to
 ma de decisiones?\nObjetivo: Brindar un apoyo integral a la empresa y/o in
 stitución\, con el fin de lograr la eficiencia y optimizar sus operaciones
  de importación\, proporcionando los conocimientos y ayuda necesaria para 
 afrontar de forma exitosa el proceso\, bajo un marco preventivo que le gar
 antice maximizar sus costos operativos a fin de impactar positivamente el 
 desarrollo de sus operaciones aduaneras.\nContenido temático:\n1. Generali
 dades de una importación:• ¿Qué es una importación?• ¿Por qué tomamos la d
 ecisión de importar?• Obligaciones que se deben cumplir al importar.• Docu
 mentos necesarios para realizar un proceso de importación.• Aspectos que s
 e negocian en una importación.• Proceso de importación.\n2. Aspectos que i
 nfluyen en los costos de importación:• Clasificación arancelaria. • Términ
 os de comercio internacional.• Proceso logístico.• Valoración aduanera par
 a la determinación del cálculo de impuestos.• Aplicación de los Tratados d
 e Libre Comercio.\n3. Análisis de la estructura de costos de importación.•
  Análisis y cálculo de los costos de trasporte internacional.• Análisis y 
 cálculo de los costos de consolidación de carga.• Cálculo de impuestos.• C
 álculo de impuestos con la aplicación de los Tratados de Libre Comercio.• 
 Costos de nacionalización y trámites locales.• Tips para comprensión\, aná
 lisis y comparación de tarifas de transporte.• Cómo hacer análisis de ofer
 tas de proveedores y cálculos previos a la importación. • Seguros• Casos p
 rácticos.\nFecha: 3\, 4\, 10 y 11 de marzo del 2022Horario: 8:30 a.m. a 11
 :30 a.m.Duración: 12 horas.Plataforma: Zoom.Inversión: ¢120.000 + 2% de IV
 A por participante.Incluye: Material didáctico y certificado de participac
 ión en PDF.\nFacilitadora: Licda. Yorleny Jiménez RojasGraduada con honore
 s de la Universidad de Costa Rica en la carrera de Administración Aduanera
  y Comercio Exterior. Certificada como especialista en Supply Chain de la 
 Universidad de Nebrija en España.Actualmente consultora independiente con 
 20 años de experiencia en manejo y desarrollo de procesos de internacional
 ización y logística especialmente para el sector agrícola.Especialista en 
 desarrollo de acompañamientos empresariales en temas de importación\, expo
 rtación\, logística internacional\, entre otros.Profesora de la Universida
 d de Costa Rica\, Universidad FUNDEPOS y capacitadora activa en diferentes
  Cámaras que agremia exportadores\, importadores\, empresas PYMES\, entida
 des estatales\, colegios profesionales\, entre otros.\nTodas nuestras capa
 citaciones pueden ser impartidas en su organización\nInscripciones e infor
 mación al e-mail info@cedeso.co.crTel: (506) 2225-1007 · Tel/Fax: (506) 22
 53-2774Visite nuestra página www.cedeso.co.crfacebook.com/cedesocostarica
DTSTART:20220303T143000Z
DTEND:20220311T173000Z
GEO:00;0
LOCATION:Virtual por Zoom.
ORGANIZER;CN=:info@cedeso.co.cr
SEQUENCE:1
SUMMARY:¿Cómo analizar los costos de una importación para una correcta toma
  de decisiones?
TRANSP:OPAQUE
URL:https://cedeso.co.cr/eventos-anteriores/533-%C2%BFc%C3%B3mo-analizar-lo
 s-costos-de-una-importaci%C3%B3n-para-una-correcta-toma-de-decisiones
END:VEVENT
END:VCALENDAR
