BEGIN:VCALENDAR
VERSION:2.0
PRODID:-//Cedeso//NONSGML kigkonsult.se iCalcreator 2.30.10//
CALSCALE:GREGORIAN
METHOD:PUBLISH
UID:58585fdd-e218-445e-87d7-47eb8fed9fa6
X-WR-CALNAME:iCagenda
X-WR-CALDESC:Event Management Extension for Joomla!
X-WR-RELCALID:3E26604A-50F4-4449-8B3E-E4F4932D05B5
X-WR-TIMEZONE:America/Costa_Rica
BEGIN:VTIMEZONE
TZID:America/Costa_Rica
BEGIN:STANDARD
TZNAME:CST
DTSTART:20200515T060000
TZOFFSETFROM:+0000
TZOFFSETTO:-0600
END:STANDARD
END:VTIMEZONE
BEGIN:VEVENT
UID:c4da6d95-4c18-4d0d-adb7-ba215093978a
DTSTAMP:20260419T234906Z
CATEGORIES:Mejores Prácticas Organizacionales
CLASS:PUBLIC
DESCRIPTION;ALTREP="CID:<FFFF__=0ABBE548DFE235B58f9e8a93d@coffeebean.com>":
 Webinar gratuito\n¡Líder\, atrévete a hablar en público!\n \nInformación g
 eneral:Fecha: lunes 14 de febrero 2022Hora: 10:00 a.m. a 11:00 a.m.Duració
 n: 1 hora.Facilitadora: M.L. Karla RamosInversión: Gratis\nRegistros a:inf
 o@cedeso.co.crTel: +506 2225-1007
DTSTART:20220214T160000Z
DTEND:20220214T170000Z
GEO:00;0
LOCATION:Virtual por Zoom
ORGANIZER;CN=:info@cedeso.co.cr
SEQUENCE:1
SUMMARY:¡Líder\, atrévete a hablar en público!
TRANSP:OPAQUE
URL:https://cedeso.co.cr/eventos-anteriores/535-%C2%A1l%C3%ADder,-atr%C3%A9
 vete-a-hablar-en-p%C3%BAblico
END:VEVENT
END:VCALENDAR
