BEGIN:VCALENDAR
VERSION:2.0
PRODID:-//Cedeso//NONSGML kigkonsult.se iCalcreator 2.30.10//
CALSCALE:GREGORIAN
METHOD:PUBLISH
UID:87819b00-291a-4c47-82a8-79d512e2d984
X-WR-CALNAME:iCagenda
X-WR-CALDESC:Event Management Extension for Joomla!
X-WR-RELCALID:3E26604A-50F4-4449-8B3E-E4F4932D05B5
X-WR-TIMEZONE:America/Costa_Rica
BEGIN:VTIMEZONE
TZID:America/Costa_Rica
BEGIN:STANDARD
TZNAME:CST
DTSTART:20200620T060000
TZOFFSETFROM:+0000
TZOFFSETTO:-0600
END:STANDARD
END:VTIMEZONE
BEGIN:VEVENT
UID:a64f7e97-9eb7-4dc8-a229-9dd402d61e8f
DTSTAMP:20260419T221058Z
CATEGORIES:Operaciones
CLASS:PUBLIC
DESCRIPTION;ALTREP="CID:<FFFF__=0ABBE548DFE235B58f9e8a93d@coffeebean.com>":
 Taller:\nAnálisis de las reformas jurídicas y técnicas en el CAUCA IV y su
  Reglamento\nObjetivo: Conocer todas las reformas establecidas en el Códig
 o Aduanero Uniforme Centroamericano IV (CAUCA IV) y su reglamento para det
 erminar las nuevas obligaciones\, responsabilidades y compromisos por part
 e de los auxiliares de la función pública aduanera y los demás participant
 es del comercio internacional.\nContenido temático:• Determinación de los 
 cambios más importantes de esta reforma.• Análisis de cada uno de los prin
 cipales cambios jurídicos y técnicos del CAUCA IV y su reglamento.\nFecha:
  22 y 24 de marzo del 2022Horario: 8:30 a.m. a 10:30 a.m.Duración: 4 horas
 .Plataforma: Zoom.Inversión: ¢40.000 + 2% de IVA por participante.Incluye:
  Material didáctico y certificado de participación en PDF.\nFacilitadora: 
 Licda. Yorleny Jiménez RojasGraduada con honores de la Universidad de Cost
 a Rica en la carrera de Administración Aduanera y Comercio Exterior. Certi
 ficada como especialista en Supply Chain de la Universidad de Nebrija en E
 spaña.Actualmente consultora independiente con 20 años de experiencia en m
 anejo y desarrollo de procesos de internacionalización y logística especia
 lmente para el sector agrícola.Especialista en desarrollo de acompañamient
 os empresariales en temas de importación\, exportación\, logística interna
 cional\, entre otros.Profesora de la Universidad de Costa Rica\, Universid
 ad FUNDEPOS y capacitadora activa en diferentes Cámaras que agremia export
 adores\, importadores\, empresas PYMES\, entidades estatales\, colegios pr
 ofesionales\, entre otros.\nTodas nuestras capacitaciones pueden ser impar
 tidas en su organización\nInscripciones e información al e-mail info@cedes
 o.co.crTel: (506) 2225-1007 · Tel/Fax: (506) 2253-2774Visite nuestra págin
 a www.cedeso.co.crfacebook.com/cedesocostarica
DTSTART:20220322T143000Z
DTEND:20220324T163000Z
GEO:00;0
LOCATION:Virtual por Zoom.
ORGANIZER;CN=:info@cedeso.co.cr
SEQUENCE:1
SUMMARY:Análisis de las reformas jurídicas y técnicas en el CAUCA IV y su R
 eglamento
TRANSP:OPAQUE
URL:https://cedeso.co.cr/eventos-anteriores/537-an%C3%A1lisis-de-las-reform
 as-jur%C3%ADdicas-y-t%C3%A9cnicas-en-el-cauca-iv-y-su-reglamento
END:VEVENT
END:VCALENDAR
