BEGIN:VCALENDAR
VERSION:2.0
PRODID:-//Cedeso//NONSGML kigkonsult.se iCalcreator 2.30.10//
CALSCALE:GREGORIAN
METHOD:PUBLISH
UID:8c03b68f-2559-44c3-bf6d-8dc4fa003878
X-WR-CALNAME:iCagenda
X-WR-CALDESC:Event Management Extension for Joomla!
X-WR-RELCALID:3E26604A-50F4-4449-8B3E-E4F4932D05B5
X-WR-TIMEZONE:America/Costa_Rica
BEGIN:VTIMEZONE
TZID:America/Costa_Rica
BEGIN:STANDARD
TZNAME:CST
DTSTART:20200704T060000
TZOFFSETFROM:+0000
TZOFFSETTO:-0600
END:STANDARD
END:VTIMEZONE
BEGIN:VEVENT
UID:869ed98d-85e2-428c-b0ca-90742dfc9bf0
DTSTAMP:20260419T215913Z
CATEGORIES:Mejores Prácticas Organizacionales
CLASS:PUBLIC
DESCRIPTION;ALTREP="CID:<FFFF__=0ABBE548DFE235B58f9e8a93d@coffeebean.com>":
 Taller:\nTécnicas de negociación efectivas\nNo saber negociar es quedarse 
 en efecto de otras voluntades.\nJustificación:La negociación es una estrat
 egia que se utiliza cuando se busca llegar a un acuerdo entre dos o más pa
 rtes involucradas\, con el interés de que dichas partes obtengan beneficio
 s. Por lo tango la estrategia de negociación es aplicable para cualquier á
 mbito: laboral\, civil\, por nombrar algunas ya que es aplicable siempre q
 ue existan interés y voluntades.\nObjetivo:Desarrollar habilidades y capac
 idades de comunicación a través del uso e implementación de diversas técni
 cas\, las cuales les permitirán lograr eficacia en las diversas situacione
 s de la negociación.\nDirigido a:Todo el personal que tenga interés desarr
 ollar habilidades de negociación.\nTemario:1.Competencias de comunicación 
 para la negociación.2.Barreras de la comunicación y como evitarlas.3.Etapa
 s de la negociación y qué hacer en cada una.4.Tácticas de negociación segú
 n situaciones.5.Como reaccionar cuando hay resistencia.6.Uso de técnicas p
 ara el manejo de objeciones.\nMetodología:50 % teoría y 50 % practicas.\nF
 echas: 5 y 7 de abril del 2022.Horario: 8:30 a.m. a 11:30 m.d.Duración: 6 
 horas.Plataforma: Zoom.Inversión: ¢90.000 + 2% de IVA por participante.Inc
 luye: Material y certificado de participación en PDF.\nFacilitador: Joel M
 aldonado RodríguezEgresado de la Universidad Carabobo Venezuela: conferenc
 ista experimentado y facilitador de cursos Dirección de Personal y Lideraz
 go\, Ventas\, Servicio al Cliente y Desarrollo Organizacional. Ha diseñado
  programas de capacitación para empresas\, basado en técnicas funcionales 
 y de aplicación inmediata. Personalmente ha entrenado a más de 15.000 pers
 onas en México\, Venezuela\, Colombia\, Costa Rica\, Panamá\, República Do
 minicana\, Salvador y Nicaragua con resultados comprobados. Creador del Mo
 delo para un Entorno Laboral Feliz y Productivo.\nTodas nuestras capacitac
 iones pueden ser impartidas en su organización\nInscripciones e informació
 n al e-mail info@cedeso.co.crTel: (506) 2225-1007 / Fax: (506) 2253-2774 V
 isite nuestra página www.cedeso.co.crfacebook.com/cedesocostarica
DTSTART:20220405T143000Z
DTEND:20220407T173000Z
GEO:00;0
LOCATION:Virtual por Zoom
ORGANIZER;CN=:info@cedeso.co.cr
SEQUENCE:1
SUMMARY:Técnicas de negociación efectivas
TRANSP:OPAQUE
URL:https://cedeso.co.cr/eventos-anteriores/538-t%C3%A9cnicas-de-negociaci%
 C3%B3n-efectivas
END:VEVENT
END:VCALENDAR
