BEGIN:VCALENDAR
VERSION:2.0
PRODID:-//Cedeso//NONSGML kigkonsult.se iCalcreator 2.30.10//
CALSCALE:GREGORIAN
METHOD:PUBLISH
UID:0dbcd069-6ffb-4847-bd90-2a8de94199b6
X-WR-CALNAME:iCagenda
X-WR-CALDESC:Event Management Extension for Joomla!
X-WR-RELCALID:3E26604A-50F4-4449-8B3E-E4F4932D05B5
X-WR-TIMEZONE:America/Costa_Rica
BEGIN:VTIMEZONE
TZID:America/Costa_Rica
BEGIN:STANDARD
TZNAME:CST
DTSTART:20200621T060000
TZOFFSETFROM:+0000
TZOFFSETTO:-0600
END:STANDARD
END:VTIMEZONE
BEGIN:VEVENT
UID:c4e2b305-2460-4ce5-a422-49e738696e5c
DTSTAMP:20260419T220041Z
CATEGORIES:Mejores Prácticas Organizacionales
CLASS:PUBLIC
DESCRIPTION;ALTREP="CID:<FFFF__=0ABBE548DFE235B58f9e8a93d@coffeebean.com>":
 Taller:\nABC de la capacitación y desarrollo de personal\nDirigida:• Geren
 tes\, jefes\, especialistas y analistas de capacitación y desarrollo.• Tod
 o nivel de gestores de RR.HH.• Especialmente dirigida a quienes dirigen o 
 ejecutan capacitación con o sin experiencia.\nContenido:1. Tendencias glob
 ales del talento en 2022.2. El marco teórico de la C&amp\;D: Fundamentos d
 e andragogía\, dominancia.3. La DNC: proceso y herramientas para establece
 r las necesidades.4. El plan de capacitación: las claves para lograr resul
 tados y optimizar los recursos.5. La ejecución del plan de capacitación: c
 ómo evitar errores costosos.6. Evaluación y seguimiento: rentabilidad e im
 pacto.7. Los retos de la era digital.\nFecha: 23 y 25 de marzo 2022.Horari
 o: 8:30 a.m. a 12:00 m.d.Duración: 7 horas.Virtual por Zoom.Inversión: ¢10
 5.000 + 2% IVA por participante. Incluye: Materiales y certificado de part
 icipación en PDF.\nFacilitador: Lic. Carlos Solera Umaña Licenciado en adm
 inistración de negocios\, técnico en seguros. Más de 30 años de experienci
 a en todos los subprocesos de Gestión de RRHH\, como responsable de reclut
 amiento selecciono más de mil personas en los diferentes países de Centroa
 mérica. Amplia experiencia en organizaciones de manufactura\, servicios\, 
 cooperativas y ONG’s. Actual fundador y director de CEDESO.S.A.\nTodas nue
 stras capacitaciones pueden ser impartidas en su organización\nInscripcion
 es e Información al e-mail info@cedeso.co.crTel: (506) 2225-1007 / Fax: (5
 06) 2253-2774 Visite nuestra página www.cedeso.co.crfacebook.com/cedesocos
 tarica
DTSTART:20220323T143000Z
DTEND:20220325T180000Z
GEO:00;0
LOCATION:Virtual por Zoom.
ORGANIZER;CN=:info@cedeso.co.cr
SEQUENCE:1
SUMMARY:ABC de la capacitación y desarrollo de personal
TRANSP:OPAQUE
URL:https://cedeso.co.cr/eventos-anteriores/539-abc-de-la-capacitaci%C3%B3n
 -y-desarrollo-de-personal
END:VEVENT
END:VCALENDAR
