BEGIN:VCALENDAR
VERSION:2.0
PRODID:-//Cedeso//NONSGML kigkonsult.se iCalcreator 2.30.10//
CALSCALE:GREGORIAN
METHOD:PUBLISH
UID:945ae156-cabf-4701-bf8e-d92bf9c38543
X-WR-CALNAME:iCagenda
X-WR-CALDESC:Event Management Extension for Joomla!
X-WR-RELCALID:3E26604A-50F4-4449-8B3E-E4F4932D05B5
X-WR-TIMEZONE:America/Costa_Rica
BEGIN:VTIMEZONE
TZID:America/Costa_Rica
BEGIN:STANDARD
TZNAME:CST
DTSTART:20200808T060000
TZOFFSETFROM:+0000
TZOFFSETTO:-0600
END:STANDARD
END:VTIMEZONE
BEGIN:VEVENT
UID:2e50f98d-0f97-40d8-9a89-61208b0d6d09
DTSTAMP:20260419T220413Z
CATEGORIES:Mejores Prácticas Organizacionales
CLASS:PUBLIC
DESCRIPTION;ALTREP="CID:<FFFF__=0ABBE548DFE235B58f9e8a93d@coffeebean.com>":
 Taller:\nDetección de necesidades de Capacitación (DNC)\nObjetivo: las y l
 os participantes podrán explicar y apreciar: sesgos en el manejo de brecha
 s del desempeño\, problemas del modelo tradicional de encuesta de necesida
 des\, la DNC por evidencias y el manejo de la capacitación apreciativa.\nT
 emas:• La “Encuesta de Necesidades” y otras malas ideas.• Sesgos en el man
 ejo de brechas y desempeño.• Como hacer una DNC por clusters de cargos y e
 videncias.• Capacitación apreciativa y capabilities organizacionales.\nFec
 ha: 10 y 17 de mayo del 2022.Horario: 8:30 a.m. a 11:30 a.m.Duración: 6 ho
 ras.Plataforma: Zoom.Inversión: ¢90.000 + 2% de IVA por participante.Inclu
 ye: Material didáctico y certificado de participación en PDF.\nFacilitador
 : Dr. Enrique Margery- Doctor en Educación y TEDx speaker.- Profesor de la
  Maestría en Psicología del Trabajo en la Universidad de Costa Rica. Profe
 sor invitado de la Universidad de Querétaro (UAQ\, México) y la Universida
 d UAGM (Puerto Rico).- Diseña capacitación para desarrollo de soft skills 
 basado en aprendizaje por la experiencia\, GBL y “reto-aprendizaje”.- Coac
 h especialista en ciencia de la colaboración y manejo de top performers.- 
 Diseña herramientas para medir el Sentido de Urgencia\, el “termómetro de 
 la colaboración” y la rentabilidad de la capacitación\, entre otros.- Auto
 r de los libros “Complejidad y Competencias”\, “Herramientas de Coaching”\
 , “El Viaje” (Editorial Norma\; uno de los primeros libros de psicología p
 ositiva publicados) y 'Complejidad\, Transdisciplinariedad y Compentencias
 '\nTodas nuestras capacitaciones pueden ser impartidas en su organización
 \nInscripciones e Información al e-mail info@cedeso.co.crTel: (506) 2225-1
 007 · Fax: (506) 2253-2774Visite nuestra página www.cedeso.co.crfacebook.c
 om/cedesocostarica
DTSTART:20220510T143000Z
DTEND:20220517T173000Z
GEO:00;0
LOCATION:Virtual por Zoom.
ORGANIZER;CN=:info@cedeso.co.cr
SEQUENCE:1
SUMMARY:Detección de necesidades de Capacitación (DNC)
TRANSP:OPAQUE
URL:https://cedeso.co.cr/eventos-anteriores/541-detecci%C3%B3n-de-necesidad
 es-de-capacitaci%C3%B3n-dnc
END:VEVENT
END:VCALENDAR
