BEGIN:VCALENDAR
VERSION:2.0
PRODID:-//Cedeso//NONSGML kigkonsult.se iCalcreator 2.30.10//
CALSCALE:GREGORIAN
METHOD:PUBLISH
UID:644f6aec-530f-4716-a5c9-d8675f8221c6
X-WR-CALNAME:iCagenda
X-WR-CALDESC:Event Management Extension for Joomla!
X-WR-RELCALID:3E26604A-50F4-4449-8B3E-E4F4932D05B5
X-WR-TIMEZONE:America/Costa_Rica
BEGIN:VTIMEZONE
TZID:America/Costa_Rica
BEGIN:STANDARD
TZNAME:CST
DTSTART:20201018T060000
TZOFFSETFROM:+0000
TZOFFSETTO:-0600
END:STANDARD
END:VTIMEZONE
BEGIN:VEVENT
UID:80a43deb-a866-4cda-8b6f-cef6397ab828
DTSTAMP:20260419T203214Z
CATEGORIES:Mejores Prácticas Organizacionales
CLASS:PUBLIC
DESCRIPTION;ALTREP="CID:<FFFF__=0ABBE548DFE235B58f9e8a93d@coffeebean.com>":
 Taller:\nCálculo de impacto y rentabilidad de la capacitación\nObjetivo: l
 as y los participantes podrán explicar y apreciar los niveles de evaluació
 n y las metodologías para aislar el impacto de la capacitación y la metodo
 logía para calcular la rentabilidad de las acciones formativas.\nTemas:• N
 iveles de evaluación del impacto de la capacitación.• Diseños efectivos pa
 ra aislar el impacto de la capacitación.• Modelo FDC: como calcular\, paso
  a paso\, cuánto ganamos por cada peso invertido en capacitación.\nFecha: 
 20 y 27 de julio del 2022.Horario: 8:30 a.m. a 11:30 a.m.Duración: 6 horas
 .Plataforma: Zoom.Inversión: ¢90.000 + 2% de IVA por participante.Incluye:
  Material didáctico y certificado de participación en PDF.\nFacilitador: D
 r. Enrique Margery- Doctor en Educación y TEDx speaker.- Profesor de la Ma
 estría en Psicología del Trabajo en la Universidad de Costa Rica. Profesor
  invitado de la Universidad de Querétaro (UAQ\, México) y la Universidad U
 AGM (Puerto Rico).- Diseña capacitación para desarrollo de soft skills bas
 ado en aprendizaje por la experiencia\, GBL y “reto-aprendizaje”.- Coach e
 specialista en ciencia de la colaboración y manejo de top performers.- Dis
 eña herramientas para medir el Sentido de Urgencia\, el “termómetro de la 
 colaboración” y la rentabilidad de la capacitación\, entre otros.- Autor d
 e los libros “Complejidad y Competencias”\, “Herramientas de Coaching”\, “
 El Viaje” (Editorial Norma\; uno de los primeros libros de psicología posi
 tiva publicados) y 'Complejidad\, Transdisciplinariedad y Compentencias'\n
 Todas nuestras capacitaciones pueden ser impartidas en su organización\nIn
 scripciones e Información al e-mail info@cedeso.co.crTel: (506) 2225-1007 
 · Fax: (506) 2253-2774Visite nuestra página www.cedeso.co.crfacebook.com/c
 edesocostarica
DTSTART:20220720T143000Z
DTEND:20220727T173000Z
GEO:00;0
LOCATION:Virtual por Zoom.
ORGANIZER;CN=:info@cedeso.co.cr
SEQUENCE:1
SUMMARY:Cálculo de impacto y rentabilidad de la capacitación
TRANSP:OPAQUE
URL:https://cedeso.co.cr/eventos-anteriores/542-c%C3%A1lculo-de-impacto-y-r
 entabilidad-de-la-capacitaci%C3%B3n
END:VEVENT
END:VCALENDAR
