BEGIN:VCALENDAR
VERSION:2.0
PRODID:-//Cedeso//NONSGML kigkonsult.se iCalcreator 2.30.10//
CALSCALE:GREGORIAN
METHOD:PUBLISH
UID:89589f02-5921-423e-b4d9-3d3af16f0917
X-WR-CALNAME:iCagenda
X-WR-CALDESC:Event Management Extension for Joomla!
X-WR-RELCALID:3E26604A-50F4-4449-8B3E-E4F4932D05B5
X-WR-TIMEZONE:America/Costa_Rica
BEGIN:VTIMEZONE
TZID:America/Costa_Rica
BEGIN:STANDARD
TZNAME:CST
DTSTART:20200905T060000
TZOFFSETFROM:+0000
TZOFFSETTO:-0600
END:STANDARD
END:VTIMEZONE
BEGIN:VEVENT
UID:cf258296-c227-49ad-9448-17e758a6266f
DTSTAMP:20260419T234553Z
CATEGORIES:Mejores Prácticas Organizacionales
CLASS:PUBLIC
DESCRIPTION;ALTREP="CID:<FFFF__=0ABBE548DFE235B58f9e8a93d@coffeebean.com>":
 Taller:\nTemas avanzados para especialistas de capacitación\nObjetivo: las
  y los participantes podrán explicar y apreciar el modelo 3C de las univer
 sidades empresariales\, el modelo 10.20.70 y el desarrollo de capabilities
  y temas avanzados de diseño instruccional en andragogía.\nTemas:• El mode
 lo 3C: ¿Qué hace diferentes a las Universidades Empresariales?• Modelos 10
 .20.70 y 20.25.55 y aprendizaje intencionado de las capabilities de su org
 anización.• Microaprendizaje\, diseño ARCS y carga cognitiva: capacitando 
 en la “nueva normalidad”.\nFecha: 7 y 9 de junio del 2022.Horario: 8:30 a.
 m. a 11:30 a.m.Duración: 6 horas.Plataforma: Zoom.Inversión: ¢90.000 + 2% 
 de IVA por participante.Incluye: Material didáctico y certificado de parti
 cipación en PDF.\nFacilitador: Dr. Enrique Margery- Doctor en Educación y 
 TEDx speaker.- Profesor de la Maestría en Psicología del Trabajo en la Uni
 versidad de Costa Rica. Profesor invitado de la Universidad de Querétaro (
 UAQ\, México) y la Universidad UAGM (Puerto Rico).- Diseña capacitación pa
 ra desarrollo de soft skills basado en aprendizaje por la experiencia\, GB
 L y “reto-aprendizaje”.- Coach especialista en ciencia de la colaboración 
 y manejo de top performers.- Diseña herramientas para medir el Sentido de 
 Urgencia\, el “termómetro de la colaboración” y la rentabilidad de la capa
 citación\, entre otros.- Autor de los libros “Complejidad y Competencias”\
 , “Herramientas de Coaching”\, “El Viaje” (Editorial Norma\; uno de los pr
 imeros libros de psicología positiva publicados) y 'Complejidad\, Transdis
 ciplinariedad y Compentencias'\nTodas nuestras capacitaciones pueden ser i
 mpartidas en su organización\nInscripciones e Información al e-mail info@c
 edeso.co.crTel: (506) 2225-1007 · Fax: (506) 2253-2774Visite nuestra págin
 a www.cedeso.co.crfacebook.com/cedesocostarica
DTSTART:20220607T143000Z
DTEND:20220609T173000Z
GEO:00;0
LOCATION:Virtual por Zoom.
ORGANIZER;CN=:info@cedeso.co.cr
SEQUENCE:1
SUMMARY:Temas avanzados para especialistas de capacitación
TRANSP:OPAQUE
URL:https://cedeso.co.cr/eventos-anteriores/543-temas-avanzados-para-especi
 alistas-de-capacitaci%C3%B3n
END:VEVENT
END:VCALENDAR
