BEGIN:VCALENDAR
VERSION:2.0
PRODID:-//Cedeso//NONSGML kigkonsult.se iCalcreator 2.30.10//
CALSCALE:GREGORIAN
METHOD:PUBLISH
UID:417baa15-01d5-4f37-b103-d79a5fa3b1f0
X-WR-CALNAME:iCagenda
X-WR-CALDESC:Event Management Extension for Joomla!
X-WR-RELCALID:3E26604A-50F4-4449-8B3E-E4F4932D05B5
X-WR-TIMEZONE:America/Costa_Rica
BEGIN:VTIMEZONE
TZID:America/Costa_Rica
BEGIN:STANDARD
TZNAME:CST
DTSTART:20200801T060000
TZOFFSETFROM:+0000
TZOFFSETTO:-0600
END:STANDARD
END:VTIMEZONE
BEGIN:VEVENT
UID:75142812-a03a-43b6-91a9-9e0978be2dc7
DTSTAMP:20260419T215915Z
CATEGORIES:Operaciones
CLASS:PUBLIC
DESCRIPTION;ALTREP="CID:<FFFF__=0ABBE548DFE235B58f9e8a93d@coffeebean.com>":
 Taller:\nEl paso a paso para desarrollar una importación exitosa y eficien
 te\n \nObjetivo: Brindar un apoyo integral a los interesados con el fin de
  optimizar sus operaciones de importación y exportación\, proporcionando l
 os conocimientos y ayuda necesaria para afrontar de forma exitosa su negoc
 io\, bajo un marco preventivo que les garantice minimizar los riesgos que 
 pueden impactar el desarrollo de sus operaciones aduaneras.\nContenido tem
 ático:\nMódulo # 1Generalidades de la importación\nObjetivo:Identificar lo
 s factores que se deben tomar en cuenta antes de realizar un proceso de im
 portación.\nTemario:• ¿Qué es una importación?• Condiciones que se deben t
 omar en cuenta previas a una importación.• Obligaciones que debe cumplir l
 a empresa importadora.• Documentos que se deben presentar para realizar un
 a importación.• Errores comunes que se comenten al importar.• Qué es una c
 lasificación arancelaria y su importancia.• Medidas no arancelarias (notas
  técnicas).• Beneficios de los Tratados de Libre Comercio.• Temas legales 
 y fiscales que se deben conocer antes de importar.\nMódulo # 2Negociación 
 internacional\nObjetivo:Analizar todos los aspectos que se deben tomar en 
 cuenta al establecer una negociación con proveedores internacionales.\nTem
 ario:• Contratos internacionales.• INCOTERMS 2020.• Formas y medios de pag
 o.\nMódulo # 3Logística y análisis de costos de importación\nObjetivo:Eval
 uar la estrategia logística más idónea y los costos derivados del proceso 
 de importación para una correcta toma de decisiones.\nTemario:• Proceso ad
 uanero de importación para productos que se transportan marítimo\, aéreo\,
  terrestre y consolidado.• Costos logísticos y análisis de tarifas.• Cálcu
 lo de impuestos.• Desarrollo del costeo de importación.\nMódulo # 4Análisi
 s de riesgo en la importación\nObjetivo:Determinar los posibles riesgos qu
 e pueden estar presentes en el proceso de importación y establecer las her
 ramientas que pueden prevenir estos riesgos.\nTemario:• Definición de ries
 go.• Procesos para administrar el riesgo: Ciclo de Deming.• Análisis de ri
 esgos en la importación y cómo prevenirlos.• Herramientas para análisis de
  riesgos. - Evaluación de proveedores internacionales. - Uso de los KPI´s 
 (Key Performance Indicators). - Elaboración de matriz de gestión de riesgo
 s a nivel de procesos de importación.\nFecha: 3\, 4\, 10 y 11 de mayo del 
 2022Horario: 8:00 a.m. a 12:00 m.d.Duración: 16 horas.Plataforma: Zoom.Inv
 ersión: ¢160.000 + 2% de IVA por participante.Incluye: Material didáctico 
 y certificado de participación en PDF.\nFacilitadora: Licda. Yorleny Jimén
 ez RojasGraduada con honores de la Universidad de Costa Rica en la carrera
  de Administración Aduanera y Comercio Exterior. Certificada como especial
 ista en Supply Chain de la Universidad de Nebrija en España.Actualmente co
 nsultora independiente con 20 años de experiencia en manejo y desarrollo d
 e procesos de internacionalización y logística especialmente para el secto
 r agrícola.Especialista en desarrollo de acompañamientos empresariales en 
 temas de importación\, exportación\, logística internacional\, entre otros
 .Profesora de la Universidad de Costa Rica\, Universidad FUNDEPOS y capaci
 tadora activa en diferentes Cámaras que agremia exportadores\, importadore
 s\, empresas PYMES\, entidades estatales\, colegios profesionales\, entre 
 otros.\nTodas nuestras capacitaciones pueden ser impartidas en su organiza
 ción\nInscripciones e información al e-mail info@cedeso.co.crTel: (506) 22
 25-1007 · Tel/Fax: (506) 2253-2774Visite nuestra página www.cedeso.co.crfa
 cebook.com/cedesocostarica
DTSTART:20220503T140000Z
DTEND:20220511T180000Z
GEO:00;0
LOCATION:Virtual por Zoom
ORGANIZER;CN=:info@cedeso.co.cr
SEQUENCE:1
SUMMARY:El paso a paso para desarrollar una importación exitosa y eficiente
TRANSP:OPAQUE
URL:https://cedeso.co.cr/eventos-anteriores/550-el-paso-a-paso-para-desarro
 llar-una-importaci%C3%B3n-exitosa-y-eficiente
END:VEVENT
END:VCALENDAR
