BEGIN:VCALENDAR
VERSION:2.0
PRODID:-//Cedeso//NONSGML kigkonsult.se iCalcreator 2.30.10//
CALSCALE:GREGORIAN
METHOD:PUBLISH
UID:a93bb07c-5a66-4de3-9828-0e98163b2aea
X-WR-CALNAME:iCagenda
X-WR-CALDESC:Event Management Extension for Joomla!
X-WR-RELCALID:3E26604A-50F4-4449-8B3E-E4F4932D05B5
X-WR-TIMEZONE:America/Costa_Rica
BEGIN:VTIMEZONE
TZID:America/Costa_Rica
BEGIN:STANDARD
TZNAME:CST
DTSTART:20200816T060000
TZOFFSETFROM:+0000
TZOFFSETTO:-0600
END:STANDARD
END:VTIMEZONE
BEGIN:VEVENT
UID:00d39570-cda8-410f-861c-805119ddd1cd
DTSTAMP:20260419T234552Z
CATEGORIES:Operaciones
CLASS:PUBLIC
DESCRIPTION;ALTREP="CID:<FFFF__=0ABBE548DFE235B58f9e8a93d@coffeebean.com>":
 Curso:\nAprenda a diagnosticar su proceso de importación a fin de evitar r
 iesgos fiscales\nObjetivo:Aportar conocimientos a la empresa importadora a
  fin de que puedan conocer los aspectos claves del proceso de fiscalizació
 n que aplica la autoridad aduanera en materia de importaciones\, para de e
 sta manera puedan garantizarse el cumplimiento del marco jurídico aduanero
  existente y evitar sanciones y multas.\nContenido temático:• Auxiliares d
 e la función aduanera y sus responsabilidades y obligaciones.• Tipos de co
 ntrol que ejerce la aduana.• Documentos aduaneros necesarios para respalda
 r DUA.• Importancia del análisis de contratos de compraventa internacional
 .• Análisis del cumplimiento de requisitos no arancelarios.• La negociació
 n de los INCOTERM y su impacto en el cálculo de impuestos.• Clasificación 
 arancelaria y su repercusión en el cálculo de impuestos.• Análisis del Val
 or Aduanero como eje principal del cálculo de impuestos.• Análisis del Ori
 gen de las mercancías (uso correcto de los certificados de origen).• Delit
 os aduaneros\, infracciones administrativas y tributarias.• Sistema Tic@.
 \nFecha: 18 y 19 de mayo del 2022Horario: 8:30 a.m. a 11:30 a.m.Duración: 
 6 horas.Plataforma: Zoom.Inversión: ¢60.000 + 2% de IVA por participante.I
 ncluye: Material didáctico y certificado de participación en PDF.\nFacilit
 adora: Licda. Yorleny Jiménez RojasGraduada con honores de la Universidad 
 de Costa Rica en la carrera de Administración Aduanera y Comercio Exterior
 . Certificada como especialista en Supply Chain de la Universidad de Nebri
 ja en España.Actualmente consultora independiente con 20 años de experienc
 ia en manejo y desarrollo de procesos de internacionalización y logística 
 especialmente para el sector agrícola.Especialista en desarrollo de acompa
 ñamientos empresariales en temas de importación\, exportación\, logística 
 internacional\, entre otros.Profesora de la Universidad de Costa Rica\, Un
 iversidad FUNDEPOS y capacitadora activa en diferentes Cámaras que agremia
  exportadores\, importadores\, empresas PYMES\, entidades estatales\, cole
 gios profesionales\, entre otros.\nTodas nuestras capacitaciones pueden se
 r impartidas en su organización\nInscripciones e información al e-mail inf
 o@cedeso.co.crTel: (506) 2225-1007 · Tel/Fax: (506) 2253-2774Visite nuestr
 a página www.cedeso.co.crfacebook.com/cedesocostarica
DTSTART:20220518T143000Z
DTEND:20220519T173000Z
GEO:00;0
LOCATION:Virtual por Zoom
ORGANIZER;CN=:info@cedeso.co.cr
SEQUENCE:1
SUMMARY:Aprenda a diagnosticar su proceso de importación a fin de evitar ri
 esgos fiscales
TRANSP:OPAQUE
URL:https://cedeso.co.cr/eventos-anteriores/551-aprenda-a-diagnosticar-su-p
 roceso-de-importaci%C3%B3n-a-fin-de-evitar-riesgos-fiscales
END:VEVENT
END:VCALENDAR
