BEGIN:VCALENDAR
VERSION:2.0
PRODID:-//Cedeso//NONSGML kigkonsult.se iCalcreator 2.30.10//
CALSCALE:GREGORIAN
METHOD:PUBLISH
UID:4a77a528-8709-486d-947a-01d93880f474
X-WR-CALNAME:iCagenda
X-WR-CALDESC:Event Management Extension for Joomla!
X-WR-RELCALID:3E26604A-50F4-4449-8B3E-E4F4932D05B5
X-WR-TIMEZONE:America/Costa_Rica
BEGIN:VTIMEZONE
TZID:America/Costa_Rica
BEGIN:STANDARD
TZNAME:CST
DTSTART:20200705T060000
TZOFFSETFROM:+0000
TZOFFSETTO:-0600
END:STANDARD
END:VTIMEZONE
BEGIN:VEVENT
UID:577b25bf-5f42-42e1-8695-b5cbabf0c8d8
DTSTAMP:20260419T220458Z
CATEGORIES:Mejores Prácticas Organizacionales
CLASS:PUBLIC
DESCRIPTION;ALTREP="CID:<FFFF__=0ABBE548DFE235B58f9e8a93d@coffeebean.com>":
 Taller interactivo:\nGestión de Compras acorde a la Norma ISO 9001:2015\nO
 bjetivo:Explicar a los participantes los pasos a seguir para lograr una ge
 stión de compras efectiva de los productos requeridos para el correcto fun
 cionamiento de la Organización y en sintonía con los requisitos de la norm
 a ISO 9001:2015.\nContenido temático:• Enfoque estratégico de la gestión d
 e compras.• Papel de la gestión de compras en el cumplimiento de los requi
 sitos de la norma ISO 9001:2015 relacionados con este tema. • Cómo realiza
 r una planificación de las compras acorde a las necesidades de recursos y 
 la disponibilidad financiera que posee la Organización. Registro o formato
  a utilizar para presentar el plan de compras. • Identificación de los pro
 veedores. Métodos para seleccionar a un proveedor: adjudicación directa\, 
 concurrencia y licitación. Evaluación técnica y financiera de las ofertas.
  • Conformación de la cartera de proveedores. Registro o formato a utiliza
 r. Ficha de proveedores.• Aspectos técnicos y legales básicos a tener en c
 uenta en los contratos con proveedores. • Mecanismos de aprobación de las 
 compras acorde a la disponibilidad financiera de la Organización. Formatos
  o registros a utilizar. Funcionamiento del Comité de Compras. • Ejecución
  de las compras. Verificación del producto comprado. Formato o registro a 
 utilizar. Tratamiento a los productos no conformes. • Almacenamiento de lo
 s productos comprados. Informes de recepción. Control físico. Formatos o r
 egistros a utilizar. • Evaluación de proveedores. Aspectos a evaluar. Regi
 stro de evaluación. Notificación al proveedor.• Control de caducidad de lo
 s productos comprados. Registro o formato a utilizar.• Garantías del produ
 cto comprado. • Conformación de los expedientes de compras. Su contenido.
 \nFecha: 6 y 7 de abril 2022.Horario: 2:00 p.m. a 4:00 p.m.Duración: 4 hor
 as.Plataforma: Zoom.Inversión: ¢65.000 + 2% de IVA por participante.Incluy
 e: Material y certificado de participación en PDF.\nFacilitadores: Yoany R
 odríguez Cruz. Aspirante a Doctor en Ciencias Pedagógicas\, Máster en Admi
 nistración de Empresas\, Licenciado en Educación\, Diplomado en Gestión Em
 presarial y Administración Pública. Posee más de 15 años de experiencia co
 mo directivo y consultor en gestión empresarial\, especializado en temas g
 erenciales y estudios organizacionales como son: Planificación Estratégica
 \, Cuadro de Mando Integral\, Gestión del Talento\, Responsabilidad Social
  Empresarial\, Sistemas Integrados de Gestión\, Coaching en procesos de ca
 mbio y mejora\, entre otros temas\, Conferencista en Congresos Internacion
 ales de Gestión Empresarial y autor de varias publicaciones relacionadas c
 on la Gestión del Talento. Creador del Modelo GESTAL. Profesor adjunto de 
 la Universidad. Tutor de Tesis de Licenciatura y Maestría. Socio Fundador 
 de C.C.Consultores.\nMagalys Hernández González: Máster en Administración 
 de Empresas\, Licenciada en Educación\, Diplomado en Dirección y Gestión E
 mpresarial y Administración Pública. Posee 25 años de experiencia en la ac
 tividad docente como profesora universitaria y 10 años como consultora\, e
 specializada en temas de gestión del talento\, competencias laborales\, cl
 ima laboral\, evaluación del desempeño y equidad de género. Conferencista 
 en Congresos y eventos internacionales y autora de varias publicaciones re
 lacionadas con Planificación Estratégica\, Cuadro de Mando Integral\, Gest
 ión del Talento\, Responsabilidad Social Empresarial\, Sistemas Integrados
  de Gestión\, entre otros temas. Tutora de Tesis de Maestría y Fundadora d
 e C.C.Consultores.\nTodas nuestras capacitaciones pueden ser impartidas en
  su organización\nInscripciones e Información al e-mail info@cedeso.co.crT
 el: (506) 2225-1007 · Fax: (506) 2253-2774Visite nuestra página www.cedeso
 .co.crfacebook.com/cedesocostarica
DTSTART:20220406T200000Z
DTEND:20220407T220000Z
GEO:00;0
LOCATION:Virtual por Zoom.
ORGANIZER;CN=:info@cedeso.co.cr
SEQUENCE:1
SUMMARY:Gestión de Compras acorde a la Norma  ISO 9001:2015
TRANSP:OPAQUE
URL:https://cedeso.co.cr/eventos-anteriores/552-gesti%C3%B3n-de-compras-aco
 rde-a-la-norma-iso-9001-2015
END:VEVENT
END:VCALENDAR
