BEGIN:VCALENDAR
VERSION:2.0
PRODID:-//Cedeso//NONSGML kigkonsult.se iCalcreator 2.30.10//
CALSCALE:GREGORIAN
METHOD:PUBLISH
UID:f7d84621-2c23-4d54-8569-a7cb336f9b43
X-WR-CALNAME:iCagenda
X-WR-CALDESC:Event Management Extension for Joomla!
X-WR-RELCALID:3E26604A-50F4-4449-8B3E-E4F4932D05B5
X-WR-TIMEZONE:America/Costa_Rica
BEGIN:VTIMEZONE
TZID:America/Costa_Rica
BEGIN:STANDARD
TZNAME:CST
DTSTART:20200830T060000
TZOFFSETFROM:+0000
TZOFFSETTO:-0600
END:STANDARD
END:VTIMEZONE
BEGIN:VEVENT
UID:1efe4ded-b05d-4d20-af48-0731caea7c12
DTSTAMP:20260419T221011Z
CATEGORIES:Mejores Prácticas Organizacionales
CLASS:PUBLIC
DESCRIPTION;ALTREP="CID:<FFFF__=0ABBE548DFE235B58f9e8a93d@coffeebean.com>":
 Taller:\nLa atracción y retención del talento en el 2022\nLos retos y mejo
 res prácticas en el reclutamiento\, selección y retención del talento.\nDi
 rigido a: - Generalistas de RR.HH. - Gestores de personas. - Responsables 
 de reclutamiento y selección de personal. - Otros profesionales interesado
 s en expandir conocimiento en el tema.\nContenido:• Qué ha cambiado en la 
 gestión de reclutamiento\, selección\, retención del personal.• Tendencias
  globales en la economía y los negocios.• Aspectos novedosos y efectivos e
 n la selección del talento 2022.• Qué debe cambiar en los procesos\, los d
 escriptores y la inducción específica para retener el talento joven.• Cómo
  determinar el nivel de las competencias en la entrevista.\nFecha: 1 y 3 d
 e junio del 2022.Horario: 8:30 a.m. a 12:00 m.d.Duración: 7 horas.Virtual 
 por Zoom.Inversión: ¢105.000 + 2% IVA por participante. Incluye: Materiale
 s y certificado de participación en PDF.\nFacilitador: Lic. Carlos Solera 
 Umaña Licenciado en administración de negocios\, técnico en seguros. Más d
 e 30 años de experiencia en todos los subprocesos de Gestión de RRHH\, com
 o responsable de reclutamiento selecciono más de mil personas en los difer
 entes países de Centroamérica. Amplia experiencia en organizaciones de man
 ufactura\, servicios\, cooperativas y ONG’s. Actual fundador y director de
  CEDESO.S.A.\nTodas nuestras capacitaciones pueden ser impartidas en su or
 ganización\nInscripciones e Información al e-mail info@cedeso.co.crTel: (5
 06) 2225-1007 / Fax: (506) 2253-2774 Visite nuestra página www.cedeso.co.c
 rfacebook.com/cedesocostarica
DTSTART:20220601T143000Z
DTEND:20220603T180000Z
GEO:00;0
LOCATION:Virtual por Zoom.
ORGANIZER;CN=:info@cedeso.co.cr
SEQUENCE:1
SUMMARY:La atracción y retención del talento en el 2022
TRANSP:OPAQUE
URL:https://cedeso.co.cr/eventos-anteriores/553-la-atracci%C3%B3n-y-retenci
 %C3%B3n-del-talento-en-el-2023
END:VEVENT
END:VCALENDAR
