BEGIN:VCALENDAR
VERSION:2.0
PRODID:-//Cedeso//NONSGML kigkonsult.se iCalcreator 2.30.10//
CALSCALE:GREGORIAN
METHOD:PUBLISH
UID:a895fd31-be36-4111-95e0-ed1798fb2d72
X-WR-CALNAME:iCagenda
X-WR-CALDESC:Event Management Extension for Joomla!
X-WR-RELCALID:3E26604A-50F4-4449-8B3E-E4F4932D05B5
X-WR-TIMEZONE:America/Costa_Rica
BEGIN:VTIMEZONE
TZID:America/Costa_Rica
BEGIN:STANDARD
TZNAME:CST
DTSTART:20200719T060000
TZOFFSETFROM:+0000
TZOFFSETTO:-0600
END:STANDARD
END:VTIMEZONE
BEGIN:VEVENT
UID:ceb2c034-55f9-45db-a894-fdb1edb9237d
DTSTAMP:20260419T220941Z
CATEGORIES:Mejores Prácticas Organizacionales
CLASS:PUBLIC
DESCRIPTION;ALTREP="CID:<FFFF__=0ABBE548DFE235B58f9e8a93d@coffeebean.com>":
 Taller:\nPaso a paso cómo diseñar una inducción específica al puesto\nDiri
 gido a:Los responsables de capacitación y desarrollo\, especialistas en ca
 pacitación\, todo tipo de profesionales y técnicos de RR.HH. responsables 
 o involucrados en la capacitación del personal. Objetivo:Brindar la clarid
 ad teórica y las herramientas para concretar con éxito un programa de indu
 cciones específicas. Contenidos:• Por qué una correcta inducción es clave 
 para retener y comprometer a los colaboradores nuevos.• Esclareciendo el c
 oncepto y el por qué la inducción especifica es más que la integración del
  colaborador.• Cuáles son los fundamentos teóricos para desarrollar las in
 ducciones.• Relación entre conocimiento\, responsabilidad y control.• Prod
 ucto final valioso del puesto\, concepto clave.• Paso a paso para desarrol
 lar e implementar cualquier inducción.• Sugerencias probadas para concreta
 r el proyecto de inducción específica.\nFecha: 20 y 22 de abril 2022.Horar
 io: 8:30 a.m. a 11:30 a.m.Duración: 6 horas.Metodología: Virtual por plata
 forma Zoom.Inversión: ¢90.000 + 2% de IVA por participante.Incluye: Materi
 al y certificado de participación en PDF.\nFacilitador: Lic. Carlos Solera
  Umaña Licenciado en administración de negocios\, técnico en seguros. Más 
 de 30 años de experiencia en todos los subprocesos de Gestión de RRHH. Amp
 lia experiencia en organizaciones de manufactura\, servicios\, cooperativa
 s y ONG’s. Actual fundador y director de CEDESO.S.A.\nTodas nuestras capac
 itaciones pueden ser impartidas en su organización\nInscripciones e Inform
 ación al e-mail info@cedeso.co.crTel: (506) 2225-1007 / Fax: (506) 2253-27
 74Visite nuestra página www.cedeso.co.crfacebook.com/cedesocostarica\n 
DTSTART:20220420T143000Z
DTEND:20220422T173000Z
GEO:00;0
LOCATION:Virtual por Zoom.
ORGANIZER;CN=:info@cedeso.co.cr
SEQUENCE:1
SUMMARY:Paso a paso cómo diseñar una inducción específica al puesto
TRANSP:OPAQUE
URL:https://cedeso.co.cr/eventos-anteriores/555-paso-a-paso-como-dise%C3%B1
 ar-una-inducci%C3%B3n-especifica-al-puesto-2
END:VEVENT
END:VCALENDAR
