BEGIN:VCALENDAR
VERSION:2.0
PRODID:-//Cedeso//NONSGML kigkonsult.se iCalcreator 2.30.10//
CALSCALE:GREGORIAN
METHOD:PUBLISH
UID:a99b4c97-3e79-4f8b-9f83-bbc60b463505
X-WR-CALNAME:iCagenda
X-WR-CALDESC:Event Management Extension for Joomla!
X-WR-RELCALID:3E26604A-50F4-4449-8B3E-E4F4932D05B5
X-WR-TIMEZONE:America/Costa_Rica
BEGIN:VTIMEZONE
TZID:America/Costa_Rica
BEGIN:STANDARD
TZNAME:CST
DTSTART:20200906T060000
TZOFFSETFROM:+0000
TZOFFSETTO:-0600
END:STANDARD
END:VTIMEZONE
BEGIN:VEVENT
UID:1ea75891-f599-48d6-ac50-d23223e39829
DTSTAMP:20260419T220807Z
CATEGORIES:Operaciones
CLASS:PUBLIC
DESCRIPTION;ALTREP="CID:<FFFF__=0ABBE548DFE235B58f9e8a93d@coffeebean.com>":
 Taller:\n¿Cómo exportar mi producto hacia nuevos mercados internacionales?
 \nObjetivo:Potenciar las capacidades de los participantes para que conozca
 n los instrumentos técnicos y estratégicos en materia de exportación y así
  facilitar la incursión de la empresa a nuevos mercados internacionales.\n
 Contenido temático:\n1. Análisis interno y externo de la empresa.\n¿Qué es
  un plan de internacionalización? Análisis de la situación interna y de en
 torno de la empresa• Empresa y producto.• Evaluación de las capacidades pr
 oductiva\, comercial\, financiera\, y de recurso humano.• Análisis FODA y 
 proceso metodológico de la empresa (misión\, visión y objetivos estratégic
 os\, etc.).• Análisis de los competidores.Selección de países objetivo• An
 álisis de criterios de selección.• Análisis comparativo de países.• Segmen
 tación de mercado.\n2. Análisis de mercadotecnia\nProducto y servicio• Est
 rategia global frente a la doméstica.• Adaptaciones del producto tanto de 
 carácter obligatorio como las propias del consumidor.Precio• Influencia de
 l precio en el marketing internacional.• Proceso de fijación de precios in
 ternacionales.• Cálculo de precios internacionales.• La oferta comercial.P
 laza• Tendencias de distribución internacional.• Canales de distribución.•
  Análisis de mercados vrs tendencias de distribución internacional.Promoci
 ón• Entorno y comunicación internacional.• Imagen corporativa internaciona
 l.• Análisis y presupuesto para comunicación internacional.Uso de las herr
 amientas de promoción comercial (ferias\, misiones\, showroom\, etc.).\n3.
  Análisis de procesos logísticos y de exportación.• Logística internaciona
 l de la empresa.• Operaciones de exportación (trámites aduaneros de export
 ación).• Transporte internacional y sus principales características.• INCO
 TERM´s 202• Importancia de la seguridad en los procesos logísticos.• Impor
 tancia de los costos logísticos.• Sinergias comerciales.\nFecha: 8\, 9\, 1
 5 y 16 de junio del 2022Horario: 8:30 a.m. a 11:30 a.m.Duración: 16 horas.
 Plataforma: Zoom.Inversión: ¢160.000 + 2% de IVA por participante.Incluye:
  Material didáctico y certificado de participación en PDF.\nFacilitadora: 
 Licda. Yorleny Jiménez RojasGraduada con honores de la Universidad de Cost
 a Rica en la carrera de Administración Aduanera y Comercio Exterior. Certi
 ficada como especialista en Supply Chain de la Universidad de Nebrija en E
 spaña.Actualmente consultora independiente con 20 años de experiencia en m
 anejo y desarrollo de procesos de internacionalización y logística especia
 lmente para el sector agrícola.Especialista en desarrollo de acompañamient
 os empresariales en temas de importación\, exportación\, logística interna
 cional\, entre otros.Profesora de la Universidad de Costa Rica\, Universid
 ad FUNDEPOS y capacitadora activa en diferentes Cámaras que agremia export
 adores\, importadores\, empresas PYMES\, entidades estatales\, colegios pr
 ofesionales\, entre otros.\nTodas nuestras capacitaciones pueden ser impar
 tidas en su organización\nInscripciones e información al e-mail info@cedes
 o.co.crTel: (506) 2225-1007 · Tel/Fax: (506) 2253-2774Visite nuestra págin
 a www.cedeso.co.crfacebook.com/cedesocostarica
DTSTART:20220608T140000Z
DTEND:20220616T180000Z
GEO:00;0
LOCATION:Virtual por Zoom.
ORGANIZER;CN=:info@cedeso.co.cr
SEQUENCE:1
SUMMARY:¿Cómo exportar mi producto hacia nuevos mercados internacionales?
TRANSP:OPAQUE
URL:https://cedeso.co.cr/eventos-anteriores/556-%C2%BFc%C3%B3mo-exportar-mi
 -producto-hacia-nuevos-mercados-internacionales
END:VEVENT
END:VCALENDAR
