BEGIN:VCALENDAR
VERSION:2.0
PRODID:-//Cedeso//NONSGML kigkonsult.se iCalcreator 2.30.10//
CALSCALE:GREGORIAN
METHOD:PUBLISH
UID:ff691a7c-5730-4eaf-9124-71877f530f90
X-WR-CALNAME:iCagenda
X-WR-CALDESC:Event Management Extension for Joomla!
X-WR-RELCALID:3E26604A-50F4-4449-8B3E-E4F4932D05B5
X-WR-TIMEZONE:America/Costa_Rica
BEGIN:VTIMEZONE
TZID:America/Costa_Rica
BEGIN:STANDARD
TZNAME:CST
DTSTART:20201017T060000
TZOFFSETFROM:+0000
TZOFFSETTO:-0600
END:STANDARD
END:VTIMEZONE
BEGIN:VEVENT
UID:7124ec18-0e06-4476-899f-64b034eea809
DTSTAMP:20260419T203023Z
CATEGORIES:Operaciones
CLASS:PUBLIC
DESCRIPTION;ALTREP="CID:<FFFF__=0ABBE548DFE235B58f9e8a93d@coffeebean.com>":
 Taller internacional:\nFormación esencial para operarios de bodegas/almace
 nes\nCapacite a sus operarios en forma efectiva\nObjetivo:Desarrollar comp
 etencias para el trabajo al personal de base en bodegas.\nDirigido a: Oper
 arios y almacenistas de bodegas.\nQué obtendrán al finalizar el evento:Los
  participantes conocerán las técnicas que son necesarias para ejecutar su 
 trabajo en forma efectiva acorde con los lineamientos de su organización.
 \nContenido:1. Técnicas de almacenaje - Recepción de Mercancías- Almacenaj
 e - Preparación y expedición de pedidos - Actividades de transportes\n2. T
 écnicas de Gestión de Stocks - Gestión de Stocks - Función y análisis - Co
 sto y valoración de Stocks - Inventarios y su control - Métodos y evolució
 n de la gestión de Stocks\n3. Las actividades en la bodega- Bodega- Materi
 ales y Equipos - Manejo de Carretillas elevadoras. Carretilla frontal y/o 
 retráctil - Medios para control y transmisión de datos - Seguridad en el t
 rabajo - Utilización de materiales y equipos\n4. Introducción a la informá
 tica y al uso y manejo de aplicaciones comerciales - Hardware - Periférico
 s - Software\nFecha: 19 y 21 de julio 2022.Horario: 8:30 a.m. a 12:30 m.d.
 Duración: 8 horas.Plataforma: Zoom.Inversión: ¢80.000 + 2% de IVA por part
 icipante.Incluye: Material y certificado de participación en PDF.\nFacilit
 ador: Ing. Víctor León\, Mg.-Ingeniero Industrial con estudios de Postgrad
 o en Ingeniería Industrial\, Gerencia de RRHH y Dinámica de Grupos.-Experi
 encia en las áreas de Distribución\, Atención al Cliente y Planificación d
 e la Producción\, Manejo de Inventarios\, Almacenes\, Costos y Elaboración
  de Proyectos de Inversión.- Capacitador en áreas gerenciales y técnicas\,
  con 20 años de experiencia.\nTodas nuestras capacitaciones pueden ser imp
 artidas en su organización\nInscripciones e Información al e-mail info@ced
 eso.co.crTel: (506) 2225-1007 Fax: (506) 2253-2774Visite nuestra página ww
 w.cedeso.co.crfacebook.com/cedesocostarica\n 
DTSTART:20220719T143000Z
DTEND:20220721T183000Z
GEO:00;0
LOCATION:Virtual por Zoom.
ORGANIZER;CN=:info@cedeso.co.cr
SEQUENCE:1
SUMMARY:Formación esencial para operarios de bodegas/almacenes
TRANSP:OPAQUE
URL:https://cedeso.co.cr/eventos-anteriores/557-formaci%C3%B3n-esencial-par
 a-operarios-de-bodegas-almacenes-2
END:VEVENT
END:VCALENDAR
