BEGIN:VCALENDAR
VERSION:2.0
PRODID:-//Cedeso//NONSGML kigkonsult.se iCalcreator 2.30.10//
CALSCALE:GREGORIAN
METHOD:PUBLISH
UID:707e9855-65ea-4c75-9467-936953fe8cb2
X-WR-CALNAME:iCagenda
X-WR-CALDESC:Event Management Extension for Joomla!
X-WR-RELCALID:3E26604A-50F4-4449-8B3E-E4F4932D05B5
X-WR-TIMEZONE:America/Costa_Rica
BEGIN:VTIMEZONE
TZID:America/Costa_Rica
BEGIN:STANDARD
TZNAME:CST
DTSTART:20201101T060000
TZOFFSETFROM:+0000
TZOFFSETTO:-0600
END:STANDARD
END:VTIMEZONE
BEGIN:VEVENT
UID:1beb1e90-3589-4c81-966c-d5ccf4d623ff
DTSTAMP:20260419T202732Z
CATEGORIES:Operaciones
CLASS:PUBLIC
DESCRIPTION;ALTREP="CID:<FFFF__=0ABBE548DFE235B58f9e8a93d@coffeebean.com>":
 Taller:\nServicio al cliente en logística\nForme a sus colaboradores de lo
 gística para mejorar el servicio a sus clientes\nDirigido a: Almacenistas 
 y oficinistas de bodega responsables de despacho y transportes en generado
 res de carga.\nObjetivo: Formar a sus colaboradores de logística en técnic
 as de atención al cliente.\nContenidos: • Qué quieren los clientes. • Cuál
 es son los principales problemas logísticos que tienen los clientes. • Los
  problemas en ruta entregas y las devoluciones. • La atención de las llama
 das telefónicas de clientes y transportistas. • El seguimiento de pedidos.
  • Las respuestas oportunas. • Escuchar\, entender\, atender\, comprender 
 al cliente una vía para solucionar problemas. • Los procesos de atención \
 , blue print y pokayoke métodos para atender al cliente sin desperdicios. 
 • Competencias generales para los empleados de atención al cliente.\nFecha
 : 3 y 4 de agosto del 2022.Horario: 8:30 a.m. a 12:30 m.d.Duración: 8 hora
 s.Modalidad: Virtual.Plataforma: Zoom.Inversión: ¢80.000 + 2% de IVA por p
 articipante.Incluye: Material y certificado de participación en PDF.\nFaci
 litador: Ing. Víctor León\, Mg.- Ingeniero Industrial con estudios de Post
 grado en Ingeniería Industrial\, Gerencia de RRHH y Dinámica de Grupos.- E
 xperiencia en las áreas de Distribución\, Atención al Cliente y Planificac
 ión de la Producción\, Manejo de Inventarios\, Almacenes\, Costos y Elabor
 ación de Proyectos de Inversión.- Capacitador en áreas gerenciales y técni
 cas\, con 20 años de experiencia.\nTodas nuestras capacitaciones pueden se
 r impartidas en su organización\nInscripciones e Información al e-mail inf
 o@cedeso.co.crTel: (506) 2225-1007 Fax: (506) 2253-2774Visite nuestra pági
 na www.cedeso.co.crfacebook.com/cedesocostarica
DTSTART:20220803T143000Z
DTEND:20220804T183000Z
GEO:00;0
LOCATION:Virtual por Zoom.
ORGANIZER;CN=:info@cedeso.co.cr
SEQUENCE:1
SUMMARY:Servicio al cliente en logística
TRANSP:OPAQUE
URL:https://cedeso.co.cr/eventos-anteriores/558-servicio-al-cliente-en-log%
 C3%ADstica-2
END:VEVENT
END:VCALENDAR
