BEGIN:VCALENDAR
VERSION:2.0
PRODID:-//Cedeso//NONSGML kigkonsult.se iCalcreator 2.30.10//
CALSCALE:GREGORIAN
METHOD:PUBLISH
UID:542ac2db-c82e-4db9-8af7-5a1c0404746a
X-WR-CALNAME:iCagenda
X-WR-CALDESC:Event Management Extension for Joomla!
X-WR-RELCALID:3E26604A-50F4-4449-8B3E-E4F4932D05B5
X-WR-TIMEZONE:America/Costa_Rica
BEGIN:VTIMEZONE
TZID:America/Costa_Rica
BEGIN:STANDARD
TZNAME:CST
DTSTART:20200919T060000
TZOFFSETFROM:+0000
TZOFFSETTO:-0600
END:STANDARD
END:VTIMEZONE
BEGIN:VEVENT
UID:f484f3bc-f567-4e3e-a320-73f4e5e54e7b
DTSTAMP:20260419T203617Z
CATEGORIES:Operaciones
CLASS:PUBLIC
DESCRIPTION;ALTREP="CID:<FFFF__=0ABBE548DFE235B58f9e8a93d@coffeebean.com>":
 Taller:\nBeneficios del régimen de zona franca\nObjetivo:Conocer todos los
  aspectos relacionados con el régimen de Zona Franca\, esto con el fin de 
 determinar los beneficios que dicho régimen ofrece así como evaluar y anal
 izar los compromisos y obligaciones en materia aduanera\, tributaria y de 
 procedimientos.\nContenido temático:• Concepto y generalidades del Régimen
  de Zona Franca.• Obligaciones y responsabilidades de las empresas de Zona
  Franca.• Modalidades de empresa de Zona Franca que pueden operar.• Mercan
 cías que pueden ingresarse al Régimen y plazos de permanencia de las misma
 s.• Revisión de los procesos aduaneros del Régimen\, según modalidad: docu
 mentación y trámite ante Aduana. - Internamiento en sus 3 modalidades de i
 ngreso. - Trámites especiales (Internamiento Temporal/Tránsito). - Exporta
 ción. - Operaciones especiales de Donación y Destrucción. - Ventas locales
  y desafectación de bienes del Régimen.• Puntos de riesgo y control que pu
 eden implicar sanción para la empresa.\nFecha: 21 y 22 de junio del 2022Ho
 rario: 8:30 a.m. a 11:30 a.m.Duración: 6 horas.Plataforma: Zoom.Inversión:
  ¢60.000 + 2% de IVA por participante.Incluye: Material didáctico y certif
 icado de participación en PDF.\nFacilitadora: Licda. Yorleny Jiménez Rojas
 Graduada con honores de la Universidad de Costa Rica en la carrera de Admi
 nistración Aduanera y Comercio Exterior. Certificada como especialista en 
 Supply Chain de la Universidad de Nebrija en España.Actualmente consultora
  independiente con 20 años de experiencia en manejo y desarrollo de proces
 os de internacionalización y logística especialmente para el sector agríco
 la.Especialista en desarrollo de acompañamientos empresariales en temas de
  importación\, exportación\, logística internacional\, entre otros.Profeso
 ra de la Universidad de Costa Rica\, Universidad FUNDEPOS y capacitadora a
 ctiva en diferentes Cámaras que agremia exportadores\, importadores\, empr
 esas PYMES\, entidades estatales\, colegios profesionales\, entre otros.\n
 Todas nuestras capacitaciones pueden ser impartidas en su organización\nIn
 scripciones e información al e-mail info@cedeso.co.crTel: (506) 2225-1007 
 · Tel/Fax: (506) 2253-2774Visite nuestra página www.cedeso.co.crfacebook.c
 om/cedesocostarica
DTSTART:20220621T143000Z
DTEND:20220622T173000Z
GEO:00;0
LOCATION:Virtual por Zoom.
ORGANIZER;CN=:info@cedeso.co.cr
SEQUENCE:1
SUMMARY:Beneficios del régimen de zona franca
TRANSP:OPAQUE
URL:https://cedeso.co.cr/eventos-anteriores/559-beneficios-del-r%C3%A9gimen
 -de-zona-franca
END:VEVENT
END:VCALENDAR
